| Back to Multiple platform build/check report for BioC 3.7 |
|
This page was generated on 2018-10-17 08:42:11 -0400 (Wed, 17 Oct 2018).
| Package 808/1561 | Hostname | OS / Arch | INSTALL | BUILD | CHECK | BUILD BIN | ||||||
| LymphoSeq 1.8.0 David Coffey
| malbec2 | Linux (Ubuntu 16.04.1 LTS) / x86_64 | OK | OK | OK | |||||||
| tokay2 | Windows Server 2012 R2 Standard / x64 | OK | OK | OK | [ OK ] | |||||||
| merida2 | OS X 10.11.6 El Capitan / x86_64 | OK | OK | OK | OK |
| Package: LymphoSeq |
| Version: 1.8.0 |
| Command: rm -rf LymphoSeq.buildbin-libdir && mkdir LymphoSeq.buildbin-libdir && C:\Users\biocbuild\bbs-3.7-bioc\R\bin\R.exe CMD INSTALL --merge-multiarch --build --library=LymphoSeq.buildbin-libdir LymphoSeq_1.8.0.tar.gz |
| StartedAt: 2018-10-17 06:37:26 -0400 (Wed, 17 Oct 2018) |
| EndedAt: 2018-10-17 06:37:56 -0400 (Wed, 17 Oct 2018) |
| EllapsedTime: 30.0 seconds |
| RetCode: 0 |
| Status: OK |
| PackageFile: LymphoSeq_1.8.0.zip |
| PackageFileSize: 1.455 MiB |
##############################################################################
##############################################################################
###
### Running command:
###
### rm -rf LymphoSeq.buildbin-libdir && mkdir LymphoSeq.buildbin-libdir && C:\Users\biocbuild\bbs-3.7-bioc\R\bin\R.exe CMD INSTALL --merge-multiarch --build --library=LymphoSeq.buildbin-libdir LymphoSeq_1.8.0.tar.gz
###
##############################################################################
##############################################################################
install for i386
* installing *source* package 'LymphoSeq' ...
** R
** inst
** byte-compile and prepare package for lazy loading
** help
*** installing help indices
converting help for package 'LymphoSeq'
finding HTML links ... done
alignSeq html
bhattacharyyaCoefficient html
bhattacharyyaMatrix html
chordDiagramVDJ html
clonalRelatedness html
clonality html
cloneTrack html
commonSeqs html
commonSeqsBar html
commonSeqsPlot html
commonSeqsVenn html
differentialAbundance html
exportFasta html
geneFreq html
lorenzCurve html
mergeFiles html
pairwisePlot html
phyloTree html
productive html
productiveSeq html
readImmunoSeq html
removeSeq html
searchPublished html
searchSeq html
seqMatrix html
similarityMatrix html
similarityScore html
topFreq html
topSeqs html
topSeqsPlot html
uniqueSeqs html
** building package indices
** installing vignettes
** testing if installed package can be loaded
In R CMD INSTALL
install for x64
* installing *source* package 'LymphoSeq' ...
** testing if installed package can be loaded
* MD5 sums
packaged installation of 'LymphoSeq' as LymphoSeq_1.8.0.zip
* DONE (LymphoSeq)
In R CMD INSTALL
In R CMD INSTALL