| Back to Multiple platform build/check report for BioC 3.7 |
|
This page was generated on 2018-10-17 08:43:31 -0400 (Wed, 17 Oct 2018).
| Package 798/1561 | Hostname | OS / Arch | INSTALL | BUILD | CHECK | BUILD BIN | ||||||
| Logolas 1.4.0 Kushal Dey
| malbec2 | Linux (Ubuntu 16.04.1 LTS) / x86_64 | OK | OK | OK | |||||||
| tokay2 | Windows Server 2012 R2 Standard / x64 | OK | OK | OK | [ OK ] | |||||||
| merida2 | OS X 10.11.6 El Capitan / x86_64 | OK | OK | OK | OK |
| Package: Logolas |
| Version: 1.4.0 |
| Command: rm -rf Logolas.buildbin-libdir && mkdir Logolas.buildbin-libdir && C:\Users\biocbuild\bbs-3.7-bioc\R\bin\R.exe CMD INSTALL --merge-multiarch --build --library=Logolas.buildbin-libdir Logolas_1.4.0.tar.gz |
| StartedAt: 2018-10-17 06:37:04 -0400 (Wed, 17 Oct 2018) |
| EndedAt: 2018-10-17 06:37:24 -0400 (Wed, 17 Oct 2018) |
| EllapsedTime: 19.6 seconds |
| RetCode: 0 |
| Status: OK |
| PackageFile: Logolas_1.4.0.zip |
| PackageFileSize: 1.159 MiB |
##############################################################################
##############################################################################
###
### Running command:
###
### rm -rf Logolas.buildbin-libdir && mkdir Logolas.buildbin-libdir && C:\Users\biocbuild\bbs-3.7-bioc\R\bin\R.exe CMD INSTALL --merge-multiarch --build --library=Logolas.buildbin-libdir Logolas_1.4.0.tar.gz
###
##############################################################################
##############################################################################
install for i386
* installing *source* package 'Logolas' ...
** R
** data
*** moving datasets to lazyload DB
** demo
** inst
** byte-compile and prepare package for lazy loading
** help
*** installing help indices
converting help for package 'Logolas'
finding HTML links ... done
EBF1_disc1 html
GetConsensusSeq html
UMI html
aRxiv html
get_logo_heights html
get_plot html
get_viewport_logo html
himalayan_fauna html
histone_marks html
logo_pssm html
logomaker html
makemylogo html
mutation_sig html
nlogomaker html
plogomaker html
pssm html
seqlogo_example html
** building package indices
** installing vignettes
** testing if installed package can be loaded
In R CMD INSTALL
install for x64
* installing *source* package 'Logolas' ...
** testing if installed package can be loaded
* MD5 sums
packaged installation of 'Logolas' as Logolas_1.4.0.zip
* DONE (Logolas)
In R CMD INSTALL
In R CMD INSTALL