| Back to Multiple platform build/check report for BioC 3.7 |
|
This page was generated on 2018-10-17 08:45:02 -0400 (Wed, 17 Oct 2018).
| Package 789/1561 | Hostname | OS / Arch | INSTALL | BUILD | CHECK | BUILD BIN | ||||||
| LineagePulse 1.0.0 David S Fischer
| malbec2 | Linux (Ubuntu 16.04.1 LTS) / x86_64 | OK | OK | WARNINGS | |||||||
| tokay2 | Windows Server 2012 R2 Standard / x64 | OK | OK | WARNINGS | [ OK ] | |||||||
| merida2 | OS X 10.11.6 El Capitan / x86_64 | OK | OK | WARNINGS | OK |
| Package: LineagePulse |
| Version: 1.0.0 |
| Command: rm -rf LineagePulse.buildbin-libdir && mkdir LineagePulse.buildbin-libdir && C:\Users\biocbuild\bbs-3.7-bioc\R\bin\R.exe CMD INSTALL --merge-multiarch --build --library=LineagePulse.buildbin-libdir LineagePulse_1.0.0.tar.gz |
| StartedAt: 2018-10-17 06:36:46 -0400 (Wed, 17 Oct 2018) |
| EndedAt: 2018-10-17 06:37:20 -0400 (Wed, 17 Oct 2018) |
| EllapsedTime: 33.4 seconds |
| RetCode: 0 |
| Status: OK |
| PackageFile: LineagePulse_1.0.0.zip |
| PackageFileSize: 704.6 KiB |
##############################################################################
##############################################################################
###
### Running command:
###
### rm -rf LineagePulse.buildbin-libdir && mkdir LineagePulse.buildbin-libdir && C:\Users\biocbuild\bbs-3.7-bioc\R\bin\R.exe CMD INSTALL --merge-multiarch --build --library=LineagePulse.buildbin-libdir LineagePulse_1.0.0.tar.gz
###
##############################################################################
##############################################################################
install for i386
* installing *source* package 'LineagePulse' ...
** R
** inst
** byte-compile and prepare package for lazy loading
Note: possible error in 'evalLogLikGeneMM(vecCounts = vecCounts, ': unused arguments (matDispParam = matDispParam, matDropParam = matDropParam, matWeights = matWeights)
Note: possible error in 'evalLogLikGeneMM(vecCounts = vecCounts, ': unused arguments (matDispParam = do.call(cbind, lapply(seq_len(ncol(matWeights)), function(m) vecDispParam)), matDropParam = do.call(cbind, lapply(seq_len(ncol(matWeights)), function(m) vecPiParam)), matWeights = matWeights)
** help
*** installing help indices
converting help for package 'LineagePulse'
finding HTML links ... done
LPsetters html
LineagePulseObject-class html
accessors html
calcNormConst html
calcPostDrop_Matrix html
calcPostDrop_Vector html
cash-LineagePulseObject-method html
decompressDispByGene html
decompressDispByGeneMM html
decompressDropoutRateByCell html
decompressDropoutRateByGene html
decompressMeansByGene html
decompressMuByGeneMM html
evalDropoutModel html
evalDropoutModel_comp html
evalImpulseModel html
evalImpulseModel_comp html
evalLogLikGene html
evalLogLikGeneMM html
evalLogLikMatrix html
evalLogLikMuDispGeneFit html
evalLogLikMuDispGeneFit_comp html
evalLogLikNB html
evalLogLikNB_comp html
evalLogLikPiZINB_ManyCells html
evalLogLikPiZINB_ManyCells_comp html
evalLogLikPiZINB_SingleCell html
evalLogLikPiZINB_SingleCell_comp html
evalLogLikZINB html
evalLogLikZINB_comp html
fitLPModels html
fitModel html
fitMuDisp html
fitMuDispGene html
fitMuDispGeneImpulse html
fitMuDispGeneMM html
fitPi html
fitPi_ManyCells html
fitPi_SingleCell html
getFitsDispersion html
getFitsDropout html
getFitsMean html
getNormData html
getPostDrop html
initDispModel html
initDropModel html
initMuModel html
initialiseImpulseParameters html
names-LineagePulseObject-method html
plotCellDensity html
plotGene html
processSCData html
runDEAnalysis html
runLineagePulse html
simulateContinuousDataSet html
sortGeneTrajectories html
sub-sub-LineagePulseObject-character-missing-method
html
testDropout html
writeReport html
** building package indices
** installing vignettes
** testing if installed package can be loaded
In R CMD INSTALL
install for x64
* installing *source* package 'LineagePulse' ...
** testing if installed package can be loaded
* MD5 sums
packaged installation of 'LineagePulse' as LineagePulse_1.0.0.zip
* DONE (LineagePulse)
In R CMD INSTALL
In R CMD INSTALL