| Back to Multiple platform build/check report for BioC 3.7 |
|
This page was generated on 2018-10-17 08:55:18 -0400 (Wed, 17 Oct 2018).
| Package 800/1561 | Hostname | OS / Arch | INSTALL | BUILD | CHECK | BUILD BIN | ||||||
| LOLA 1.10.0 Nathan Sheffield
| malbec2 | Linux (Ubuntu 16.04.1 LTS) / x86_64 | OK | OK | OK | |||||||
| tokay2 | Windows Server 2012 R2 Standard / x64 | OK | OK | OK | OK | |||||||
| merida2 | OS X 10.11.6 El Capitan / x86_64 | OK | OK | OK | [ OK ] |
| Package: LOLA |
| Version: 1.10.0 |
| Command: rm -rf LOLA.buildbin-libdir && mkdir LOLA.buildbin-libdir && /Users/biocbuild/BBS/utils/build-universal.sh LOLA_1.10.0.tar.gz /Library/Frameworks/R.framework/Versions/Current/Resources/bin/R LOLA.buildbin-libdir |
| StartedAt: 2018-10-17 01:36:09 -0400 (Wed, 17 Oct 2018) |
| EndedAt: 2018-10-17 01:37:12 -0400 (Wed, 17 Oct 2018) |
| EllapsedTime: 63.3 seconds |
| RetCode: 0 |
| Status: OK |
| PackageFile: LOLA_1.10.0.tgz |
| PackageFileSize: 1.23 MiB |
############################################################################## ############################################################################## ### ### Running command: ### ### rm -rf LOLA.buildbin-libdir && mkdir LOLA.buildbin-libdir && /Users/biocbuild/BBS/utils/build-universal.sh LOLA_1.10.0.tar.gz /Library/Frameworks/R.framework/Versions/Current/Resources/bin/R LOLA.buildbin-libdir ### ############################################################################## ############################################################################## >>>>>>> >>>>>>> INSTALLATION WITH 'R CMD INSTALL --preclean --no-multiarch --library=LOLA.buildbin-libdir LOLA_1.10.0.tar.gz' >>>>>>> * installing *source* package ‘LOLA’ ... ** R ** data ** inst ** byte-compile and prepare package for lazy loading ** help *** installing help indices *** copying figures ** building package indices ** installing vignettes ** testing if installed package can be loaded * DONE (LOLA)