| Back to Multiple platform build/check report for BioC 3.7 |
|
This page was generated on 2018-10-17 08:42:33 -0400 (Wed, 17 Oct 2018).
| Package 794/1561 | Hostname | OS / Arch | INSTALL | BUILD | CHECK | BUILD BIN | ||||||
| LOBSTAHS 1.6.0 James Collins
| malbec2 | Linux (Ubuntu 16.04.1 LTS) / x86_64 | OK | OK | WARNINGS | |||||||
| tokay2 | Windows Server 2012 R2 Standard / x64 | OK | OK | WARNINGS | [ OK ] | |||||||
| merida2 | OS X 10.11.6 El Capitan / x86_64 | OK | OK | WARNINGS | OK |
| Package: LOBSTAHS |
| Version: 1.6.0 |
| Command: rm -rf LOBSTAHS.buildbin-libdir && mkdir LOBSTAHS.buildbin-libdir && C:\Users\biocbuild\bbs-3.7-bioc\R\bin\R.exe CMD INSTALL --merge-multiarch --build --library=LOBSTAHS.buildbin-libdir LOBSTAHS_1.6.0.tar.gz |
| StartedAt: 2018-10-17 06:36:56 -0400 (Wed, 17 Oct 2018) |
| EndedAt: 2018-10-17 06:37:31 -0400 (Wed, 17 Oct 2018) |
| EllapsedTime: 34.5 seconds |
| RetCode: 0 |
| Status: OK |
| PackageFile: LOBSTAHS_1.6.0.zip |
| PackageFileSize: 2.368 MiB |
##############################################################################
##############################################################################
###
### Running command:
###
### rm -rf LOBSTAHS.buildbin-libdir && mkdir LOBSTAHS.buildbin-libdir && C:\Users\biocbuild\bbs-3.7-bioc\R\bin\R.exe CMD INSTALL --merge-multiarch --build --library=LOBSTAHS.buildbin-libdir LOBSTAHS_1.6.0.tar.gz
###
##############################################################################
##############################################################################
install for i386
* installing *source* package 'LOBSTAHS' ...
** R
** data
** inst
** byte-compile and prepare package for lazy loading
** help
*** installing help indices
converting help for package 'LOBSTAHS'
finding HTML links ... done
LOBSet-class html
finding level-2 HTML links ... done
LOBSet html
LOBdbase-class html
LOBdbase html
LOBdefaults html
doLOBscreen html
Rd warning: C:/Users/biocbuild/bbs-3.7-bioc/tmpdir/RtmpkLY15k/R.INSTALL11f08b0376c/LOBSTAHS/man/doLOBscreen.Rd:20: file link 'findIsotopes' in package 'CAMERA' does not exist and so has been treated as a topic
Rd warning: C:/Users/biocbuild/bbs-3.7-bioc/tmpdir/RtmpkLY15k/R.INSTALL11f08b0376c/LOBSTAHS/man/doLOBscreen.Rd:41: file link 'findIsotopes' in package 'CAMERA' does not exist and so has been treated as a topic
Rd warning: C:/Users/biocbuild/bbs-3.7-bioc/tmpdir/RtmpkLY15k/R.INSTALL11f08b0376c/LOBSTAHS/man/doLOBscreen.Rd:125: file link 'findIsotopes' in package 'CAMERA' does not exist and so has been treated as a topic
exportDBtoCSV html
extractLOBdbasedata html
generateLOBdbase html
getLOBpeaklist html
loadLOBdbase html
** building package indices
** installing vignettes
** testing if installed package can be loaded
In R CMD INSTALL
install for x64
* installing *source* package 'LOBSTAHS' ...
** testing if installed package can be loaded
* MD5 sums
packaged installation of 'LOBSTAHS' as LOBSTAHS_1.6.0.zip
* DONE (LOBSTAHS)
In R CMD INSTALL
In R CMD INSTALL