| Back to Multiple platform build/check report for BioC 3.7 |
|
This page was generated on 2018-10-17 08:50:36 -0400 (Wed, 17 Oct 2018).
| Package 775/1561 | Hostname | OS / Arch | INSTALL | BUILD | CHECK | BUILD BIN | ||||||
| KEGGprofile 1.22.0 Shilin Zhao
| malbec2 | Linux (Ubuntu 16.04.1 LTS) / x86_64 | OK | OK | OK | |||||||
| tokay2 | Windows Server 2012 R2 Standard / x64 | OK | OK | OK | OK | |||||||
| merida2 | OS X 10.11.6 El Capitan / x86_64 | OK | OK | OK | [ OK ] |
| Package: KEGGprofile |
| Version: 1.22.0 |
| Command: rm -rf KEGGprofile.buildbin-libdir && mkdir KEGGprofile.buildbin-libdir && /Users/biocbuild/BBS/utils/build-universal.sh KEGGprofile_1.22.0.tar.gz /Library/Frameworks/R.framework/Versions/Current/Resources/bin/R KEGGprofile.buildbin-libdir |
| StartedAt: 2018-10-17 01:34:21 -0400 (Wed, 17 Oct 2018) |
| EndedAt: 2018-10-17 01:35:12 -0400 (Wed, 17 Oct 2018) |
| EllapsedTime: 50.7 seconds |
| RetCode: 0 |
| Status: OK |
| PackageFile: KEGGprofile_1.22.0.tgz |
| PackageFileSize: 498.8 KiB |
############################################################################## ############################################################################## ### ### Running command: ### ### rm -rf KEGGprofile.buildbin-libdir && mkdir KEGGprofile.buildbin-libdir && /Users/biocbuild/BBS/utils/build-universal.sh KEGGprofile_1.22.0.tar.gz /Library/Frameworks/R.framework/Versions/Current/Resources/bin/R KEGGprofile.buildbin-libdir ### ############################################################################## ############################################################################## >>>>>>> >>>>>>> INSTALLATION WITH 'R CMD INSTALL --preclean --no-multiarch --library=KEGGprofile.buildbin-libdir KEGGprofile_1.22.0.tar.gz' >>>>>>> * installing *source* package ‘KEGGprofile’ ... ** R ** data ** inst ** byte-compile and prepare package for lazy loading ** help *** installing help indices ** building package indices ** installing vignettes ** testing if installed package can be loaded * DONE (KEGGprofile)