| Back to Multiple platform build/check report for BioC 3.7 |
|
This page was generated on 2018-10-17 08:47:55 -0400 (Wed, 17 Oct 2018).
| Package 770/1561 | Hostname | OS / Arch | INSTALL | BUILD | CHECK | BUILD BIN | ||||||
| KCsmart 2.38.0 Jorma de Ronde
| malbec2 | Linux (Ubuntu 16.04.1 LTS) / x86_64 | OK | OK | WARNINGS | |||||||
| tokay2 | Windows Server 2012 R2 Standard / x64 | OK | OK | WARNINGS | OK | |||||||
| merida2 | OS X 10.11.6 El Capitan / x86_64 | OK | OK | WARNINGS | [ OK ] |
| Package: KCsmart |
| Version: 2.38.0 |
| Command: rm -rf KCsmart.buildbin-libdir && mkdir KCsmart.buildbin-libdir && /Users/biocbuild/BBS/utils/build-universal.sh KCsmart_2.38.0.tar.gz /Library/Frameworks/R.framework/Versions/Current/Resources/bin/R KCsmart.buildbin-libdir |
| StartedAt: 2018-10-17 01:34:06 -0400 (Wed, 17 Oct 2018) |
| EndedAt: 2018-10-17 01:35:00 -0400 (Wed, 17 Oct 2018) |
| EllapsedTime: 53.4 seconds |
| RetCode: 0 |
| Status: OK |
| PackageFile: KCsmart_2.38.0.tgz |
| PackageFileSize: 2.137 MiB |
############################################################################## ############################################################################## ### ### Running command: ### ### rm -rf KCsmart.buildbin-libdir && mkdir KCsmart.buildbin-libdir && /Users/biocbuild/BBS/utils/build-universal.sh KCsmart_2.38.0.tar.gz /Library/Frameworks/R.framework/Versions/Current/Resources/bin/R KCsmart.buildbin-libdir ### ############################################################################## ############################################################################## >>>>>>> >>>>>>> INSTALLATION WITH 'R CMD INSTALL --preclean --no-multiarch --library=KCsmart.buildbin-libdir KCsmart_2.38.0.tar.gz' >>>>>>> * installing *source* package ‘KCsmart’ ... ** R ** data ** inst ** byte-compile and prepare package for lazy loading Creating a generic function for ‘write.table’ from package ‘utils’ in package ‘KCsmart’ ** help *** installing help indices ** building package indices ** installing vignettes ** testing if installed package can be loaded * DONE (KCsmart)