| Back to Multiple platform build/check report for BioC 3.7 |
|
This page was generated on 2018-10-17 08:45:41 -0400 (Wed, 17 Oct 2018).
| Package 737/1561 | Hostname | OS / Arch | INSTALL | BUILD | CHECK | BUILD BIN | ||||||
| InTAD 1.0.0 Konstantin Okonechnikov
| malbec2 | Linux (Ubuntu 16.04.1 LTS) / x86_64 | OK | OK | OK | |||||||
| tokay2 | Windows Server 2012 R2 Standard / x64 | OK | OK | OK | [ OK ] | |||||||
| merida2 | OS X 10.11.6 El Capitan / x86_64 | OK | OK | OK | OK |
| Package: InTAD |
| Version: 1.0.0 |
| Command: rm -rf InTAD.buildbin-libdir && mkdir InTAD.buildbin-libdir && C:\Users\biocbuild\bbs-3.7-bioc\R\bin\R.exe CMD INSTALL --merge-multiarch --build --library=InTAD.buildbin-libdir InTAD_1.0.0.tar.gz |
| StartedAt: 2018-10-17 06:34:51 -0400 (Wed, 17 Oct 2018) |
| EndedAt: 2018-10-17 06:35:34 -0400 (Wed, 17 Oct 2018) |
| EllapsedTime: 42.5 seconds |
| RetCode: 0 |
| Status: OK |
| PackageFile: InTAD_1.0.0.zip |
| PackageFileSize: 987 KiB |
##############################################################################
##############################################################################
###
### Running command:
###
### rm -rf InTAD.buildbin-libdir && mkdir InTAD.buildbin-libdir && C:\Users\biocbuild\bbs-3.7-bioc\R\bin\R.exe CMD INSTALL --merge-multiarch --build --library=InTAD.buildbin-libdir InTAD_1.0.0.tar.gz
###
##############################################################################
##############################################################################
install for i386
* installing *source* package 'InTAD' ...
** R
** data
*** moving datasets to lazyload DB
** inst
** byte-compile and prepare package for lazy loading
** help
*** installing help indices
converting help for package 'InTAD'
finding HTML links ... done
InTADSig html
combineInTAD html
enhSel html
enhSelGR html
exprs html
filterGeneExpr html
findCorrelation html
fnSE html
geneCoords html
get.enr.bg.normfit html
loadSigInTAD html
mbAnnData html
newSigInTAD html
plotCorAcrossRef html
plotCorrelation html
rpkmCountsSel html
sigCoords html
signals html
tadGR html
txsSel html
** building package indices
** installing vignettes
** testing if installed package can be loaded
In R CMD INSTALL
install for x64
* installing *source* package 'InTAD' ...
** testing if installed package can be loaded
* MD5 sums
packaged installation of 'InTAD' as InTAD_1.0.0.zip
* DONE (InTAD)
In R CMD INSTALL
In R CMD INSTALL