| Back to Multiple platform build/check report for BioC 3.7 | 
 | 
This page was generated on 2018-10-17 08:40:11 -0400 (Wed, 17 Oct 2018).
| Package 734/1561 | Hostname | OS / Arch | INSTALL | BUILD | CHECK | BUILD BIN | ||||||
| InPAS 1.12.0 Jianhong Ou 
 | malbec2 | Linux (Ubuntu 16.04.1 LTS) / x86_64 | OK | OK | OK |  | ||||||
| tokay2 | Windows Server 2012 R2 Standard / x64 | OK | OK | [ OK ] | OK |  | ||||||
| merida2 | OS X 10.11.6 El Capitan / x86_64 | OK | OK | OK | OK |  | 
| Package: InPAS | 
| Version: 1.12.0 | 
| Command: C:\Users\biocbuild\bbs-3.7-bioc\R\bin\R.exe CMD check --force-multiarch --install=check:InPAS.install-out.txt --library=C:\Users\biocbuild\bbs-3.7-bioc\R\library --no-vignettes --timings InPAS_1.12.0.tar.gz | 
| StartedAt: 2018-10-17 02:47:54 -0400 (Wed, 17 Oct 2018) | 
| EndedAt: 2018-10-17 02:56:41 -0400 (Wed, 17 Oct 2018) | 
| EllapsedTime: 527.2 seconds | 
| RetCode: 0 | 
| Status: OK | 
| CheckDir: InPAS.Rcheck | 
| Warnings: 0 | 
##############################################################################
##############################################################################
###
### Running command:
###
###   C:\Users\biocbuild\bbs-3.7-bioc\R\bin\R.exe CMD check --force-multiarch --install=check:InPAS.install-out.txt --library=C:\Users\biocbuild\bbs-3.7-bioc\R\library --no-vignettes --timings InPAS_1.12.0.tar.gz
###
##############################################################################
##############################################################################
* using log directory 'C:/Users/biocbuild/bbs-3.7-bioc/meat/InPAS.Rcheck'
* using R version 3.5.1 Patched (2018-07-24 r75005)
* using platform: x86_64-w64-mingw32 (64-bit)
* using session charset: ISO8859-1
* using option '--no-vignettes'
* checking for file 'InPAS/DESCRIPTION' ... OK
* checking extension type ... Package
* this is package 'InPAS' version '1.12.0'
* checking package namespace information ... OK
* checking package dependencies ... OK
* checking if this is a source package ... OK
* checking if there is a namespace ... OK
* checking for hidden files and directories ... OK
* checking for portable file names ... OK
* checking whether package 'InPAS' can be installed ... OK
* checking installed package size ... OK
* checking package directory ... OK
* checking 'build' directory ... OK
* checking DESCRIPTION meta-information ... OK
* checking top-level files ... OK
* checking for left-over files ... OK
* checking index information ... OK
* checking package subdirectories ... OK
* checking R files for non-ASCII characters ... OK
* checking R files for syntax errors ... OK
* loading checks for arch 'i386'
** checking whether the package can be loaded ... OK
** checking whether the package can be loaded with stated dependencies ... OK
** checking whether the package can be unloaded cleanly ... OK
** checking whether the namespace can be loaded with stated dependencies ... OK
** checking whether the namespace can be unloaded cleanly ... OK
* loading checks for arch 'x64'
** checking whether the package can be loaded ... OK
** checking whether the package can be loaded with stated dependencies ... OK
** checking whether the package can be unloaded cleanly ... OK
** checking whether the namespace can be loaded with stated dependencies ... OK
** checking whether the namespace can be unloaded cleanly ... OK
* checking dependencies in R code ... OK
* checking S3 generic/method consistency ... OK
* checking replacement functions ... OK
* checking foreign function calls ... OK
* checking R code for possible problems ... OK
* checking Rd files ... OK
* checking Rd metadata ... OK
* checking Rd cross-references ... OK
* checking for missing documentation entries ... OK
* checking for code/documentation mismatches ... OK
* checking Rd \usage sections ... OK
* checking Rd contents ... OK
* checking for unstated dependencies in examples ... OK
* checking contents of 'data' directory ... OK
* checking data for non-ASCII characters ... OK
* checking data for ASCII and uncompressed saves ... OK
* checking files in 'vignettes' ... OK
* checking examples ...
** running examples for arch 'i386' ... OK
Examples with CPU or elapsed time > 5s
            user system elapsed
filterRes   9.61   0.55   10.45
testUsage   9.94   0.08   10.01
getUTR3eSet 9.12   0.06    9.19
** running examples for arch 'x64' ... OK
Examples with CPU or elapsed time > 5s
            user system elapsed
filterRes   9.25   0.06    9.32
testUsage   8.98   0.09    9.07
getUTR3eSet 7.19   0.00    7.19
* checking for unstated dependencies in 'tests' ... OK
* checking tests ...
** running tests for arch 'i386' ...
  Running 'runTests.R'
 OK
** running tests for arch 'x64' ...
  Running 'runTests.R'
 OK
* checking for unstated dependencies in vignettes ... OK
* checking package vignettes in 'inst/doc' ... OK
* checking running R code from vignettes ... SKIPPED
* checking re-building of vignette outputs ... SKIPPED
* checking PDF version of manual ... OK
* DONE
Status: OK
InPAS.Rcheck/00install.out
##############################################################################
##############################################################################
###
### Running command:
###
###   C:\cygwin\bin\curl.exe -O https://malbec2.bioconductor.org/BBS/3.7/bioc/src/contrib/InPAS_1.12.0.tar.gz && rm -rf InPAS.buildbin-libdir && mkdir InPAS.buildbin-libdir && C:\Users\biocbuild\bbs-3.7-bioc\R\bin\R.exe CMD INSTALL --merge-multiarch --build --library=InPAS.buildbin-libdir InPAS_1.12.0.tar.gz && C:\Users\biocbuild\bbs-3.7-bioc\R\bin\R.exe CMD INSTALL InPAS_1.12.0.zip && rm InPAS_1.12.0.tar.gz InPAS_1.12.0.zip
###
##############################################################################
##############################################################################
  % Total    % Received % Xferd  Average Speed   Time    Time     Time  Current
                                 Dload  Upload   Total   Spent    Left  Speed
  0     0    0     0    0     0      0      0 --:--:-- --:--:-- --:--:--     0
100 2774k  100 2774k    0     0  29.2M      0 --:--:-- --:--:-- --:--:-- 31.5M
install for i386
* installing *source* package 'InPAS' ...
** R
** data
** inst
** byte-compile and prepare package for lazy loading
** help
*** installing help indices
  converting help for package 'InPAS'
    finding HTML links ... done
    CPsite_estimation                       html  
    CPsites                                 html  
    InPAS-package                           html  
    PAscore                                 html  
    PAscore2                                html  
    UTR3TotalCoverage                       html  
    UTR3eSet                                html  
    UTR3usage                               html  
    covThreshold                            html  
    coverageFromBedGraph                    html  
    coverageRate                            html  
    depthWeight                             html  
    distalAdj                               html  
    filterRes                               html  
    fisher.exact.test                       html  
    get.regions.coverage                    html  
    getCov                                  html  
    getUTR3eSet                             html  
    getUTR3region                           html  
    inPAS                                   html  
    lastCDSusage                            html  
    limmaAnalyze                            html  
    optimalSegmentation                     html  
    polishCPs                               html  
    prepare4GSEA                            html  
    proximalAdj                             html  
    proximalAdjByCleanUpdTSeq               html  
    proximalAdjByPWM                        html  
    removeUTR3__UTR3                        html  
    searchDistalCPs                         html  
    searchProximalCPs                       html  
    seqLen                                  html  
    singleGroupAnalyze                      html  
    singleSampleAnalyze                     html  
    finding level-2 HTML links ... done
    sortGR                                  html  
    testUsage                               html  
    totalCoverage                           html  
    trimSeqnames                            html  
    usage4plot                              html  
    utr3.danRer10                           html  
    utr3.hg19                               html  
    utr3.mm10                               html  
    utr3Annotation                          html  
    utr3UsageEstimation                     html  
    valley                                  html  
    zScoreThrethold                         html  
** building package indices
** installing vignettes
** testing if installed package can be loaded
In R CMD INSTALL
install for x64
* installing *source* package 'InPAS' ...
** testing if installed package can be loaded
* MD5 sums
packaged installation of 'InPAS' as InPAS_1.12.0.zip
* DONE (InPAS)
In R CMD INSTALL
In R CMD INSTALL
* installing to library 'C:/Users/biocbuild/bbs-3.7-bioc/R/library'
package 'InPAS' successfully unpacked and MD5 sums checked
In R CMD INSTALL
| InPAS.Rcheck/tests_i386/runTests.Rout 
R version 3.5.1 Patched (2018-07-24 r75005) -- "Feather Spray"
Copyright (C) 2018 The R Foundation for Statistical Computing
Platform: i386-w64-mingw32/i386 (32-bit)
R is free software and comes with ABSOLUTELY NO WARRANTY.
You are welcome to redistribute it under certain conditions.
Type 'license()' or 'licence()' for distribution details.
R is a collaborative project with many contributors.
Type 'contributors()' for more information and
'citation()' on how to cite R or R packages in publications.
Type 'demo()' for some demos, 'help()' for on-line help, or
'help.start()' for an HTML browser interface to help.
Type 'q()' to quit R.
> require("BSgenome.Mmusculus.UCSC.mm10") || stop("can not load BSgenome.")
Loading required package: BSgenome.Mmusculus.UCSC.mm10
Loading required package: BSgenome
Loading required package: BiocGenerics
Loading required package: parallel
Attaching package: 'BiocGenerics'
The following objects are masked from 'package:parallel':
    clusterApply, clusterApplyLB, clusterCall, clusterEvalQ,
    clusterExport, clusterMap, parApply, parCapply, parLapply,
    parLapplyLB, parRapply, parSapply, parSapplyLB
The following objects are masked from 'package:stats':
    IQR, mad, sd, var, xtabs
The following objects are masked from 'package:base':
    Filter, Find, Map, Position, Reduce, anyDuplicated, append,
    as.data.frame, basename, cbind, colMeans, colSums, colnames,
    dirname, do.call, duplicated, eval, evalq, get, grep, grepl,
    intersect, is.unsorted, lapply, lengths, mapply, match, mget,
    order, paste, pmax, pmax.int, pmin, pmin.int, rank, rbind,
    rowMeans, rowSums, rownames, sapply, setdiff, sort, table, tapply,
    union, unique, unsplit, which, which.max, which.min
Loading required package: S4Vectors
Loading required package: stats4
Attaching package: 'S4Vectors'
The following object is masked from 'package:base':
    expand.grid
Loading required package: IRanges
Attaching package: 'IRanges'
The following object is masked from 'package:grDevices':
    windows
Loading required package: GenomeInfoDb
Loading required package: GenomicRanges
Loading required package: Biostrings
Loading required package: XVector
Attaching package: 'Biostrings'
The following object is masked from 'package:base':
    strsplit
Loading required package: rtracklayer
[1] TRUE
> require("BSgenome.Hsapiens.UCSC.hg19") || stop("can not load BSgenome.")
Loading required package: BSgenome.Hsapiens.UCSC.hg19
[1] TRUE
> require("TxDb.Mmusculus.UCSC.mm10.knownGene") || stop("can not load TxDb")
Loading required package: TxDb.Mmusculus.UCSC.mm10.knownGene
Loading required package: GenomicFeatures
Loading required package: AnnotationDbi
Loading required package: Biobase
Welcome to Bioconductor
    Vignettes contain introductory material; view with
    'browseVignettes()'. To cite Bioconductor, see
    'citation("Biobase")', and for packages 'citation("pkgname")'.
[1] TRUE
> require("rtracklayer") || stop("can not load rtracklayer.")
[1] TRUE
> require("limma") || stop("can not load limma")
Loading required package: limma
Attaching package: 'limma'
The following object is masked from 'package:BiocGenerics':
    plotMA
[1] TRUE
> BiocGenerics:::testPackage("InPAS")
seqlevelsStyle of genome is different from bedgraph file.
RUNIT TEST PROTOCOL -- Wed Oct 17 02:56:01 2018 
*********************************************** 
Number of test functions: 4 
Number of errors: 0 
Number of failures: 0 
 
1 Test Suite : 
InPAS RUnit Tests - 4 test functions, 0 errors, 0 failures
Number of test functions: 4 
Number of errors: 0 
Number of failures: 0 
> 
> proc.time()
   user  system elapsed 
  31.01    1.79   33.39 
 | InPAS.Rcheck/tests_x64/runTests.Rout 
R version 3.5.1 Patched (2018-07-24 r75005) -- "Feather Spray"
Copyright (C) 2018 The R Foundation for Statistical Computing
Platform: x86_64-w64-mingw32/x64 (64-bit)
R is free software and comes with ABSOLUTELY NO WARRANTY.
You are welcome to redistribute it under certain conditions.
Type 'license()' or 'licence()' for distribution details.
R is a collaborative project with many contributors.
Type 'contributors()' for more information and
'citation()' on how to cite R or R packages in publications.
Type 'demo()' for some demos, 'help()' for on-line help, or
'help.start()' for an HTML browser interface to help.
Type 'q()' to quit R.
> require("BSgenome.Mmusculus.UCSC.mm10") || stop("can not load BSgenome.")
Loading required package: BSgenome.Mmusculus.UCSC.mm10
Loading required package: BSgenome
Loading required package: BiocGenerics
Loading required package: parallel
Attaching package: 'BiocGenerics'
The following objects are masked from 'package:parallel':
    clusterApply, clusterApplyLB, clusterCall, clusterEvalQ,
    clusterExport, clusterMap, parApply, parCapply, parLapply,
    parLapplyLB, parRapply, parSapply, parSapplyLB
The following objects are masked from 'package:stats':
    IQR, mad, sd, var, xtabs
The following objects are masked from 'package:base':
    Filter, Find, Map, Position, Reduce, anyDuplicated, append,
    as.data.frame, basename, cbind, colMeans, colSums, colnames,
    dirname, do.call, duplicated, eval, evalq, get, grep, grepl,
    intersect, is.unsorted, lapply, lengths, mapply, match, mget,
    order, paste, pmax, pmax.int, pmin, pmin.int, rank, rbind,
    rowMeans, rowSums, rownames, sapply, setdiff, sort, table, tapply,
    union, unique, unsplit, which, which.max, which.min
Loading required package: S4Vectors
Loading required package: stats4
Attaching package: 'S4Vectors'
The following object is masked from 'package:base':
    expand.grid
Loading required package: IRanges
Attaching package: 'IRanges'
The following object is masked from 'package:grDevices':
    windows
Loading required package: GenomeInfoDb
Loading required package: GenomicRanges
Loading required package: Biostrings
Loading required package: XVector
Attaching package: 'Biostrings'
The following object is masked from 'package:base':
    strsplit
Loading required package: rtracklayer
[1] TRUE
> require("BSgenome.Hsapiens.UCSC.hg19") || stop("can not load BSgenome.")
Loading required package: BSgenome.Hsapiens.UCSC.hg19
[1] TRUE
> require("TxDb.Mmusculus.UCSC.mm10.knownGene") || stop("can not load TxDb")
Loading required package: TxDb.Mmusculus.UCSC.mm10.knownGene
Loading required package: GenomicFeatures
Loading required package: AnnotationDbi
Loading required package: Biobase
Welcome to Bioconductor
    Vignettes contain introductory material; view with
    'browseVignettes()'. To cite Bioconductor, see
    'citation("Biobase")', and for packages 'citation("pkgname")'.
[1] TRUE
> require("rtracklayer") || stop("can not load rtracklayer.")
[1] TRUE
> require("limma") || stop("can not load limma")
Loading required package: limma
Attaching package: 'limma'
The following object is masked from 'package:BiocGenerics':
    plotMA
[1] TRUE
> BiocGenerics:::testPackage("InPAS")
seqlevelsStyle of genome is different from bedgraph file.
RUNIT TEST PROTOCOL -- Wed Oct 17 02:56:35 2018 
*********************************************** 
Number of test functions: 4 
Number of errors: 0 
Number of failures: 0 
 
1 Test Suite : 
InPAS RUnit Tests - 4 test functions, 0 errors, 0 failures
Number of test functions: 4 
Number of errors: 0 
Number of failures: 0 
> 
> proc.time()
   user  system elapsed 
  32.32    1.04   33.35 
 | 
| InPAS.Rcheck/examples_i386/InPAS-Ex.timings 
 | InPAS.Rcheck/examples_x64/InPAS-Ex.timings 
 |