| Back to Multiple platform build/check report for BioC 3.7 |
|
This page was generated on 2018-10-17 08:40:47 -0400 (Wed, 17 Oct 2018).
| Package 736/1561 | Hostname | OS / Arch | INSTALL | BUILD | CHECK | BUILD BIN | ||||||
| INSPEcT 1.10.0 Stefano de Pretis
| malbec2 | Linux (Ubuntu 16.04.1 LTS) / x86_64 | OK | OK | OK | |||||||
| tokay2 | Windows Server 2012 R2 Standard / x64 | OK | OK | OK | [ OK ] | |||||||
| merida2 | OS X 10.11.6 El Capitan / x86_64 | OK | OK | OK | OK |
| Package: INSPEcT |
| Version: 1.10.0 |
| Command: rm -rf INSPEcT.buildbin-libdir && mkdir INSPEcT.buildbin-libdir && C:\Users\biocbuild\bbs-3.7-bioc\R\bin\R.exe CMD INSTALL --merge-multiarch --build --library=INSPEcT.buildbin-libdir INSPEcT_1.10.0.tar.gz |
| StartedAt: 2018-10-17 06:34:49 -0400 (Wed, 17 Oct 2018) |
| EndedAt: 2018-10-17 06:35:43 -0400 (Wed, 17 Oct 2018) |
| EllapsedTime: 53.1 seconds |
| RetCode: 0 |
| Status: OK |
| PackageFile: INSPEcT_1.10.0.zip |
| PackageFileSize: 4.962 MiB |
##############################################################################
##############################################################################
###
### Running command:
###
### rm -rf INSPEcT.buildbin-libdir && mkdir INSPEcT.buildbin-libdir && C:\Users\biocbuild\bbs-3.7-bioc\R\bin\R.exe CMD INSTALL --merge-multiarch --build --library=INSPEcT.buildbin-libdir INSPEcT_1.10.0.tar.gz
###
##############################################################################
##############################################################################
install for i386
* installing *source* package 'INSPEcT' ...
** R
** data
** inst
** byte-compile and prepare package for lazy loading
** help
*** installing help indices
converting help for package 'INSPEcT'
finding HTML links ... done
AIC-INSPEcT-method html
Extract html
INSPEcT-class html
finding level-2 HTML links ... done
INSPEcT html
INSPEcT_diffsteady-class html
INSPEcT_model-class html
UCSC_mm9_genes_exons html
UCSC_mm9_genes_introns html
chisqmodel html
chisqtest html
combine html
compareSteady html
dim-INSPEcT-method html
featureNames-INSPEcT-method html
geneClass html
getModel html
inHeatmap html
labeledSF html
logLik html
makeModelRates html
makeRPKMs html
makeSimDataset html
makeSimModel html
modelRates html
modelingParams html
mycerIds10 html
nGenes html
nTpts html
newINSPEcT html
plotGene html
plotMA html
ratePvals html
ratesFirstGuess html
ratesFirstGuessVar html
removeModel html
rocCurve html
rocThresholds html
rpkms html
sfPlot html
simData1rep html
simData3rep html
simRates html
split html
testingParams html
totalSF html
tpts html
viewModelRates html
** building package indices
** installing vignettes
** testing if installed package can be loaded
In R CMD INSTALL
install for x64
* installing *source* package 'INSPEcT' ...
** testing if installed package can be loaded
* MD5 sums
packaged installation of 'INSPEcT' as INSPEcT_1.10.0.zip
* DONE (INSPEcT)
In R CMD INSTALL
In R CMD INSTALL