| Back to Multiple platform build/check report for BioC 3.7 |
|
This page was generated on 2018-10-17 08:36:14 -0400 (Wed, 17 Oct 2018).
| Package 691/1561 | Hostname | OS / Arch | INSTALL | BUILD | CHECK | BUILD BIN | ||||||
| HiTC 1.24.0 Nicolas Servant
| malbec2 | Linux (Ubuntu 16.04.1 LTS) / x86_64 | OK | OK | OK | |||||||
| tokay2 | Windows Server 2012 R2 Standard / x64 | OK | OK | OK | [ OK ] | |||||||
| merida2 | OS X 10.11.6 El Capitan / x86_64 | OK | OK | OK | OK |
| Package: HiTC |
| Version: 1.24.0 |
| Command: rm -rf HiTC.buildbin-libdir && mkdir HiTC.buildbin-libdir && C:\Users\biocbuild\bbs-3.7-bioc\R\bin\R.exe CMD INSTALL --merge-multiarch --build --library=HiTC.buildbin-libdir HiTC_1.24.0.tar.gz |
| StartedAt: 2018-10-17 06:31:17 -0400 (Wed, 17 Oct 2018) |
| EndedAt: 2018-10-17 06:32:21 -0400 (Wed, 17 Oct 2018) |
| EllapsedTime: 63.7 seconds |
| RetCode: 0 |
| Status: OK |
| PackageFile: HiTC_1.24.0.zip |
| PackageFileSize: 3.587 MiB |
##############################################################################
##############################################################################
###
### Running command:
###
### rm -rf HiTC.buildbin-libdir && mkdir HiTC.buildbin-libdir && C:\Users\biocbuild\bbs-3.7-bioc\R\bin\R.exe CMD INSTALL --merge-multiarch --build --library=HiTC.buildbin-libdir HiTC_1.24.0.tar.gz
###
##############################################################################
##############################################################################
install for i386
* installing *source* package 'HiTC' ...
** R
** data
** inst
** byte-compile and prepare package for lazy loading
** help
*** installing help indices
converting help for package 'HiTC'
finding HTML links ... done
CQC html
HTCexp-class html
HTClist-class html
HiTC-internal html
Nora_5C html
binningC html
directionalityIndex html
discretize html
export.my5C html
exportC html
extractRegion html
getAnnotatedRestrictionSites html
getExpectedCounts html
getPearsonMap html
getRestrictionFragmentsPerChromosome html
import.my5C html
importC html
intervalsDist html
mapC html
normICE html
normLGF html
pca.hic html
removeIntervals html
setGenomicFeatures html
setIntervalScale html
** building package indices
** installing vignettes
** testing if installed package can be loaded
In R CMD INSTALL
install for x64
* installing *source* package 'HiTC' ...
** testing if installed package can be loaded
* MD5 sums
packaged installation of 'HiTC' as HiTC_1.24.0.zip
* DONE (HiTC)
In R CMD INSTALL
In R CMD INSTALL