| Back to Multiple platform build/check report for BioC 3.7 |
|
This page was generated on 2018-10-17 08:58:32 -0400 (Wed, 17 Oct 2018).
| Package 683/1561 | Hostname | OS / Arch | INSTALL | BUILD | CHECK | BUILD BIN | ||||||
| HiCcompare 1.2.0 John Stansfield
| malbec2 | Linux (Ubuntu 16.04.1 LTS) / x86_64 | OK | OK | OK | |||||||
| tokay2 | Windows Server 2012 R2 Standard / x64 | OK | OK | OK | OK | |||||||
| merida2 | OS X 10.11.6 El Capitan / x86_64 | OK | OK | OK | [ OK ] |
| Package: HiCcompare |
| Version: 1.2.0 |
| Command: rm -rf HiCcompare.buildbin-libdir && mkdir HiCcompare.buildbin-libdir && /Users/biocbuild/BBS/utils/build-universal.sh HiCcompare_1.2.0.tar.gz /Library/Frameworks/R.framework/Versions/Current/Resources/bin/R HiCcompare.buildbin-libdir |
| StartedAt: 2018-10-17 01:29:24 -0400 (Wed, 17 Oct 2018) |
| EndedAt: 2018-10-17 01:30:18 -0400 (Wed, 17 Oct 2018) |
| EllapsedTime: 54.1 seconds |
| RetCode: 0 |
| Status: OK |
| PackageFile: HiCcompare_1.2.0.tgz |
| PackageFileSize: 5.964 MiB |
############################################################################## ############################################################################## ### ### Running command: ### ### rm -rf HiCcompare.buildbin-libdir && mkdir HiCcompare.buildbin-libdir && /Users/biocbuild/BBS/utils/build-universal.sh HiCcompare_1.2.0.tar.gz /Library/Frameworks/R.framework/Versions/Current/Resources/bin/R HiCcompare.buildbin-libdir ### ############################################################################## ############################################################################## >>>>>>> >>>>>>> INSTALLATION WITH 'R CMD INSTALL --preclean --no-multiarch --library=HiCcompare.buildbin-libdir HiCcompare_1.2.0.tar.gz' >>>>>>> * installing *source* package ‘HiCcompare’ ... ** R ** data *** moving datasets to lazyload DB ** inst ** byte-compile and prepare package for lazy loading Note: wrong number of arguments to 'ceiling' ** help *** installing help indices ** building package indices ** installing vignettes ** testing if installed package can be loaded * DONE (HiCcompare)