| Back to Multiple platform build/check report for BioC 3.7 |
|
This page was generated on 2018-10-17 08:48:21 -0400 (Wed, 17 Oct 2018).
| Package 696/1561 | Hostname | OS / Arch | INSTALL | BUILD | CHECK | BUILD BIN | ||||||
| HTqPCR 1.34.0 Heidi Dvinge
| malbec2 | Linux (Ubuntu 16.04.1 LTS) / x86_64 | OK | OK | OK | |||||||
| tokay2 | Windows Server 2012 R2 Standard / x64 | OK | OK | WARNINGS | OK | |||||||
| merida2 | OS X 10.11.6 El Capitan / x86_64 | OK | OK | OK | [ OK ] |
| Package: HTqPCR |
| Version: 1.34.0 |
| Command: rm -rf HTqPCR.buildbin-libdir && mkdir HTqPCR.buildbin-libdir && /Users/biocbuild/BBS/utils/build-universal.sh HTqPCR_1.34.0.tar.gz /Library/Frameworks/R.framework/Versions/Current/Resources/bin/R HTqPCR.buildbin-libdir |
| StartedAt: 2018-10-17 01:30:07 -0400 (Wed, 17 Oct 2018) |
| EndedAt: 2018-10-17 01:31:04 -0400 (Wed, 17 Oct 2018) |
| EllapsedTime: 57.5 seconds |
| RetCode: 0 |
| Status: OK |
| PackageFile: HTqPCR_1.34.0.tgz |
| PackageFileSize: 1.571 MiB |
############################################################################## ############################################################################## ### ### Running command: ### ### rm -rf HTqPCR.buildbin-libdir && mkdir HTqPCR.buildbin-libdir && /Users/biocbuild/BBS/utils/build-universal.sh HTqPCR_1.34.0.tar.gz /Library/Frameworks/R.framework/Versions/Current/Resources/bin/R HTqPCR.buildbin-libdir ### ############################################################################## ############################################################################## >>>>>>> >>>>>>> INSTALLATION WITH 'R CMD INSTALL --preclean --no-multiarch --library=HTqPCR.buildbin-libdir HTqPCR_1.34.0.tar.gz' >>>>>>> * installing *source* package ‘HTqPCR’ ... ** R ** data ** inst ** byte-compile and prepare package for lazy loading ** help *** installing help indices ** building package indices ** installing vignettes ** testing if installed package can be loaded * DONE (HTqPCR)