| Back to Multiple platform build/check report for BioC 3.7 |
|
This page was generated on 2018-10-17 08:36:55 -0400 (Wed, 17 Oct 2018).
| Package 700/1561 | Hostname | OS / Arch | INSTALL | BUILD | CHECK | BUILD BIN | ||||||
| HTSFilter 1.20.0 Andrea Rau
| malbec2 | Linux (Ubuntu 16.04.1 LTS) / x86_64 | OK | OK | OK | |||||||
| tokay2 | Windows Server 2012 R2 Standard / x64 | OK | OK | OK | [ OK ] | |||||||
| merida2 | OS X 10.11.6 El Capitan / x86_64 | OK | OK | OK | OK |
| Package: HTSFilter |
| Version: 1.20.0 |
| Command: rm -rf HTSFilter.buildbin-libdir && mkdir HTSFilter.buildbin-libdir && C:\Users\biocbuild\bbs-3.7-bioc\R\bin\R.exe CMD INSTALL --merge-multiarch --build --library=HTSFilter.buildbin-libdir HTSFilter_1.20.0.tar.gz |
| StartedAt: 2018-10-17 06:31:33 -0400 (Wed, 17 Oct 2018) |
| EndedAt: 2018-10-17 06:32:36 -0400 (Wed, 17 Oct 2018) |
| EllapsedTime: 63.4 seconds |
| RetCode: 0 |
| Status: OK |
| PackageFile: HTSFilter_1.20.0.zip |
| PackageFileSize: 601.2 KiB |
##############################################################################
##############################################################################
###
### Running command:
###
### rm -rf HTSFilter.buildbin-libdir && mkdir HTSFilter.buildbin-libdir && C:\Users\biocbuild\bbs-3.7-bioc\R\bin\R.exe CMD INSTALL --merge-multiarch --build --library=HTSFilter.buildbin-libdir HTSFilter_1.20.0.tar.gz
###
##############################################################################
##############################################################################
install for i386
* installing *source* package 'HTSFilter' ...
** R
** data
** inst
** byte-compile and prepare package for lazy loading
** help
*** installing help indices
converting help for package 'HTSFilter'
finding HTML links ... done
HTSBasicFilter html
HTSFilter-deprecated html
HTSFilter-package html
HTSFilter html
normalizeData html
sultan html
** building package indices
** installing vignettes
** testing if installed package can be loaded
In R CMD INSTALL
install for x64
* installing *source* package 'HTSFilter' ...
** testing if installed package can be loaded
* MD5 sums
packaged installation of 'HTSFilter' as HTSFilter_1.20.0.zip
* DONE (HTSFilter)
In R CMD INSTALL
In R CMD INSTALL