Back to Multiple platform build/check report for BioC 3.7 |
|
This page was generated on 2018-10-17 08:39:56 -0400 (Wed, 17 Oct 2018).
Package 650/1561 | Hostname | OS / Arch | INSTALL | BUILD | CHECK | BUILD BIN | ||||||
GreyListChIP 1.12.0 Gordon Brown
| malbec2 | Linux (Ubuntu 16.04.1 LTS) / x86_64 | OK | OK | OK | |||||||
tokay2 | Windows Server 2012 R2 Standard / x64 | OK | OK | OK | [ OK ] | |||||||
merida2 | OS X 10.11.6 El Capitan / x86_64 | OK | OK | OK | OK |
Package: GreyListChIP |
Version: 1.12.0 |
Command: rm -rf GreyListChIP.buildbin-libdir && mkdir GreyListChIP.buildbin-libdir && C:\Users\biocbuild\bbs-3.7-bioc\R\bin\R.exe CMD INSTALL --merge-multiarch --build --library=GreyListChIP.buildbin-libdir GreyListChIP_1.12.0.tar.gz |
StartedAt: 2018-10-17 06:27:32 -0400 (Wed, 17 Oct 2018) |
EndedAt: 2018-10-17 06:29:10 -0400 (Wed, 17 Oct 2018) |
EllapsedTime: 97.0 seconds |
RetCode: 0 |
Status: OK |
PackageFile: GreyListChIP_1.12.0.zip |
PackageFileSize: 695.8 KiB |
############################################################################## ############################################################################## ### ### Running command: ### ### rm -rf GreyListChIP.buildbin-libdir && mkdir GreyListChIP.buildbin-libdir && C:\Users\biocbuild\bbs-3.7-bioc\R\bin\R.exe CMD INSTALL --merge-multiarch --build --library=GreyListChIP.buildbin-libdir GreyListChIP_1.12.0.tar.gz ### ############################################################################## ############################################################################## install for i386 * installing *source* package 'GreyListChIP' ... ** R ** data ** inst ** byte-compile and prepare package for lazy loading ** help *** installing help indices converting help for package 'GreyListChIP' finding HTML links ... done GreyList-class html finding level-2 HTML links ... done calcThreshold-methods html ce10.blacklist html countReads-methods html dm3.blacklist html getKaryotype-methods html grch37.blacklist html grch38.blacklist html greyList html greyListBS html hg19.blacklist html hg38.blacklist html loadKaryotype-methods html makeGreyList-methods html mm10.blacklist html mm9.blacklist html setRegions-methods html ** building package indices ** installing vignettes ** testing if installed package can be loaded In R CMD INSTALL install for x64 * installing *source* package 'GreyListChIP' ... ** testing if installed package can be loaded * MD5 sums packaged installation of 'GreyListChIP' as GreyListChIP_1.12.0.zip * DONE (GreyListChIP) In R CMD INSTALL In R CMD INSTALL