| Back to Multiple platform build/check report for BioC 3.7 |
|
This page was generated on 2018-10-17 08:56:23 -0400 (Wed, 17 Oct 2018).
| Package 620/1561 | Hostname | OS / Arch | INSTALL | BUILD | CHECK | BUILD BIN | ||||||
| Glimma 1.8.2 Shian Su
| malbec2 | Linux (Ubuntu 16.04.1 LTS) / x86_64 | OK | OK | OK | |||||||
| tokay2 | Windows Server 2012 R2 Standard / x64 | OK | OK | OK | OK | |||||||
| merida2 | OS X 10.11.6 El Capitan / x86_64 | OK | OK | OK | [ OK ] |
| Package: Glimma |
| Version: 1.8.2 |
| Command: rm -rf Glimma.buildbin-libdir && mkdir Glimma.buildbin-libdir && /Users/biocbuild/BBS/utils/build-universal.sh Glimma_1.8.2.tar.gz /Library/Frameworks/R.framework/Versions/Current/Resources/bin/R Glimma.buildbin-libdir |
| StartedAt: 2018-10-17 01:25:55 -0400 (Wed, 17 Oct 2018) |
| EndedAt: 2018-10-17 01:26:49 -0400 (Wed, 17 Oct 2018) |
| EllapsedTime: 54.6 seconds |
| RetCode: 0 |
| Status: OK |
| PackageFile: Glimma_1.8.2.tgz |
| PackageFileSize: 3.322 MiB |
############################################################################## ############################################################################## ### ### Running command: ### ### rm -rf Glimma.buildbin-libdir && mkdir Glimma.buildbin-libdir && /Users/biocbuild/BBS/utils/build-universal.sh Glimma_1.8.2.tar.gz /Library/Frameworks/R.framework/Versions/Current/Resources/bin/R Glimma.buildbin-libdir ### ############################################################################## ############################################################################## >>>>>>> >>>>>>> INSTALLATION WITH 'R CMD INSTALL --preclean --no-multiarch --library=Glimma.buildbin-libdir Glimma_1.8.2.tar.gz' >>>>>>> * installing *source* package ‘Glimma’ ... ** R ** data *** moving datasets to lazyload DB ** inst ** byte-compile and prepare package for lazy loading ** help *** installing help indices ** building package indices ** installing vignettes ** testing if installed package can be loaded * DONE (Glimma)