| Back to Multiple platform build/check report for BioC 3.7 |
|
This page was generated on 2018-10-17 08:38:33 -0400 (Wed, 17 Oct 2018).
| Package 595/1561 | Hostname | OS / Arch | INSTALL | BUILD | CHECK | BUILD BIN | ||||||
| GenomicFiles 1.16.0 Bioconductor Package Maintainer
| malbec2 | Linux (Ubuntu 16.04.1 LTS) / x86_64 | OK | OK | OK | |||||||
| tokay2 | Windows Server 2012 R2 Standard / x64 | OK | OK | WARNINGS | [ OK ] | |||||||
| merida2 | OS X 10.11.6 El Capitan / x86_64 | OK | OK | OK | OK |
| Package: GenomicFiles |
| Version: 1.16.0 |
| Command: rm -rf GenomicFiles.buildbin-libdir && mkdir GenomicFiles.buildbin-libdir && C:\Users\biocbuild\bbs-3.7-bioc\R\bin\R.exe CMD INSTALL --merge-multiarch --build --library=GenomicFiles.buildbin-libdir GenomicFiles_1.16.0.tar.gz |
| StartedAt: 2018-10-17 06:23:09 -0400 (Wed, 17 Oct 2018) |
| EndedAt: 2018-10-17 06:23:46 -0400 (Wed, 17 Oct 2018) |
| EllapsedTime: 37.0 seconds |
| RetCode: 0 |
| Status: OK |
| PackageFile: GenomicFiles_1.16.0.zip |
| PackageFileSize: 962.2 KiB |
##############################################################################
##############################################################################
###
### Running command:
###
### rm -rf GenomicFiles.buildbin-libdir && mkdir GenomicFiles.buildbin-libdir && C:\Users\biocbuild\bbs-3.7-bioc\R\bin\R.exe CMD INSTALL --merge-multiarch --build --library=GenomicFiles.buildbin-libdir GenomicFiles_1.16.0.tar.gz
###
##############################################################################
##############################################################################
install for i386
* installing *source* package 'GenomicFiles' ...
** R
** inst
** byte-compile and prepare package for lazy loading
** help
*** installing help indices
converting help for package 'GenomicFiles'
finding HTML links ... done
GenomicFiles-class html
Rd warning: C:/Users/biocbuild/bbs-3.7-bioc/tmpdir/Rtmps1IIDQ/R.INSTALL22702c37191c/GenomicFiles/man/GenomicFiles-class.Rd:111: file link 'SummarizedExperiment' in package 'SummarizedExperiment' does not exist and so has been treated as a topic
GenomicFiles-deprecated html
VcfStack-class html
Rd warning: C:/Users/biocbuild/bbs-3.7-bioc/tmpdir/Rtmps1IIDQ/R.INSTALL22702c37191c/GenomicFiles/man/VcfStack-class.Rd:77: file link 'DataFrame' in package 'S4Vectors' does not exist and so has been treated as a topic
Rd warning: C:/Users/biocbuild/bbs-3.7-bioc/tmpdir/Rtmps1IIDQ/R.INSTALL22702c37191c/GenomicFiles/man/VcfStack-class.Rd:97: file link 'GRanges' in package 'GenomicRanges' does not exist and so has been treated as a topic
Rd warning: C:/Users/biocbuild/bbs-3.7-bioc/tmpdir/Rtmps1IIDQ/R.INSTALL22702c37191c/GenomicFiles/man/VcfStack-class.Rd:128: file link 'VcfFileList' in package 'VariantAnnotation' does not exist and so has been treated as a topic
Rd warning: C:/Users/biocbuild/bbs-3.7-bioc/tmpdir/Rtmps1IIDQ/R.INSTALL22702c37191c/GenomicFiles/man/VcfStack-class.Rd:129: file link 'VcfFileList' in package 'VariantAnnotation' does not exist and so has been treated as a topic
Rd warning: C:/Users/biocbuild/bbs-3.7-bioc/tmpdir/Rtmps1IIDQ/R.INSTALL22702c37191c/GenomicFiles/man/VcfStack-class.Rd:132: file link 'seqinfo<-' in package 'GenomeInfoDb' does not exist and so has been treated as a topic
Rd warning: C:/Users/biocbuild/bbs-3.7-bioc/tmpdir/Rtmps1IIDQ/R.INSTALL22702c37191c/GenomicFiles/man/VcfStack-class.Rd:138: file link 'seqlevelsStyle<-' in package 'GenomeInfoDb' does not exist and so has been treated as a topic
Rd warning: C:/Users/biocbuild/bbs-3.7-bioc/tmpdir/Rtmps1IIDQ/R.INSTALL22702c37191c/GenomicFiles/man/VcfStack-class.Rd:142: file link 'DataFrame' in package 'S4Vectors' does not exist and so has been treated as a topic
Rd warning: C:/Users/biocbuild/bbs-3.7-bioc/tmpdir/Rtmps1IIDQ/R.INSTALL22702c37191c/GenomicFiles/man/VcfStack-class.Rd:147: file link 'GRanges' in package 'GenomicRanges' does not exist and so has been treated as a topic
Rd warning: C:/Users/biocbuild/bbs-3.7-bioc/tmpdir/Rtmps1IIDQ/R.INSTALL22702c37191c/GenomicFiles/man/VcfStack-class.Rd:154: file link 'GRanges' in package 'GenomicRanges' does not exist and so has been treated as a topic
Rd warning: C:/Users/biocbuild/bbs-3.7-bioc/tmpdir/Rtmps1IIDQ/R.INSTALL22702c37191c/GenomicFiles/man/VcfStack-class.Rd:162: file link 'genotypeToSnpMatrix' in package 'VariantAnnotation' does not exist and so has been treated as a topic
Rd warning: C:/Users/biocbuild/bbs-3.7-bioc/tmpdir/Rtmps1IIDQ/R.INSTALL22702c37191c/GenomicFiles/man/VcfStack-class.Rd:172: file link 'ScanVcfParam' in package 'VariantAnnotation' does not exist and so has been treated as a topic
Rd warning: C:/Users/biocbuild/bbs-3.7-bioc/tmpdir/Rtmps1IIDQ/R.INSTALL22702c37191c/GenomicFiles/man/VcfStack-class.Rd:219: file link 'VcfFile' in package 'VariantAnnotation' does not exist and so has been treated as a topic
Rd warning: C:/Users/biocbuild/bbs-3.7-bioc/tmpdir/Rtmps1IIDQ/R.INSTALL22702c37191c/GenomicFiles/man/VcfStack-class.Rd:219: file link 'VcfFileList' in package 'VariantAnnotation' does not exist and so has been treated as a topic
pack-methods html
reduceByFile-methods html
reduceByRange-methods html
reduceByYield html
Rd warning: C:/Users/biocbuild/bbs-3.7-bioc/tmpdir/Rtmps1IIDQ/R.INSTALL22702c37191c/GenomicFiles/man/reduceByYield.Rd:12: file link 'BamFile' in package 'Rsamtools' does not exist and so has been treated as a topic
Rd warning: C:/Users/biocbuild/bbs-3.7-bioc/tmpdir/Rtmps1IIDQ/R.INSTALL22702c37191c/GenomicFiles/man/reduceByYield.Rd:29: file link 'BamFile' in package 'Rsamtools' does not exist and so has been treated as a topic
Rd warning: C:/Users/biocbuild/bbs-3.7-bioc/tmpdir/Rtmps1IIDQ/R.INSTALL22702c37191c/GenomicFiles/man/reduceByYield.Rd:121: file link 'BamFile' in package 'Rsamtools' does not exist and so has been treated as a topic
Rd warning: C:/Users/biocbuild/bbs-3.7-bioc/tmpdir/Rtmps1IIDQ/R.INSTALL22702c37191c/GenomicFiles/man/reduceByYield.Rd:122: file link 'TabixFile' in package 'Rsamtools' does not exist and so has been treated as a topic
registry-utils html
unpack-methods html
** building package indices
** installing vignettes
** testing if installed package can be loaded
In R CMD INSTALL
install for x64
* installing *source* package 'GenomicFiles' ...
** testing if installed package can be loaded
* MD5 sums
packaged installation of 'GenomicFiles' as GenomicFiles_1.16.0.zip
* DONE (GenomicFiles)
In R CMD INSTALL
In R CMD INSTALL