| Back to Multiple platform build/check report for BioC 3.7 |
|
This page was generated on 2018-10-17 08:43:46 -0400 (Wed, 17 Oct 2018).
| Package 593/1561 | Hostname | OS / Arch | INSTALL | BUILD | CHECK | BUILD BIN | ||||||
| GenomicDataCommons 1.4.3 Sean Davis
| malbec2 | Linux (Ubuntu 16.04.1 LTS) / x86_64 | OK | OK | WARNINGS | |||||||
| tokay2 | Windows Server 2012 R2 Standard / x64 | [ OK ] | OK | WARNINGS | OK | |||||||
| merida2 | OS X 10.11.6 El Capitan / x86_64 | OK | OK | WARNINGS | OK |
| Package: GenomicDataCommons |
| Version: 1.4.3 |
| Command: C:\cygwin\bin\curl.exe -O https://malbec2.bioconductor.org/BBS/3.7/bioc/src/contrib/GenomicDataCommons_1.4.3.tar.gz && rm -rf GenomicDataCommons.buildbin-libdir && mkdir GenomicDataCommons.buildbin-libdir && C:\Users\biocbuild\bbs-3.7-bioc\R\bin\R.exe CMD INSTALL --merge-multiarch --build --library=GenomicDataCommons.buildbin-libdir GenomicDataCommons_1.4.3.tar.gz && C:\Users\biocbuild\bbs-3.7-bioc\R\bin\R.exe CMD INSTALL GenomicDataCommons_1.4.3.zip && rm GenomicDataCommons_1.4.3.tar.gz GenomicDataCommons_1.4.3.zip |
| StartedAt: 2018-10-16 19:33:49 -0400 (Tue, 16 Oct 2018) |
| EndedAt: 2018-10-16 19:34:41 -0400 (Tue, 16 Oct 2018) |
| EllapsedTime: 51.7 seconds |
| RetCode: 0 |
| Status: OK |
##############################################################################
##############################################################################
###
### Running command:
###
### C:\cygwin\bin\curl.exe -O https://malbec2.bioconductor.org/BBS/3.7/bioc/src/contrib/GenomicDataCommons_1.4.3.tar.gz && rm -rf GenomicDataCommons.buildbin-libdir && mkdir GenomicDataCommons.buildbin-libdir && C:\Users\biocbuild\bbs-3.7-bioc\R\bin\R.exe CMD INSTALL --merge-multiarch --build --library=GenomicDataCommons.buildbin-libdir GenomicDataCommons_1.4.3.tar.gz && C:\Users\biocbuild\bbs-3.7-bioc\R\bin\R.exe CMD INSTALL GenomicDataCommons_1.4.3.zip && rm GenomicDataCommons_1.4.3.tar.gz GenomicDataCommons_1.4.3.zip
###
##############################################################################
##############################################################################
% Total % Received % Xferd Average Speed Time Time Time Current
Dload Upload Total Spent Left Speed
0 0 0 0 0 0 0 0 --:--:-- --:--:-- --:--:-- 0
100 536k 100 536k 0 0 9274k 0 --:--:-- --:--:-- --:--:-- 10.2M
install for i386
* installing *source* package 'GenomicDataCommons' ...
** R
** inst
** byte-compile and prepare package for lazy loading
** help
*** installing help indices
converting help for package 'GenomicDataCommons'
finding HTML links ... done
GenomicDataCommons html
aggregations html
available_expand html
available_fields html
available_values html
constants html
count html
default_fields html
dot-htseq_importer html
entity_name html
expand html
faceting html
filtering html
gdc_cache html
gdc_client html
gdc_clinical html
gdc_rnaseq html
Rd warning: C:/Users/biocbuild/bbs-3.7-bioc/tmpdir/Rtmpc7T9hb/R.INSTALL18e8554c6515/GenomicDataCommons/man/gdc_rnaseq.Rd:28: file link 'SummarizedExperiment' in package 'SummarizedExperiment' does not exist and so has been treated as a topic
gdc_token html
gdcdata html
grep_fields html
id_field html
ids html
make_filter html
manifest html
mapping html
query html
readDNAcopy html
Rd warning: C:/Users/biocbuild/bbs-3.7-bioc/tmpdir/Rtmpc7T9hb/R.INSTALL18e8554c6515/GenomicDataCommons/man/readDNAcopy.Rd:12: file link 'read_tsv' in package 'readr' does not exist and so has been treated as a topic
Rd warning: C:/Users/biocbuild/bbs-3.7-bioc/tmpdir/Rtmpc7T9hb/R.INSTALL18e8554c6515/GenomicDataCommons/man/readDNAcopy.Rd:15: file link 'GRanges' in package 'GenomicRanges' does not exist and so has been treated as a topic
readHTSeqFile html
Rd warning: C:/Users/biocbuild/bbs-3.7-bioc/tmpdir/Rtmpc7T9hb/R.INSTALL18e8554c6515/GenomicDataCommons/man/readHTSeqFile.Rd:16: file link 'read_tsv' in package 'readr' does not exist and so has been treated as a topic
response html
results html
results_all html
select html
slicing html
status html
transfer html
write_manifest html
** building package indices
** installing vignettes
** testing if installed package can be loaded
In R CMD INSTALL
install for x64
* installing *source* package 'GenomicDataCommons' ...
** testing if installed package can be loaded
* MD5 sums
packaged installation of 'GenomicDataCommons' as GenomicDataCommons_1.4.3.zip
* DONE (GenomicDataCommons)
In R CMD INSTALL
In R CMD INSTALL
* installing to library 'C:/Users/biocbuild/bbs-3.7-bioc/R/library'
package 'GenomicDataCommons' successfully unpacked and MD5 sums checked
In R CMD INSTALL