| Back to Multiple platform build/check report for BioC 3.7 |
|
This page was generated on 2018-10-17 08:33:46 -0400 (Wed, 17 Oct 2018).
| Package 588/1561 | Hostname | OS / Arch | INSTALL | BUILD | CHECK | BUILD BIN | ||||||
| GenomeGraphs 1.40.0 Steffen Durinck
| malbec2 | Linux (Ubuntu 16.04.1 LTS) / x86_64 | OK | OK | OK | |||||||
| tokay2 | Windows Server 2012 R2 Standard / x64 | [ OK ] | OK | OK | OK | |||||||
| merida2 | OS X 10.11.6 El Capitan / x86_64 | OK | OK | OK | OK |
| Package: GenomeGraphs |
| Version: 1.40.0 |
| Command: C:\cygwin\bin\curl.exe -O https://malbec2.bioconductor.org/BBS/3.7/bioc/src/contrib/GenomeGraphs_1.40.0.tar.gz && rm -rf GenomeGraphs.buildbin-libdir && mkdir GenomeGraphs.buildbin-libdir && C:\Users\biocbuild\bbs-3.7-bioc\R\bin\R.exe CMD INSTALL --merge-multiarch --build --library=GenomeGraphs.buildbin-libdir GenomeGraphs_1.40.0.tar.gz && C:\Users\biocbuild\bbs-3.7-bioc\R\bin\R.exe CMD INSTALL GenomeGraphs_1.40.0.zip && rm GenomeGraphs_1.40.0.tar.gz GenomeGraphs_1.40.0.zip |
| StartedAt: 2018-10-16 19:26:40 -0400 (Tue, 16 Oct 2018) |
| EndedAt: 2018-10-16 19:27:54 -0400 (Tue, 16 Oct 2018) |
| EllapsedTime: 73.6 seconds |
| RetCode: 0 |
| Status: OK |
##############################################################################
##############################################################################
###
### Running command:
###
### C:\cygwin\bin\curl.exe -O https://malbec2.bioconductor.org/BBS/3.7/bioc/src/contrib/GenomeGraphs_1.40.0.tar.gz && rm -rf GenomeGraphs.buildbin-libdir && mkdir GenomeGraphs.buildbin-libdir && C:\Users\biocbuild\bbs-3.7-bioc\R\bin\R.exe CMD INSTALL --merge-multiarch --build --library=GenomeGraphs.buildbin-libdir GenomeGraphs_1.40.0.tar.gz && C:\Users\biocbuild\bbs-3.7-bioc\R\bin\R.exe CMD INSTALL GenomeGraphs_1.40.0.zip && rm GenomeGraphs_1.40.0.tar.gz GenomeGraphs_1.40.0.zip
###
##############################################################################
##############################################################################
% Total % Received % Xferd Average Speed Time Time Time Current
Dload Upload Total Spent Left Speed
0 0 0 0 0 0 0 0 --:--:-- --:--:-- --:--:-- 0
100 166k 100 166k 0 0 3075k 0 --:--:-- --:--:-- --:--:-- 3460k
install for i386
* installing *source* package 'GenomeGraphs' ...
** R
** data
** inst
** byte-compile and prepare package for lazy loading
** help
*** installing help indices
converting help for package 'GenomeGraphs'
finding HTML links ... done
AnnotationTrack-class html
BaseTrack-class html
DisplayPars-class html
DisplayPars html
ExonArray-class html
Gene-class html
GeneModel-class html
GeneRegion-class html
GenericArray-class html
GenomeAxis-class html
HighlightRegion-class html
Ideogram-class html
ImplementsTrackOverlay-class html
Legend-class html
MappedRead-class html
Overlay-class html
RectangleOverlay-class html
Segmentation-class html
Smoothing-class html
TextOverlay-class html
Title-class html
TrackOverlay-class html
Transcript-class html
TranscriptRegion-class html
cn html
drawGD html
drawTrackOverlay-methods html
exonProbePos html
gdObject-class html
gdPlot html
geneBiomart html
geneRegionBiomart html
getGenomicRange html
getPar html
getSize html
ideogramTab html
intensity html
makeAnnotationTrack html
makeBaseTrack html
makeExonArray html
makeGene html
makeGeneModel html
makeGeneRegion html
makeGenericArray html
makeGenomeAxis html
makeIdeogram html
makeLegend html
makeRectangleOverlay html
makeSegmentation html
makeSmoothing html
makeTextOverlay html
makeTitle html
makeTranscript html
probestart html
segEnd html
segStart html
segments html
seqDataEx html
setPar html
showDisplayOptions html
unrData html
unrNProbes html
unrPositions html
yeastCons1 html
** building package indices
** installing vignettes
** testing if installed package can be loaded
In R CMD INSTALL
install for x64
* installing *source* package 'GenomeGraphs' ...
** testing if installed package can be loaded
* MD5 sums
packaged installation of 'GenomeGraphs' as GenomeGraphs_1.40.0.zip
* DONE (GenomeGraphs)
In R CMD INSTALL
In R CMD INSTALL
* installing to library 'C:/Users/biocbuild/bbs-3.7-bioc/R/library'
package 'GenomeGraphs' successfully unpacked and MD5 sums checked
In R CMD INSTALL