| Back to Multiple platform build/check report for BioC 3.7 |
|
This page was generated on 2018-10-17 08:45:25 -0400 (Wed, 17 Oct 2018).
| Package 579/1561 | Hostname | OS / Arch | INSTALL | BUILD | CHECK | BUILD BIN | ||||||
| GeneStructureTools 1.0.0 Beth Signal
| malbec2 | Linux (Ubuntu 16.04.1 LTS) / x86_64 | OK | OK | OK | |||||||
| tokay2 | Windows Server 2012 R2 Standard / x64 | OK | OK | ERROR | [ OK ] | |||||||
| merida2 | OS X 10.11.6 El Capitan / x86_64 | OK | OK | OK | OK |
| Package: GeneStructureTools |
| Version: 1.0.0 |
| Command: rm -rf GeneStructureTools.buildbin-libdir && mkdir GeneStructureTools.buildbin-libdir && C:\Users\biocbuild\bbs-3.7-bioc\R\bin\R.exe CMD INSTALL --merge-multiarch --build --library=GeneStructureTools.buildbin-libdir GeneStructureTools_1.0.0.tar.gz |
| StartedAt: 2018-10-17 06:22:36 -0400 (Wed, 17 Oct 2018) |
| EndedAt: 2018-10-17 06:23:19 -0400 (Wed, 17 Oct 2018) |
| EllapsedTime: 43.1 seconds |
| RetCode: 0 |
| Status: OK |
| PackageFile: GeneStructureTools_1.0.0.zip |
| PackageFileSize: 1.696 MiB |
##############################################################################
##############################################################################
###
### Running command:
###
### rm -rf GeneStructureTools.buildbin-libdir && mkdir GeneStructureTools.buildbin-libdir && C:\Users\biocbuild\bbs-3.7-bioc\R\bin\R.exe CMD INSTALL --merge-multiarch --build --library=GeneStructureTools.buildbin-libdir GeneStructureTools_1.0.0.tar.gz
###
##############################################################################
##############################################################################
install for i386
* installing *source* package 'GeneStructureTools' ...
** R
** inst
** byte-compile and prepare package for lazy loading
** help
*** installing help indices
converting help for package 'GeneStructureTools'
finding HTML links ... done
DEXSeqIdsToGeneIds html
UTR2UTR53 html
addBroadTypes html
addIntronInTranscript html
addSets html
alternativeIntronUsage html
annotateGeneModel html
attrChangeAltSpliced html
coordinates-methods html
cumsumANDpad html
diffSplicingResults-methods html
exonsToTranscripts html
filterGtfOverlap html
filterWhippetEvents html
findDEXexonType html
findExonContainingTranscripts html
findIntronContainingTranscripts html
findJunctionPairs html
formatWhippetEvents html
getOrfs html
getUOrfs html
junctions-methods html
leafcutterTranscriptChangeSummary html
makeGeneModel html
maxLocation html
orfDiff html
orfSimilarity html
overlapTypes html
readCounts-methods html
readWhippetDIFFfiles html
readWhippetDataSet html
readWhippetJNCfiles html
readWhippetPSIfiles html
removeDuplicateTranscripts html
removeSameExon html
removeVersion html
reorderExonNumbers html
replaceJunction html
skipExonInTranscript html
summariseExonTypes html
transcriptChangeSummary html
whippetDataSet-class html
whippetTranscriptChangeSummary html
** building package indices
** installing vignettes
** testing if installed package can be loaded
In R CMD INSTALL
install for x64
* installing *source* package 'GeneStructureTools' ...
** testing if installed package can be loaded
* MD5 sums
packaged installation of 'GeneStructureTools' as GeneStructureTools_1.0.0.zip
* DONE (GeneStructureTools)
In R CMD INSTALL
In R CMD INSTALL