| Back to Multiple platform build/check report for BioC 3.7 |
|
This page was generated on 2018-10-17 08:22:21 -0400 (Wed, 17 Oct 2018).
| Package 577/1561 | Hostname | OS / Arch | INSTALL | BUILD | CHECK | BUILD BIN | ||||||
| GeneSelector 2.30.0 Martin Slawski
| malbec2 | Linux (Ubuntu 16.04.1 LTS) / x86_64 | ERROR | [ ERROR ] | skipped | |||||||
| tokay2 | Windows Server 2012 R2 Standard / x64 | OK | OK | OK | OK | |||||||
| merida2 | OS X 10.11.6 El Capitan / x86_64 | OK | OK | OK | OK |
| Package: GeneSelector |
| Version: 2.30.0 |
| Command: /home/biocbuild/bbs-3.7-bioc/R/bin/R CMD build --keep-empty-dirs --no-resave-data GeneSelector |
| StartedAt: 2018-10-15 18:55:04 -0400 (Mon, 15 Oct 2018) |
| EndedAt: 2018-10-15 18:55:05 -0400 (Mon, 15 Oct 2018) |
| EllapsedTime: 1.0 seconds |
| RetCode: 1 |
| Status: ERROR |
| PackageFile: None |
| PackageFileSize: NA |
##############################################################################
##############################################################################
###
### Running command:
###
### /home/biocbuild/bbs-3.7-bioc/R/bin/R CMD build --keep-empty-dirs --no-resave-data GeneSelector
###
##############################################################################
##############################################################################
* checking for file ‘GeneSelector/DESCRIPTION’ ... OK
* preparing ‘GeneSelector’:
* checking DESCRIPTION meta-information ... OK
* cleaning src
* installing the package to build vignettes
-----------------------------------
ERROR: dependency ‘samr’ is not available for package ‘GeneSelector’
* removing ‘/tmp/RtmpCa1dTd/Rinst39a631cce51a/GeneSelector’
-----------------------------------
ERROR: package installation failed