| Back to Multiple platform build/check report for BioC 3.7 | 
 | 
This page was generated on 2018-10-17 08:46:38 -0400 (Wed, 17 Oct 2018).
| Package 568/1561 | Hostname | OS / Arch | INSTALL | BUILD | CHECK | BUILD BIN | ||||||
| GeneMeta 1.52.0 Bioconductor Package Maintainer 
 | malbec2 | Linux (Ubuntu 16.04.1 LTS) / x86_64 | OK | OK | OK |  | ||||||
| tokay2 | Windows Server 2012 R2 Standard / x64 | OK | OK | OK | OK |  | ||||||
| merida2 | OS X 10.11.6 El Capitan / x86_64 | OK | OK | OK | [ OK ] |  | 
| Package: GeneMeta | 
| Version: 1.52.0 | 
| Command: rm -rf GeneMeta.buildbin-libdir && mkdir GeneMeta.buildbin-libdir && /Users/biocbuild/BBS/utils/build-universal.sh GeneMeta_1.52.0.tar.gz /Library/Frameworks/R.framework/Versions/Current/Resources/bin/R GeneMeta.buildbin-libdir | 
| StartedAt: 2018-10-17 01:23:07 -0400 (Wed, 17 Oct 2018) | 
| EndedAt: 2018-10-17 01:23:59 -0400 (Wed, 17 Oct 2018) | 
| EllapsedTime: 51.9 seconds | 
| RetCode: 0 | 
| Status: OK | 
| PackageFile: GeneMeta_1.52.0.tgz | 
| PackageFileSize: 2.644 MiB | 
############################################################################## ############################################################################## ### ### Running command: ### ### rm -rf GeneMeta.buildbin-libdir && mkdir GeneMeta.buildbin-libdir && /Users/biocbuild/BBS/utils/build-universal.sh GeneMeta_1.52.0.tar.gz /Library/Frameworks/R.framework/Versions/Current/Resources/bin/R GeneMeta.buildbin-libdir ### ############################################################################## ############################################################################## >>>>>>> >>>>>>> INSTALLATION WITH 'R CMD INSTALL --preclean --no-multiarch --library=GeneMeta.buildbin-libdir GeneMeta_1.52.0.tar.gz' >>>>>>> * installing *source* package ‘GeneMeta’ ... ** R ** data ** inst ** byte-compile and prepare package for lazy loading ** help *** installing help indices ** building package indices ** installing vignettes ** testing if installed package can be loaded * DONE (GeneMeta)