| Back to Multiple platform build/check report for BioC 3.7 |
|
This page was generated on 2018-10-17 08:55:53 -0400 (Wed, 17 Oct 2018).
| Package 605/1561 | Hostname | OS / Arch | INSTALL | BUILD | CHECK | BUILD BIN | ||||||
| GenVisR 1.12.1 Zachary Skidmore
| malbec2 | Linux (Ubuntu 16.04.1 LTS) / x86_64 | OK | OK | ERROR | |||||||
| tokay2 | Windows Server 2012 R2 Standard / x64 | OK | OK | ERROR | OK | |||||||
| merida2 | OS X 10.11.6 El Capitan / x86_64 | OK | OK | ERROR | [ OK ] |
| Package: GenVisR |
| Version: 1.12.1 |
| Command: rm -rf GenVisR.buildbin-libdir && mkdir GenVisR.buildbin-libdir && /Users/biocbuild/BBS/utils/build-universal.sh GenVisR_1.12.1.tar.gz /Library/Frameworks/R.framework/Versions/Current/Resources/bin/R GenVisR.buildbin-libdir |
| StartedAt: 2018-10-17 01:25:08 -0400 (Wed, 17 Oct 2018) |
| EndedAt: 2018-10-17 01:26:01 -0400 (Wed, 17 Oct 2018) |
| EllapsedTime: 53.1 seconds |
| RetCode: 0 |
| Status: OK |
| PackageFile: GenVisR_1.12.1.tgz |
| PackageFileSize: 10.41 MiB |
############################################################################## ############################################################################## ### ### Running command: ### ### rm -rf GenVisR.buildbin-libdir && mkdir GenVisR.buildbin-libdir && /Users/biocbuild/BBS/utils/build-universal.sh GenVisR_1.12.1.tar.gz /Library/Frameworks/R.framework/Versions/Current/Resources/bin/R GenVisR.buildbin-libdir ### ############################################################################## ############################################################################## >>>>>>> >>>>>>> INSTALLATION WITH 'R CMD INSTALL --preclean --no-multiarch --library=GenVisR.buildbin-libdir GenVisR_1.12.1.tar.gz' >>>>>>> * installing *source* package ‘GenVisR’ ... ** R ** data *** moving datasets to lazyload DB ** inst ** byte-compile and prepare package for lazy loading ** help *** installing help indices ** building package indices ** installing vignettes ** testing if installed package can be loaded * DONE (GenVisR)