| Back to Multiple platform build/check report for BioC 3.7 |
|
This page was generated on 2018-10-17 08:41:15 -0400 (Wed, 17 Oct 2018).
| Package 665/1561 | Hostname | OS / Arch | INSTALL | BUILD | CHECK | BUILD BIN | ||||||
| GUIDEseq 1.10.0 Lihua Julie Zhu
| malbec2 | Linux (Ubuntu 16.04.1 LTS) / x86_64 | OK | OK | OK | |||||||
| tokay2 | Windows Server 2012 R2 Standard / x64 | OK | OK | OK | [ OK ] | |||||||
| merida2 | OS X 10.11.6 El Capitan / x86_64 | OK | OK | OK | OK |
| Package: GUIDEseq |
| Version: 1.10.0 |
| Command: rm -rf GUIDEseq.buildbin-libdir && mkdir GUIDEseq.buildbin-libdir && C:\Users\biocbuild\bbs-3.7-bioc\R\bin\R.exe CMD INSTALL --merge-multiarch --build --library=GUIDEseq.buildbin-libdir GUIDEseq_1.10.0.tar.gz |
| StartedAt: 2018-10-17 06:29:07 -0400 (Wed, 17 Oct 2018) |
| EndedAt: 2018-10-17 06:30:16 -0400 (Wed, 17 Oct 2018) |
| EllapsedTime: 68.9 seconds |
| RetCode: 0 |
| Status: OK |
| PackageFile: GUIDEseq_1.10.0.zip |
| PackageFileSize: 4.693 MiB |
##############################################################################
##############################################################################
###
### Running command:
###
### rm -rf GUIDEseq.buildbin-libdir && mkdir GUIDEseq.buildbin-libdir && C:\Users\biocbuild\bbs-3.7-bioc\R\bin\R.exe CMD INSTALL --merge-multiarch --build --library=GUIDEseq.buildbin-libdir GUIDEseq_1.10.0.tar.gz
###
##############################################################################
##############################################################################
install for i386
* installing *source* package 'GUIDEseq' ...
** R
** data
** inst
** byte-compile and prepare package for lazy loading
** help
*** installing help indices
converting help for package 'GUIDEseq'
finding HTML links ... done
GUIDEseq-package html
GUIDEseqAnalysis html
annotateOffTargets html
combineOfftargets html
createBarcodeFasta html
getPeaks html
getUniqueCleavageEvents html
getUsedBarcodes html
mergePlusMinusPeaks html
offTargetAnalysisOfPeakRegions html
peaks.gr html
uniqueCleavageEvents html
** building package indices
** installing vignettes
** testing if installed package can be loaded
In R CMD INSTALL
install for x64
* installing *source* package 'GUIDEseq' ...
** testing if installed package can be loaded
* MD5 sums
packaged installation of 'GUIDEseq' as GUIDEseq_1.10.0.zip
* DONE (GUIDEseq)
In R CMD INSTALL
In R CMD INSTALL