| Back to Multiple platform build/check report for BioC 3.7 |
|
This page was generated on 2018-10-17 08:33:45 -0400 (Wed, 17 Oct 2018).
| Package 659/1561 | Hostname | OS / Arch | INSTALL | BUILD | CHECK | BUILD BIN | ||||||
| GSEAlm 1.40.0 Assaf Oron
| malbec2 | Linux (Ubuntu 16.04.1 LTS) / x86_64 | OK | OK | OK | |||||||
| tokay2 | Windows Server 2012 R2 Standard / x64 | OK | OK | OK | [ OK ] | |||||||
| merida2 | OS X 10.11.6 El Capitan / x86_64 | OK | OK | OK | OK |
| Package: GSEAlm |
| Version: 1.40.0 |
| Command: rm -rf GSEAlm.buildbin-libdir && mkdir GSEAlm.buildbin-libdir && C:\Users\biocbuild\bbs-3.7-bioc\R\bin\R.exe CMD INSTALL --merge-multiarch --build --library=GSEAlm.buildbin-libdir GSEAlm_1.40.0.tar.gz |
| StartedAt: 2018-10-17 06:28:54 -0400 (Wed, 17 Oct 2018) |
| EndedAt: 2018-10-17 06:29:03 -0400 (Wed, 17 Oct 2018) |
| EllapsedTime: 8.5 seconds |
| RetCode: 0 |
| Status: OK |
| PackageFile: GSEAlm_1.40.0.zip |
| PackageFileSize: 874.6 KiB |
##############################################################################
##############################################################################
###
### Running command:
###
### rm -rf GSEAlm.buildbin-libdir && mkdir GSEAlm.buildbin-libdir && C:\Users\biocbuild\bbs-3.7-bioc\R\bin\R.exe CMD INSTALL --merge-multiarch --build --library=GSEAlm.buildbin-libdir GSEAlm_1.40.0.tar.gz
###
##############################################################################
##############################################################################
install for i386
* installing *source* package 'GSEAlm' ...
** R
** inst
** byte-compile and prepare package for lazy loading
** help
*** installing help indices
converting help for package 'GSEAlm'
finding HTML links ... done
GSNormalize html
dfbetasPerGene html
getResidPerGene html
gsealmPerm html
lmPerGene html
resplot html
** building package indices
** installing vignettes
** testing if installed package can be loaded
In R CMD INSTALL
install for x64
* installing *source* package 'GSEAlm' ...
** testing if installed package can be loaded
* MD5 sums
packaged installation of 'GSEAlm' as GSEAlm_1.40.0.zip
* DONE (GSEAlm)
In R CMD INSTALL
In R CMD INSTALL