| Back to Multiple platform build/check report for BioC 3.7 |
|
This page was generated on 2018-10-17 08:41:31 -0400 (Wed, 17 Oct 2018).
| Package 654/1561 | Hostname | OS / Arch | INSTALL | BUILD | CHECK | BUILD BIN | ||||||
| GSALightning 1.8.0 Billy Heung Wing Chang
| malbec2 | Linux (Ubuntu 16.04.1 LTS) / x86_64 | OK | OK | OK | |||||||
| tokay2 | Windows Server 2012 R2 Standard / x64 | OK | OK | OK | [ OK ] | |||||||
| merida2 | OS X 10.11.6 El Capitan / x86_64 | OK | OK | OK | OK |
| Package: GSALightning |
| Version: 1.8.0 |
| Command: rm -rf GSALightning.buildbin-libdir && mkdir GSALightning.buildbin-libdir && C:\Users\biocbuild\bbs-3.7-bioc\R\bin\R.exe CMD INSTALL --merge-multiarch --build --library=GSALightning.buildbin-libdir GSALightning_1.8.0.tar.gz |
| StartedAt: 2018-10-17 06:28:37 -0400 (Wed, 17 Oct 2018) |
| EndedAt: 2018-10-17 06:28:57 -0400 (Wed, 17 Oct 2018) |
| EllapsedTime: 19.8 seconds |
| RetCode: 0 |
| Status: OK |
| PackageFile: GSALightning_1.8.0.zip |
| PackageFileSize: 4.269 MiB |
##############################################################################
##############################################################################
###
### Running command:
###
### rm -rf GSALightning.buildbin-libdir && mkdir GSALightning.buildbin-libdir && C:\Users\biocbuild\bbs-3.7-bioc\R\bin\R.exe CMD INSTALL --merge-multiarch --build --library=GSALightning.buildbin-libdir GSALightning_1.8.0.tar.gz
###
##############################################################################
##############################################################################
install for i386
* installing *source* package 'GSALightning' ...
** R
** data
** inst
** byte-compile and prepare package for lazy loading
** help
*** installing help indices
converting help for package 'GSALightning'
finding HTML links ... done
GSALight html
GSALightning-package html
expression html
permTestLight html
sampleInfo html
targetGenes html
wilcoxTest html
** building package indices
** installing vignettes
** testing if installed package can be loaded
In R CMD INSTALL
install for x64
* installing *source* package 'GSALightning' ...
** testing if installed package can be loaded
* MD5 sums
packaged installation of 'GSALightning' as GSALightning_1.8.0.zip
* DONE (GSALightning)
In R CMD INSTALL
In R CMD INSTALL