| Back to Multiple platform build/check report for BioC 3.7 | 
 | 
This page was generated on 2018-10-17 08:57:29 -0400 (Wed, 17 Oct 2018).
| Package 653/1561 | Hostname | OS / Arch | INSTALL | BUILD | CHECK | BUILD BIN | ||||||
| GRridge 1.4.0 Mark A. van de Wiel 
 | malbec2 | Linux (Ubuntu 16.04.1 LTS) / x86_64 | OK | OK | WARNINGS |  | ||||||
| tokay2 | Windows Server 2012 R2 Standard / x64 | OK | OK | WARNINGS | OK |  | ||||||
| merida2 | OS X 10.11.6 El Capitan / x86_64 | OK | [ OK ] | WARNINGS | OK |  | 
| Package: GRridge | 
| Version: 1.4.0 | 
| Command: /Library/Frameworks/R.framework/Versions/Current/Resources/bin/R CMD build --keep-empty-dirs --no-resave-data GRridge | 
| StartedAt: 2018-10-16 18:38:28 -0400 (Tue, 16 Oct 2018) | 
| EndedAt: 2018-10-16 18:38:59 -0400 (Tue, 16 Oct 2018) | 
| EllapsedTime: 30.6 seconds | 
| RetCode: 0 | 
| Status: OK | 
| PackageFile: GRridge_1.4.0.tar.gz | 
| PackageFileSize: 8.74 MiB | 
############################################################################## ############################################################################## ### ### Running command: ### ### /Library/Frameworks/R.framework/Versions/Current/Resources/bin/R CMD build --keep-empty-dirs --no-resave-data GRridge ### ############################################################################## ############################################################################## * checking for file ‘GRridge/DESCRIPTION’ ... OK * preparing ‘GRridge’: * checking DESCRIPTION meta-information ... OK * installing the package to build vignettes * creating vignettes ... OK * checking for LF line-endings in source and make files and shell scripts * checking for empty or unneeded directories * looking to see if a ‘data/datalist’ file should be added * building ‘GRridge_1.4.0.tar.gz’