| Back to Multiple platform build/check report for BioC 3.7 |
|
This page was generated on 2018-10-17 08:22:36 -0400 (Wed, 17 Oct 2018).
| Package 632/1561 | Hostname | OS / Arch | INSTALL | BUILD | CHECK | BUILD BIN | ||||||
| GOSemSim 2.6.2 Guangchuang Yu
| malbec2 | Linux (Ubuntu 16.04.1 LTS) / x86_64 | [ OK ] | OK | OK | |||||||
| tokay2 | Windows Server 2012 R2 Standard / x64 | OK | OK | OK | OK | |||||||
| merida2 | OS X 10.11.6 El Capitan / x86_64 | OK | OK | OK | OK |
| Package: GOSemSim |
| Version: 2.6.2 |
| Command: /home/biocbuild/bbs-3.7-bioc/R/bin/R CMD INSTALL GOSemSim |
| StartedAt: 2018-10-15 18:01:58 -0400 (Mon, 15 Oct 2018) |
| EndedAt: 2018-10-15 18:02:12 -0400 (Mon, 15 Oct 2018) |
| EllapsedTime: 13.8 seconds |
| RetCode: 0 |
| Status: OK |
##############################################################################
##############################################################################
###
### Running command:
###
### /home/biocbuild/bbs-3.7-bioc/R/bin/R CMD INSTALL GOSemSim
###
##############################################################################
##############################################################################
* installing to library ‘/home/biocbuild/bbs-3.7-bioc/R/library’
* installing *source* package ‘GOSemSim’ ...
** libs
g++ -I"/home/biocbuild/bbs-3.7-bioc/R/include" -DNDEBUG -I"/home/biocbuild/bbs-3.7-bioc/R/library/Rcpp/include" -I/usr/local/include -fpic -g -O2 -Wall -c ICmethod.cpp -o ICmethod.o
ICmethod.cpp: In function ‘Rcpp::NumericMatrix infoContentMethod_cpp(Rcpp::StringVector&, Rcpp::StringVector&, Rcpp::List&, Rcpp::NumericVector&, const string&, const string&)’:
ICmethod.cpp:82:29: warning: comparison between signed and unsigned integer expressions [-Wsign-compare]
for (std::size_t i=0; i < ic_.size(); i++ ) {
^
ICmethod.cpp:88:29: warning: comparison between signed and unsigned integer expressions [-Wsign-compare]
for (std::size_t i=0; i < ic_.size(); i++ ) {
^
ICmethod.cpp:107:29: warning: comparison between signed and unsigned integer expressions [-Wsign-compare]
for (std::size_t i=0; i < anc_.size(); i++ ) {
^
ICmethod.cpp:118:30: warning: comparison between signed and unsigned integer expressions [-Wsign-compare]
for ( std::size_t i = 0; i < id1_.size(); i++ ) {
^
ICmethod.cpp:125:34: warning: comparison between signed and unsigned integer expressions [-Wsign-compare]
for ( std::size_t j = 0; j < id2_.size(); j++ ) {
^
ICmethod.cpp:152:34: warning: comparison between signed and unsigned integer expressions [-Wsign-compare]
for ( std::size_t j = 0; j < id2_.size(); j++ ) {
^
g++ -I"/home/biocbuild/bbs-3.7-bioc/R/include" -DNDEBUG -I"/home/biocbuild/bbs-3.7-bioc/R/library/Rcpp/include" -I/usr/local/include -fpic -g -O2 -Wall -c RcppExports.cpp -o RcppExports.o
g++ -shared -L/home/biocbuild/bbs-3.7-bioc/R/lib -L/usr/local/lib -o GOSemSim.so ICmethod.o RcppExports.o -L/home/biocbuild/bbs-3.7-bioc/R/lib -lR
installing to /home/biocbuild/bbs-3.7-bioc/R/library/GOSemSim/libs
** R
** data
** inst
** byte-compile and prepare package for lazy loading
** help
*** installing help indices
** building package indices
** installing vignettes
** testing if installed package can be loaded
* DONE (GOSemSim)