| Back to Multiple platform build/check report for BioC 3.7 | 
 | 
This page was generated on 2018-10-17 08:29:59 -0400 (Wed, 17 Oct 2018).
| Package 618/1561 | Hostname | OS / Arch | INSTALL | BUILD | CHECK | BUILD BIN | ||||||
| GISPA 1.4.0 Bhakti Dwivedi 
 | malbec2 | Linux (Ubuntu 16.04.1 LTS) / x86_64 | OK | [ OK ] | OK |  | ||||||
| tokay2 | Windows Server 2012 R2 Standard / x64 | OK | OK | OK | OK |  | ||||||
| merida2 | OS X 10.11.6 El Capitan / x86_64 | OK | OK | OK | OK |  | 
| Package: GISPA | 
| Version: 1.4.0 | 
| Command: /home/biocbuild/bbs-3.7-bioc/R/bin/R CMD build --keep-empty-dirs --no-resave-data GISPA | 
| StartedAt: 2018-10-15 21:33:37 -0400 (Mon, 15 Oct 2018) | 
| EndedAt: 2018-10-15 21:33:57 -0400 (Mon, 15 Oct 2018) | 
| EllapsedTime: 19.9 seconds | 
| RetCode: 0 | 
| Status: OK | 
| PackageFile: GISPA_1.4.0.tar.gz | 
| PackageFileSize: 261.9 KiB | 
############################################################################## ############################################################################## ### ### Running command: ### ### /home/biocbuild/bbs-3.7-bioc/R/bin/R CMD build --keep-empty-dirs --no-resave-data GISPA ### ############################################################################## ############################################################################## * checking for file ‘GISPA/DESCRIPTION’ ... OK * preparing ‘GISPA’: * checking DESCRIPTION meta-information ... OK * installing the package to build vignettes * creating vignettes ... OK * checking for LF line-endings in source and make files and shell scripts * checking for empty or unneeded directories * looking to see if a ‘data/datalist’ file should be added * building ‘GISPA_1.4.0.tar.gz’