| Back to Multiple platform build/check report for BioC 3.7 |
|
This page was generated on 2018-10-17 08:44:01 -0400 (Wed, 17 Oct 2018).
| Package 536/1561 | Hostname | OS / Arch | INSTALL | BUILD | CHECK | BUILD BIN | ||||||
| GA4GHshiny 1.2.0 Welliton Souza
| malbec2 | Linux (Ubuntu 16.04.1 LTS) / x86_64 | OK | OK | OK | |||||||
| tokay2 | Windows Server 2012 R2 Standard / x64 | OK | OK | OK | [ OK ] | |||||||
| merida2 | OS X 10.11.6 El Capitan / x86_64 | OK | OK | OK | OK |
| Package: GA4GHshiny |
| Version: 1.2.0 |
| Command: rm -rf GA4GHshiny.buildbin-libdir && mkdir GA4GHshiny.buildbin-libdir && C:\Users\biocbuild\bbs-3.7-bioc\R\bin\R.exe CMD INSTALL --merge-multiarch --build --library=GA4GHshiny.buildbin-libdir GA4GHshiny_1.2.0.tar.gz |
| StartedAt: 2018-10-17 06:21:06 -0400 (Wed, 17 Oct 2018) |
| EndedAt: 2018-10-17 06:21:48 -0400 (Wed, 17 Oct 2018) |
| EllapsedTime: 42.2 seconds |
| RetCode: 0 |
| Status: OK |
| PackageFile: GA4GHshiny_1.2.0.zip |
| PackageFileSize: 342 KiB |
##############################################################################
##############################################################################
###
### Running command:
###
### rm -rf GA4GHshiny.buildbin-libdir && mkdir GA4GHshiny.buildbin-libdir && C:\Users\biocbuild\bbs-3.7-bioc\R\bin\R.exe CMD INSTALL --merge-multiarch --build --library=GA4GHshiny.buildbin-libdir GA4GHshiny_1.2.0.tar.gz
###
##############################################################################
##############################################################################
install for i386
* installing *source* package 'GA4GHshiny' ...
** R
** inst
** byte-compile and prepare package for lazy loading
** help
*** installing help indices
converting help for package 'GA4GHshiny'
finding HTML links ... done
GA4GHshiny-package html
app html
countGenotype html
** building package indices
** installing vignettes
** testing if installed package can be loaded
In R CMD INSTALL
install for x64
* installing *source* package 'GA4GHshiny' ...
** testing if installed package can be loaded
* MD5 sums
packaged installation of 'GA4GHshiny' as GA4GHshiny_1.2.0.zip
* DONE (GA4GHshiny)
In R CMD INSTALL
In R CMD INSTALL