| Back to Multiple platform build/check report for BioC 3.7 |
|
This page was generated on 2018-07-24 11:05:06 -0400 (Tue, 24 Jul 2018).
| Package 486/1560 | Hostname | OS / Arch | INSTALL | BUILD | CHECK | BUILD BIN | ||||||
| FGNet 3.14.0 Sara Aibar
| malbec2 | Linux (Ubuntu 16.04.1 LTS) / x86_64 | OK | OK | ERROR | |||||||
| tokay2 | Windows Server 2012 R2 Standard / x64 | OK | OK | ERROR | [ OK ] | |||||||
| merida2 | OS X 10.11.6 El Capitan / x86_64 | OK | OK | ERROR | OK |
| Package: FGNet |
| Version: 3.14.0 |
| Command: rm -rf FGNet.buildbin-libdir && mkdir FGNet.buildbin-libdir && C:\Users\biocbuild\bbs-3.7-bioc\R\bin\R.exe CMD INSTALL --merge-multiarch --build --library=FGNet.buildbin-libdir FGNet_3.14.0.tar.gz |
| StartedAt: 2018-07-24 06:18:17 -0400 (Tue, 24 Jul 2018) |
| EndedAt: 2018-07-24 06:18:32 -0400 (Tue, 24 Jul 2018) |
| EllapsedTime: 15.1 seconds |
| RetCode: 0 |
| Status: OK |
| PackageFile: FGNet_3.14.0.zip |
| PackageFileSize: 3.026 MiB |
##############################################################################
##############################################################################
###
### Running command:
###
### rm -rf FGNet.buildbin-libdir && mkdir FGNet.buildbin-libdir && C:\Users\biocbuild\bbs-3.7-bioc\R\bin\R.exe CMD INSTALL --merge-multiarch --build --library=FGNet.buildbin-libdir FGNet_3.14.0.tar.gz
###
##############################################################################
##############################################################################
install for i386
* installing *source* package 'FGNet' ...
** R
** data
** inst
** byte-compile and prepare package for lazy loading
** help
*** installing help indices
converting help for package 'FGNet'
finding HTML links ... done
FGNet-package html
FGNet_GUI html
FGNet_report html
analyzeNetwork html
clustersDistance html
data html
fea2incidMat html
fea_david html
fea_gage html
fea_gtLinker html
fea_topGO html
format_david html
format_results html
functionalNetwork html
getTerms html
keywordsTerm html
plotGoAncestors html
plotKegg html
readGeneTermSets html
** building package indices
** installing vignettes
** testing if installed package can be loaded
In R CMD INSTALL
install for x64
* installing *source* package 'FGNet' ...
** testing if installed package can be loaded
* MD5 sums
packaged installation of 'FGNet' as FGNet_3.14.0.zip
* DONE (FGNet)
In R CMD INSTALL
In R CMD INSTALL