| Back to Multiple platform build/check report for BioC 3.7 | 
 | 
This page was generated on 2018-10-17 08:58:32 -0400 (Wed, 17 Oct 2018).
| Package 452/1561 | Hostname | OS / Arch | INSTALL | BUILD | CHECK | BUILD BIN | ||||||
| EpiDISH 1.2.0 Shijie Charles Zheng 
 | malbec2 | Linux (Ubuntu 16.04.1 LTS) / x86_64 | OK | OK | OK |  | ||||||
| tokay2 | Windows Server 2012 R2 Standard / x64 | OK | OK | OK | OK |  | ||||||
| merida2 | OS X 10.11.6 El Capitan / x86_64 | OK | OK | OK | [ OK ] |  | 
| Package: EpiDISH | 
| Version: 1.2.0 | 
| Command: rm -rf EpiDISH.buildbin-libdir && mkdir EpiDISH.buildbin-libdir && /Users/biocbuild/BBS/utils/build-universal.sh EpiDISH_1.2.0.tar.gz /Library/Frameworks/R.framework/Versions/Current/Resources/bin/R EpiDISH.buildbin-libdir | 
| StartedAt: 2018-10-17 01:17:08 -0400 (Wed, 17 Oct 2018) | 
| EndedAt: 2018-10-17 01:18:03 -0400 (Wed, 17 Oct 2018) | 
| EllapsedTime: 55.4 seconds | 
| RetCode: 0 | 
| Status: OK | 
| PackageFile: EpiDISH_1.2.0.tgz | 
| PackageFileSize: 269.1 KiB | 
############################################################################## ############################################################################## ### ### Running command: ### ### rm -rf EpiDISH.buildbin-libdir && mkdir EpiDISH.buildbin-libdir && /Users/biocbuild/BBS/utils/build-universal.sh EpiDISH_1.2.0.tar.gz /Library/Frameworks/R.framework/Versions/Current/Resources/bin/R EpiDISH.buildbin-libdir ### ############################################################################## ############################################################################## >>>>>>> >>>>>>> INSTALLATION WITH 'R CMD INSTALL --preclean --no-multiarch --library=EpiDISH.buildbin-libdir EpiDISH_1.2.0.tar.gz' >>>>>>> * installing *source* package ‘EpiDISH’ ... ** R ** data *** moving datasets to lazyload DB ** inst ** byte-compile and prepare package for lazy loading ** help *** installing help indices ** building package indices ** installing vignettes ** testing if installed package can be loaded * DONE (EpiDISH)