| Back to Multiple platform build/check report for BioC 3.7 |
|
This page was generated on 2018-10-17 08:31:07 -0400 (Wed, 17 Oct 2018).
| Package 412/1561 | Hostname | OS / Arch | INSTALL | BUILD | CHECK | BUILD BIN | ||||||
| DropletUtils 1.0.3 Aaron Lun
| malbec2 | Linux (Ubuntu 16.04.1 LTS) / x86_64 | OK | OK | [ OK ] | |||||||
| tokay2 | Windows Server 2012 R2 Standard / x64 | OK | OK | OK | OK | |||||||
| merida2 | OS X 10.11.6 El Capitan / x86_64 | OK | OK | OK | OK |
| Package: DropletUtils |
| Version: 1.0.3 |
| Command: /home/biocbuild/bbs-3.7-bioc/R/bin/R CMD check --install=check:DropletUtils.install-out.txt --library=/home/biocbuild/bbs-3.7-bioc/R/library --no-vignettes --timings DropletUtils_1.0.3.tar.gz |
| StartedAt: 2018-10-16 00:01:00 -0400 (Tue, 16 Oct 2018) |
| EndedAt: 2018-10-16 00:03:47 -0400 (Tue, 16 Oct 2018) |
| EllapsedTime: 166.8 seconds |
| RetCode: 0 |
| Status: OK |
| CheckDir: DropletUtils.Rcheck |
| Warnings: 0 |
############################################################################## ############################################################################## ### ### Running command: ### ### /home/biocbuild/bbs-3.7-bioc/R/bin/R CMD check --install=check:DropletUtils.install-out.txt --library=/home/biocbuild/bbs-3.7-bioc/R/library --no-vignettes --timings DropletUtils_1.0.3.tar.gz ### ############################################################################## ############################################################################## * using log directory ‘/home/biocbuild/bbs-3.7-bioc/meat/DropletUtils.Rcheck’ * using R version 3.5.1 Patched (2018-07-12 r74967) * using platform: x86_64-pc-linux-gnu (64-bit) * using session charset: UTF-8 * using option ‘--no-vignettes’ * checking for file ‘DropletUtils/DESCRIPTION’ ... OK * this is package ‘DropletUtils’ version ‘1.0.3’ * checking package namespace information ... OK * checking package dependencies ... OK * checking if this is a source package ... OK * checking if there is a namespace ... OK * checking for hidden files and directories ... OK * checking for portable file names ... OK * checking for sufficient/correct file permissions ... OK * checking whether package ‘DropletUtils’ can be installed ... OK * checking installed package size ... OK * checking package directory ... OK * checking ‘build’ directory ... OK * checking DESCRIPTION meta-information ... OK * checking top-level files ... OK * checking for left-over files ... OK * checking index information ... OK * checking package subdirectories ... OK * checking R files for non-ASCII characters ... OK * checking R files for syntax errors ... OK * checking whether the package can be loaded ... OK * checking whether the package can be loaded with stated dependencies ... OK * checking whether the package can be unloaded cleanly ... OK * checking whether the namespace can be loaded with stated dependencies ... OK * checking whether the namespace can be unloaded cleanly ... OK * checking dependencies in R code ... OK * checking S3 generic/method consistency ... OK * checking replacement functions ... OK * checking foreign function calls ... OK * checking R code for possible problems ... OK * checking Rd files ... OK * checking Rd metadata ... OK * checking Rd cross-references ... OK * checking for missing documentation entries ... OK * checking for code/documentation mismatches ... OK * checking Rd \usage sections ... OK * checking Rd contents ... OK * checking for unstated dependencies in examples ... OK * checking line endings in C/C++/Fortran sources/headers ... OK * checking line endings in Makefiles ... OK * checking compilation flags in Makevars ... OK * checking for GNU extensions in Makefiles ... OK * checking for portable use of $(BLAS_LIBS) and $(LAPACK_LIBS) ... OK * checking compiled code ... NOTE Note: information on .o files is not available * checking files in ‘vignettes’ ... OK * checking examples ... OK * checking for unstated dependencies in ‘tests’ ... OK * checking tests ... Running ‘testthat.R’ OK * checking for unstated dependencies in vignettes ... OK * checking package vignettes in ‘inst/doc’ ... OK * checking running R code from vignettes ... SKIPPED * checking re-building of vignette outputs ... SKIPPED * checking PDF version of manual ... OK * DONE Status: 1 NOTE See ‘/home/biocbuild/bbs-3.7-bioc/meat/DropletUtils.Rcheck/00check.log’ for details.
DropletUtils.Rcheck/00install.out
############################################################################## ############################################################################## ### ### Running command: ### ### /home/biocbuild/bbs-3.7-bioc/R/bin/R CMD INSTALL DropletUtils ### ############################################################################## ############################################################################## * installing to library ‘/home/biocbuild/bbs-3.7-bioc/R/library’ * installing *source* package ‘DropletUtils’ ... ** libs g++ -std=gnu++11 -I"/home/biocbuild/bbs-3.7-bioc/R/include" -DNDEBUG -I"/home/biocbuild/bbs-3.7-bioc/R/library/Rcpp/include" -I"/home/biocbuild/bbs-3.7-bioc/R/library/beachmat/include" -I"/home/biocbuild/bbs-3.7-bioc/R/library/Rhdf5lib/include" -I/usr/local/include -fpic -g -O2 -c compute_multinom.cpp -o compute_multinom.o g++ -std=gnu++11 -I"/home/biocbuild/bbs-3.7-bioc/R/include" -DNDEBUG -I"/home/biocbuild/bbs-3.7-bioc/R/library/Rcpp/include" -I"/home/biocbuild/bbs-3.7-bioc/R/library/beachmat/include" -I"/home/biocbuild/bbs-3.7-bioc/R/library/Rhdf5lib/include" -I/usr/local/include -fpic -g -O2 -c downsample_counts.cpp -o downsample_counts.o g++ -std=gnu++11 -I"/home/biocbuild/bbs-3.7-bioc/R/include" -DNDEBUG -I"/home/biocbuild/bbs-3.7-bioc/R/library/Rcpp/include" -I"/home/biocbuild/bbs-3.7-bioc/R/library/beachmat/include" -I"/home/biocbuild/bbs-3.7-bioc/R/library/Rhdf5lib/include" -I/usr/local/include -fpic -g -O2 -c find_swapped.cpp -o find_swapped.o g++ -std=gnu++11 -I"/home/biocbuild/bbs-3.7-bioc/R/include" -DNDEBUG -I"/home/biocbuild/bbs-3.7-bioc/R/library/Rcpp/include" -I"/home/biocbuild/bbs-3.7-bioc/R/library/beachmat/include" -I"/home/biocbuild/bbs-3.7-bioc/R/library/Rhdf5lib/include" -I/usr/local/include -fpic -g -O2 -c get_cell_barcodes.cpp -o get_cell_barcodes.o g++ -std=gnu++11 -I"/home/biocbuild/bbs-3.7-bioc/R/include" -DNDEBUG -I"/home/biocbuild/bbs-3.7-bioc/R/library/Rcpp/include" -I"/home/biocbuild/bbs-3.7-bioc/R/library/beachmat/include" -I"/home/biocbuild/bbs-3.7-bioc/R/library/Rhdf5lib/include" -I/usr/local/include -fpic -g -O2 -c init.cpp -o init.o g++ -std=gnu++11 -I"/home/biocbuild/bbs-3.7-bioc/R/include" -DNDEBUG -I"/home/biocbuild/bbs-3.7-bioc/R/library/Rcpp/include" -I"/home/biocbuild/bbs-3.7-bioc/R/library/beachmat/include" -I"/home/biocbuild/bbs-3.7-bioc/R/library/Rhdf5lib/include" -I/usr/local/include -fpic -g -O2 -c load_tenx_to_hdf5.cpp -o load_tenx_to_hdf5.o g++ -std=gnu++11 -I"/home/biocbuild/bbs-3.7-bioc/R/include" -DNDEBUG -I"/home/biocbuild/bbs-3.7-bioc/R/library/Rcpp/include" -I"/home/biocbuild/bbs-3.7-bioc/R/library/beachmat/include" -I"/home/biocbuild/bbs-3.7-bioc/R/library/Rhdf5lib/include" -I/usr/local/include -fpic -g -O2 -c montecarlo_pval.cpp -o montecarlo_pval.o g++ -std=gnu++11 -I"/home/biocbuild/bbs-3.7-bioc/R/include" -DNDEBUG -I"/home/biocbuild/bbs-3.7-bioc/R/library/Rcpp/include" -I"/home/biocbuild/bbs-3.7-bioc/R/library/beachmat/include" -I"/home/biocbuild/bbs-3.7-bioc/R/library/Rhdf5lib/include" -I/usr/local/include -fpic -g -O2 -c utils.cpp -o utils.o g++ -std=gnu++11 -shared -L/home/biocbuild/bbs-3.7-bioc/R/lib -L/usr/local/lib -o DropletUtils.so compute_multinom.o downsample_counts.o find_swapped.o get_cell_barcodes.o init.o load_tenx_to_hdf5.o montecarlo_pval.o utils.o -L/home/biocbuild/bbs-3.7-bioc/R/library/beachmat/lib -Wl,-rpath,/home/biocbuild/bbs-3.7-bioc/R/library/beachmat/lib -lbeachmat -pthread -L/home/biocbuild/bbs-3.7-bioc/R/lib -lR installing to /home/biocbuild/bbs-3.7-bioc/R/library/DropletUtils/libs ** R ** inst ** byte-compile and prepare package for lazy loading ** help *** installing help indices ** building package indices ** installing vignettes ** testing if installed package can be loaded * DONE (DropletUtils)
DropletUtils.Rcheck/tests/testthat.Rout
R version 3.5.1 Patched (2018-07-12 r74967) -- "Feather Spray"
Copyright (C) 2018 The R Foundation for Statistical Computing
Platform: x86_64-pc-linux-gnu (64-bit)
R is free software and comes with ABSOLUTELY NO WARRANTY.
You are welcome to redistribute it under certain conditions.
Type 'license()' or 'licence()' for distribution details.
R is a collaborative project with many contributors.
Type 'contributors()' for more information and
'citation()' on how to cite R or R packages in publications.
Type 'demo()' for some demos, 'help()' for on-line help, or
'help.start()' for an HTML browser interface to help.
Type 'q()' to quit R.
> library(testthat)
> library(DropletUtils)
Loading required package: BiocParallel
Loading required package: SingleCellExperiment
Loading required package: SummarizedExperiment
Loading required package: GenomicRanges
Loading required package: stats4
Loading required package: BiocGenerics
Loading required package: parallel
Attaching package: 'BiocGenerics'
The following objects are masked from 'package:parallel':
clusterApply, clusterApplyLB, clusterCall, clusterEvalQ,
clusterExport, clusterMap, parApply, parCapply, parLapply,
parLapplyLB, parRapply, parSapply, parSapplyLB
The following objects are masked from 'package:stats':
IQR, mad, sd, var, xtabs
The following objects are masked from 'package:base':
Filter, Find, Map, Position, Reduce, anyDuplicated, append,
as.data.frame, basename, cbind, colMeans, colSums, colnames,
dirname, do.call, duplicated, eval, evalq, get, grep, grepl,
intersect, is.unsorted, lapply, lengths, mapply, match, mget,
order, paste, pmax, pmax.int, pmin, pmin.int, rank, rbind,
rowMeans, rowSums, rownames, sapply, setdiff, sort, table, tapply,
union, unique, unsplit, which, which.max, which.min
Loading required package: S4Vectors
Attaching package: 'S4Vectors'
The following object is masked from 'package:base':
expand.grid
Loading required package: IRanges
Loading required package: GenomeInfoDb
Loading required package: Biobase
Welcome to Bioconductor
Vignettes contain introductory material; view with
'browseVignettes()'. To cite Bioconductor, see
'citation("Biobase")', and for packages 'citation("pkgname")'.
Loading required package: DelayedArray
Loading required package: matrixStats
Attaching package: 'matrixStats'
The following objects are masked from 'package:Biobase':
anyMissing, rowMedians
Attaching package: 'DelayedArray'
The following objects are masked from 'package:matrixStats':
colMaxs, colMins, colRanges, rowMaxs, rowMins, rowRanges
The following objects are masked from 'package:base':
aperm, apply
> test_check("DropletUtils")
══ testthat results ═══════════════════════════════════════════════════════════
OK: 602 SKIPPED: 0 FAILED: 0
>
> proc.time()
user system elapsed
53.564 0.364 53.985
DropletUtils.Rcheck/DropletUtils-Ex.timings
| name | user | system | elapsed | |
| barcodeRanks | 0.652 | 0.016 | 0.665 | |
| defaultDrops | 0.192 | 0.008 | 0.202 | |
| downsampleMatrix | 0.312 | 0.000 | 0.331 | |
| downsampleReads | 0.272 | 0.024 | 0.307 | |
| emptyDrops | 2.848 | 0.004 | 2.857 | |
| makeCountMatrix | 0.004 | 0.000 | 0.006 | |
| read10xCounts | 0.096 | 0.000 | 0.093 | |
| read10xMatrix | 0.160 | 0.004 | 0.177 | |
| read10xMolInfo | 0.144 | 0.000 | 0.142 | |
| swappedDrops | 0.440 | 0.024 | 0.467 | |
| write10xCounts | 0.012 | 0.000 | 0.011 | |