| Back to Multiple platform build/check report for BioC 3.7 |
|
This page was generated on 2018-10-17 08:36:46 -0400 (Wed, 17 Oct 2018).
| Package 411/1561 | Hostname | OS / Arch | INSTALL | BUILD | CHECK | BUILD BIN | ||||||
| DriverNet 1.20.0 Jiarui Ding
| malbec2 | Linux (Ubuntu 16.04.1 LTS) / x86_64 | OK | OK | OK | |||||||
| tokay2 | Windows Server 2012 R2 Standard / x64 | [ OK ] | OK | OK | OK | |||||||
| merida2 | OS X 10.11.6 El Capitan / x86_64 | OK | OK | OK | OK |
| Package: DriverNet |
| Version: 1.20.0 |
| Command: C:\cygwin\bin\curl.exe -O https://malbec2.bioconductor.org/BBS/3.7/bioc/src/contrib/DriverNet_1.20.0.tar.gz && rm -rf DriverNet.buildbin-libdir && mkdir DriverNet.buildbin-libdir && C:\Users\biocbuild\bbs-3.7-bioc\R\bin\R.exe CMD INSTALL --merge-multiarch --build --library=DriverNet.buildbin-libdir DriverNet_1.20.0.tar.gz && C:\Users\biocbuild\bbs-3.7-bioc\R\bin\R.exe CMD INSTALL DriverNet_1.20.0.zip && rm DriverNet_1.20.0.tar.gz DriverNet_1.20.0.zip |
| StartedAt: 2018-10-16 18:34:53 -0400 (Tue, 16 Oct 2018) |
| EndedAt: 2018-10-16 18:35:35 -0400 (Tue, 16 Oct 2018) |
| EllapsedTime: 41.4 seconds |
| RetCode: 0 |
| Status: OK |
##############################################################################
##############################################################################
###
### Running command:
###
### C:\cygwin\bin\curl.exe -O https://malbec2.bioconductor.org/BBS/3.7/bioc/src/contrib/DriverNet_1.20.0.tar.gz && rm -rf DriverNet.buildbin-libdir && mkdir DriverNet.buildbin-libdir && C:\Users\biocbuild\bbs-3.7-bioc\R\bin\R.exe CMD INSTALL --merge-multiarch --build --library=DriverNet.buildbin-libdir DriverNet_1.20.0.tar.gz && C:\Users\biocbuild\bbs-3.7-bioc\R\bin\R.exe CMD INSTALL DriverNet_1.20.0.zip && rm DriverNet_1.20.0.tar.gz DriverNet_1.20.0.zip
###
##############################################################################
##############################################################################
% Total % Received % Xferd Average Speed Time Time Time Current
Dload Upload Total Spent Left Speed
0 0 0 0 0 0 0 0 --:--:-- --:--:-- --:--:-- 0
100 1016k 100 1016k 0 0 14.6M 0 --:--:-- --:--:-- --:--:-- 16.5M
install for i386
* installing *source* package 'DriverNet' ...
** R
** data
** byte-compile and prepare package for lazy loading
** help
*** installing help indices
converting help for package 'DriverNet'
finding HTML links ... done
DriverNet-package html
DriverNetResult-class html
actualEvents html
computeDrivers html
computeRandomizedResult html
drivers html
getPatientOutlierMatrix html
preprocessMatrices html
resultSummary html
sampleDriversList html
sampleGeneNames html
sampleInfluenceGraph html
samplePatientExpressionMatrix html
samplePatientMutationMatrix html
samplePatientOutlierMatrix html
sampleRandomDriversResult html
totalEvents html
** building package indices
** installing vignettes
** testing if installed package can be loaded
In R CMD INSTALL
install for x64
* installing *source* package 'DriverNet' ...
** testing if installed package can be loaded
* MD5 sums
packaged installation of 'DriverNet' as DriverNet_1.20.0.zip
* DONE (DriverNet)
In R CMD INSTALL
In R CMD INSTALL
* installing to library 'C:/Users/biocbuild/bbs-3.7-bioc/R/library'
package 'DriverNet' successfully unpacked and MD5 sums checked
In R CMD INSTALL