| Back to Multiple platform build/check report for BioC 3.7 |
|
This page was generated on 2018-10-17 08:41:05 -0400 (Wed, 17 Oct 2018).
| Package 387/1561 | Hostname | OS / Arch | INSTALL | BUILD | CHECK | BUILD BIN | ||||||
| DiffLogo 2.4.0 Hendrik Treutler
| malbec2 | Linux (Ubuntu 16.04.1 LTS) / x86_64 | OK | OK | OK | |||||||
| tokay2 | Windows Server 2012 R2 Standard / x64 | [ OK ] | OK | OK | OK | |||||||
| merida2 | OS X 10.11.6 El Capitan / x86_64 | OK | OK | OK | OK |
| Package: DiffLogo |
| Version: 2.4.0 |
| Command: C:\cygwin\bin\curl.exe -O https://malbec2.bioconductor.org/BBS/3.7/bioc/src/contrib/DiffLogo_2.4.0.tar.gz && rm -rf DiffLogo.buildbin-libdir && mkdir DiffLogo.buildbin-libdir && C:\Users\biocbuild\bbs-3.7-bioc\R\bin\R.exe CMD INSTALL --merge-multiarch --build --library=DiffLogo.buildbin-libdir DiffLogo_2.4.0.tar.gz && C:\Users\biocbuild\bbs-3.7-bioc\R\bin\R.exe CMD INSTALL DiffLogo_2.4.0.zip && rm DiffLogo_2.4.0.tar.gz DiffLogo_2.4.0.zip |
| StartedAt: 2018-10-16 18:35:30 -0400 (Tue, 16 Oct 2018) |
| EndedAt: 2018-10-16 18:36:37 -0400 (Tue, 16 Oct 2018) |
| EllapsedTime: 66.6 seconds |
| RetCode: 0 |
| Status: OK |
##############################################################################
##############################################################################
###
### Running command:
###
### C:\cygwin\bin\curl.exe -O https://malbec2.bioconductor.org/BBS/3.7/bioc/src/contrib/DiffLogo_2.4.0.tar.gz && rm -rf DiffLogo.buildbin-libdir && mkdir DiffLogo.buildbin-libdir && C:\Users\biocbuild\bbs-3.7-bioc\R\bin\R.exe CMD INSTALL --merge-multiarch --build --library=DiffLogo.buildbin-libdir DiffLogo_2.4.0.tar.gz && C:\Users\biocbuild\bbs-3.7-bioc\R\bin\R.exe CMD INSTALL DiffLogo_2.4.0.zip && rm DiffLogo_2.4.0.tar.gz DiffLogo_2.4.0.zip
###
##############################################################################
##############################################################################
% Total % Received % Xferd Average Speed Time Time Time Current
Dload Upload Total Spent Left Speed
0 0 0 0 0 0 0 0 --:--:-- --:--:-- --:--:-- 0
100 744k 100 744k 0 0 10.2M 0 --:--:-- --:--:-- --:--:-- 11.3M
install for i386
* installing *source* package 'DiffLogo' ...
** R
** inst
** byte-compile and prepare package for lazy loading
** help
*** installing help indices
converting help for package 'DiffLogo'
finding HTML links ... done
ASN html
Alphabet html
DNA html
FULL_ALPHABET html
RNA html
alignPwmSets html
baseDistributionPwm html
calculatePvalue html
createDiffLogoObject html
diffLogo html
diffLogoFromPwm html
diffLogoTable html
diffLogoTableConfiguration html
differenceOfICs html
drawDiffLogoTable html
enrichDiffLogoObjectWithPvalues html
enrichDiffLogoTableWithPvalues html
extendPwmsFromAlignmentVector html
getAlphabetFromCharacters html
getAlphabetFromSequences html
getPwmFromAlignment html
getPwmFromAlignmentFile html
getPwmFromFastaFile html
getPwmFromFile html
getPwmFromHomerFile html
getPwmFromPfmOrJasparFile html
getPwmFromPwmFile html
getSequencesFromAlignmentFile html
getSequencesFromFastaFile html
informationContent html
localPwmAlignment html
lossOfAbsICDifferences html
multipleLocalPwmsAlignment html
normalizePWM html
normalizedDifferenceOfProbabilities html
prepareDiffLogoTable html
probabilities html
pwmDivergence html
pwmsDistanceMatrix html
reverseAlignmentVector html
seqLogo html
shannonDivergence html
sumOfAbsICDifferences html
sumOfAbsProbabilityDifferences html
sumProbabilities html
switchDirection html
twoSetsAveragePwmDivergenceFromAlignmentVector
html
** building package indices
** installing vignettes
** testing if installed package can be loaded
In R CMD INSTALL
install for x64
* installing *source* package 'DiffLogo' ...
** testing if installed package can be loaded
* MD5 sums
packaged installation of 'DiffLogo' as DiffLogo_2.4.0.zip
* DONE (DiffLogo)
In R CMD INSTALL
In R CMD INSTALL
* installing to library 'C:/Users/biocbuild/bbs-3.7-bioc/R/library'
package 'DiffLogo' successfully unpacked and MD5 sums checked
In R CMD INSTALL