| Back to Multiple platform build/check report for BioC 3.7 |
|
This page was generated on 2018-10-17 08:35:44 -0400 (Wed, 17 Oct 2018).
| Package 382/1561 | Hostname | OS / Arch | INSTALL | BUILD | CHECK | BUILD BIN | ||||||
| DiffBind 2.8.0 Rory Stark
| malbec2 | Linux (Ubuntu 16.04.1 LTS) / x86_64 | OK | OK | OK | |||||||
| tokay2 | Windows Server 2012 R2 Standard / x64 | OK | OK | OK | [ OK ] | |||||||
| merida2 | OS X 10.11.6 El Capitan / x86_64 | OK | OK | OK | OK |
| Package: DiffBind |
| Version: 2.8.0 |
| Command: rm -rf DiffBind.buildbin-libdir && mkdir DiffBind.buildbin-libdir && C:\Users\biocbuild\bbs-3.7-bioc\R\bin\R.exe CMD INSTALL --merge-multiarch --build --library=DiffBind.buildbin-libdir DiffBind_2.8.0.tar.gz |
| StartedAt: 2018-10-17 06:15:08 -0400 (Wed, 17 Oct 2018) |
| EndedAt: 2018-10-17 06:19:22 -0400 (Wed, 17 Oct 2018) |
| EllapsedTime: 253.2 seconds |
| RetCode: 0 |
| Status: OK |
| PackageFile: DiffBind_2.8.0.zip |
| PackageFileSize: 2.924 MiB |
##############################################################################
##############################################################################
###
### Running command:
###
### rm -rf DiffBind.buildbin-libdir && mkdir DiffBind.buildbin-libdir && C:\Users\biocbuild\bbs-3.7-bioc\R\bin\R.exe CMD INSTALL --merge-multiarch --build --library=DiffBind.buildbin-libdir DiffBind_2.8.0.tar.gz
###
##############################################################################
##############################################################################
install for i386
* installing *source* package 'DiffBind' ...
** libs
C:/Rtools/mingw_32/bin/g++ -I"C:/Users/biocbuild/bbs-3.7-bioc/R/library/zlibbioc/include" -I"C:/Users/BIOCBU˜1/BBS-3˜1.7-B/R/include" -DNDEBUG -D_USE_KNETFILE -DBGZF_CACHE -D_FILE_OFFSET_BITS=64 -D_LARGEFILE64_SOURCE -I"C:/Users/biocbuild/bbs-3.7-bioc/R/library/zlibbioc/include" -I"C:/Users/biocbuild/bbs-3.7-bioc/R/library/Rsamtools/include" -I"C:/Users/biocbuild/bbs-3.7-bioc/R/library/Rcpp/include" -I"C:/extsoft/include" -O2 -Wall -mtune=generic -c RcppExports.cpp -o RcppExports.o
C:/Rtools/mingw_32/bin/g++ -I"C:/Users/biocbuild/bbs-3.7-bioc/R/library/zlibbioc/include" -I"C:/Users/BIOCBU˜1/BBS-3˜1.7-B/R/include" -DNDEBUG -D_USE_KNETFILE -DBGZF_CACHE -D_FILE_OFFSET_BITS=64 -D_LARGEFILE64_SOURCE -I"C:/Users/biocbuild/bbs-3.7-bioc/R/library/zlibbioc/include" -I"C:/Users/biocbuild/bbs-3.7-bioc/R/library/Rsamtools/include" -I"C:/Users/biocbuild/bbs-3.7-bioc/R/library/Rcpp/include" -I"C:/extsoft/include" -O2 -Wall -mtune=generic -c bamReader.cpp -o bamReader.o
C:/Rtools/mingw_32/bin/g++ -I"C:/Users/biocbuild/bbs-3.7-bioc/R/library/zlibbioc/include" -I"C:/Users/BIOCBU˜1/BBS-3˜1.7-B/R/include" -DNDEBUG -D_USE_KNETFILE -DBGZF_CACHE -D_FILE_OFFSET_BITS=64 -D_LARGEFILE64_SOURCE -I"C:/Users/biocbuild/bbs-3.7-bioc/R/library/zlibbioc/include" -I"C:/Users/biocbuild/bbs-3.7-bioc/R/library/Rsamtools/include" -I"C:/Users/biocbuild/bbs-3.7-bioc/R/library/Rcpp/include" -I"C:/extsoft/include" -O2 -Wall -mtune=generic -c bedReader.cpp -o bedReader.o
C:/Rtools/mingw_32/bin/g++ -I"C:/Users/biocbuild/bbs-3.7-bioc/R/library/zlibbioc/include" -I"C:/Users/BIOCBU˜1/BBS-3˜1.7-B/R/include" -DNDEBUG -D_USE_KNETFILE -DBGZF_CACHE -D_FILE_OFFSET_BITS=64 -D_LARGEFILE64_SOURCE -I"C:/Users/biocbuild/bbs-3.7-bioc/R/library/zlibbioc/include" -I"C:/Users/biocbuild/bbs-3.7-bioc/R/library/Rsamtools/include" -I"C:/Users/biocbuild/bbs-3.7-bioc/R/library/Rcpp/include" -I"C:/extsoft/include" -O2 -Wall -mtune=generic -c bitBucket.cpp -o bitBucket.o
C:/Rtools/mingw_32/bin/g++ -I"C:/Users/biocbuild/bbs-3.7-bioc/R/library/zlibbioc/include" -I"C:/Users/BIOCBU˜1/BBS-3˜1.7-B/R/include" -DNDEBUG -D_USE_KNETFILE -DBGZF_CACHE -D_FILE_OFFSET_BITS=64 -D_LARGEFILE64_SOURCE -I"C:/Users/biocbuild/bbs-3.7-bioc/R/library/zlibbioc/include" -I"C:/Users/biocbuild/bbs-3.7-bioc/R/library/Rsamtools/include" -I"C:/Users/biocbuild/bbs-3.7-bioc/R/library/Rcpp/include" -I"C:/extsoft/include" -O2 -Wall -mtune=generic -c croi_func.cpp -o croi_func.o
C:/Rtools/mingw_32/bin/g++ -I"C:/Users/biocbuild/bbs-3.7-bioc/R/library/zlibbioc/include" -I"C:/Users/BIOCBU˜1/BBS-3˜1.7-B/R/include" -DNDEBUG -D_USE_KNETFILE -DBGZF_CACHE -D_FILE_OFFSET_BITS=64 -D_LARGEFILE64_SOURCE -I"C:/Users/biocbuild/bbs-3.7-bioc/R/library/zlibbioc/include" -I"C:/Users/biocbuild/bbs-3.7-bioc/R/library/Rsamtools/include" -I"C:/Users/biocbuild/bbs-3.7-bioc/R/library/Rcpp/include" -I"C:/extsoft/include" -O2 -Wall -mtune=generic -c croi_main.cpp -o croi_main.o
C:/Rtools/mingw_32/bin/g++ -I"C:/Users/biocbuild/bbs-3.7-bioc/R/library/zlibbioc/include" -I"C:/Users/BIOCBU˜1/BBS-3˜1.7-B/R/include" -DNDEBUG -D_USE_KNETFILE -DBGZF_CACHE -D_FILE_OFFSET_BITS=64 -D_LARGEFILE64_SOURCE -I"C:/Users/biocbuild/bbs-3.7-bioc/R/library/zlibbioc/include" -I"C:/Users/biocbuild/bbs-3.7-bioc/R/library/Rsamtools/include" -I"C:/Users/biocbuild/bbs-3.7-bioc/R/library/Rcpp/include" -I"C:/extsoft/include" -O2 -Wall -mtune=generic -c densitySet.cpp -o densitySet.o
C:/Rtools/mingw_32/bin/g++ -I"C:/Users/biocbuild/bbs-3.7-bioc/R/library/zlibbioc/include" -I"C:/Users/BIOCBU˜1/BBS-3˜1.7-B/R/include" -DNDEBUG -D_USE_KNETFILE -DBGZF_CACHE -D_FILE_OFFSET_BITS=64 -D_LARGEFILE64_SOURCE -I"C:/Users/biocbuild/bbs-3.7-bioc/R/library/zlibbioc/include" -I"C:/Users/biocbuild/bbs-3.7-bioc/R/library/Rsamtools/include" -I"C:/Users/biocbuild/bbs-3.7-bioc/R/library/Rcpp/include" -I"C:/extsoft/include" -O2 -Wall -mtune=generic -c iBucket.cpp -o iBucket.o
C:/Rtools/mingw_32/bin/g++ -I"C:/Users/biocbuild/bbs-3.7-bioc/R/library/zlibbioc/include" -I"C:/Users/BIOCBU˜1/BBS-3˜1.7-B/R/include" -DNDEBUG -D_USE_KNETFILE -DBGZF_CACHE -D_FILE_OFFSET_BITS=64 -D_LARGEFILE64_SOURCE -I"C:/Users/biocbuild/bbs-3.7-bioc/R/library/zlibbioc/include" -I"C:/Users/biocbuild/bbs-3.7-bioc/R/library/Rsamtools/include" -I"C:/Users/biocbuild/bbs-3.7-bioc/R/library/Rcpp/include" -I"C:/extsoft/include" -O2 -Wall -mtune=generic -c interval.cpp -o interval.o
C:/Rtools/mingw_32/bin/g++ -I"C:/Users/biocbuild/bbs-3.7-bioc/R/library/zlibbioc/include" -I"C:/Users/BIOCBU˜1/BBS-3˜1.7-B/R/include" -DNDEBUG -D_USE_KNETFILE -DBGZF_CACHE -D_FILE_OFFSET_BITS=64 -D_LARGEFILE64_SOURCE -I"C:/Users/biocbuild/bbs-3.7-bioc/R/library/zlibbioc/include" -I"C:/Users/biocbuild/bbs-3.7-bioc/R/library/Rsamtools/include" -I"C:/Users/biocbuild/bbs-3.7-bioc/R/library/Rcpp/include" -I"C:/extsoft/include" -O2 -Wall -mtune=generic -c intervalDensity.cpp -o intervalDensity.o
C:/Rtools/mingw_32/bin/g++ -I"C:/Users/biocbuild/bbs-3.7-bioc/R/library/zlibbioc/include" -I"C:/Users/BIOCBU˜1/BBS-3˜1.7-B/R/include" -DNDEBUG -D_USE_KNETFILE -DBGZF_CACHE -D_FILE_OFFSET_BITS=64 -D_LARGEFILE64_SOURCE -I"C:/Users/biocbuild/bbs-3.7-bioc/R/library/zlibbioc/include" -I"C:/Users/biocbuild/bbs-3.7-bioc/R/library/Rsamtools/include" -I"C:/Users/biocbuild/bbs-3.7-bioc/R/library/Rcpp/include" -I"C:/extsoft/include" -O2 -Wall -mtune=generic -c intervalNode.cpp -o intervalNode.o
C:/Rtools/mingw_32/bin/g++ -I"C:/Users/biocbuild/bbs-3.7-bioc/R/library/zlibbioc/include" -I"C:/Users/BIOCBU˜1/BBS-3˜1.7-B/R/include" -DNDEBUG -D_USE_KNETFILE -DBGZF_CACHE -D_FILE_OFFSET_BITS=64 -D_LARGEFILE64_SOURCE -I"C:/Users/biocbuild/bbs-3.7-bioc/R/library/zlibbioc/include" -I"C:/Users/biocbuild/bbs-3.7-bioc/R/library/Rsamtools/include" -I"C:/Users/biocbuild/bbs-3.7-bioc/R/library/Rcpp/include" -I"C:/extsoft/include" -O2 -Wall -mtune=generic -c intervalSet.cpp -o intervalSet.o
C:/Rtools/mingw_32/bin/g++ -I"C:/Users/biocbuild/bbs-3.7-bioc/R/library/zlibbioc/include" -I"C:/Users/BIOCBU˜1/BBS-3˜1.7-B/R/include" -DNDEBUG -D_USE_KNETFILE -DBGZF_CACHE -D_FILE_OFFSET_BITS=64 -D_LARGEFILE64_SOURCE -I"C:/Users/biocbuild/bbs-3.7-bioc/R/library/zlibbioc/include" -I"C:/Users/biocbuild/bbs-3.7-bioc/R/library/Rsamtools/include" -I"C:/Users/biocbuild/bbs-3.7-bioc/R/library/Rcpp/include" -I"C:/extsoft/include" -O2 -Wall -mtune=generic -c intervalTree.cpp -o intervalTree.o
C:/Rtools/mingw_32/bin/g++ -I"C:/Users/biocbuild/bbs-3.7-bioc/R/library/zlibbioc/include" -I"C:/Users/BIOCBU˜1/BBS-3˜1.7-B/R/include" -DNDEBUG -D_USE_KNETFILE -DBGZF_CACHE -D_FILE_OFFSET_BITS=64 -D_LARGEFILE64_SOURCE -I"C:/Users/biocbuild/bbs-3.7-bioc/R/library/zlibbioc/include" -I"C:/Users/biocbuild/bbs-3.7-bioc/R/library/Rsamtools/include" -I"C:/Users/biocbuild/bbs-3.7-bioc/R/library/Rcpp/include" -I"C:/extsoft/include" -O2 -Wall -mtune=generic -c merge.cpp -o merge.o
C:/Rtools/mingw_32/bin/gcc -I"C:/Users/biocbuild/bbs-3.7-bioc/R/library/zlibbioc/include" -I"C:/Users/BIOCBU˜1/BBS-3˜1.7-B/R/include" -DNDEBUG -D_USE_KNETFILE -DBGZF_CACHE -D_FILE_OFFSET_BITS=64 -D_LARGEFILE64_SOURCE -I"C:/Users/biocbuild/bbs-3.7-bioc/R/library/zlibbioc/include" -I"C:/Users/biocbuild/bbs-3.7-bioc/R/library/Rsamtools/include" -I"C:/Users/biocbuild/bbs-3.7-bioc/R/library/Rcpp/include" -I"C:/extsoft/include" -O3 -Wall -std=gnu99 -mtune=generic -c mergeOne.c -o mergeOne.o
C:/Rtools/mingw_32/bin/g++ -I"C:/Users/biocbuild/bbs-3.7-bioc/R/library/zlibbioc/include" -I"C:/Users/BIOCBU˜1/BBS-3˜1.7-B/R/include" -DNDEBUG -D_USE_KNETFILE -DBGZF_CACHE -D_FILE_OFFSET_BITS=64 -D_LARGEFILE64_SOURCE -I"C:/Users/biocbuild/bbs-3.7-bioc/R/library/zlibbioc/include" -I"C:/Users/biocbuild/bbs-3.7-bioc/R/library/Rsamtools/include" -I"C:/Users/biocbuild/bbs-3.7-bioc/R/library/Rcpp/include" -I"C:/extsoft/include" -O2 -Wall -mtune=generic -c nodeGroup.cpp -o nodeGroup.o
C:/Rtools/mingw_32/bin/g++ -I"C:/Users/biocbuild/bbs-3.7-bioc/R/library/zlibbioc/include" -I"C:/Users/BIOCBU˜1/BBS-3˜1.7-B/R/include" -DNDEBUG -D_USE_KNETFILE -DBGZF_CACHE -D_FILE_OFFSET_BITS=64 -D_LARGEFILE64_SOURCE -I"C:/Users/biocbuild/bbs-3.7-bioc/R/library/zlibbioc/include" -I"C:/Users/biocbuild/bbs-3.7-bioc/R/library/Rsamtools/include" -I"C:/Users/biocbuild/bbs-3.7-bioc/R/library/Rcpp/include" -I"C:/extsoft/include" -O2 -Wall -mtune=generic -c peakOrder.cpp -o peakOrder.o
C:/Rtools/mingw_32/bin/g++ -I"C:/Users/biocbuild/bbs-3.7-bioc/R/library/zlibbioc/include" -I"C:/Users/BIOCBU˜1/BBS-3˜1.7-B/R/include" -DNDEBUG -D_USE_KNETFILE -DBGZF_CACHE -D_FILE_OFFSET_BITS=64 -D_LARGEFILE64_SOURCE -I"C:/Users/biocbuild/bbs-3.7-bioc/R/library/zlibbioc/include" -I"C:/Users/biocbuild/bbs-3.7-bioc/R/library/Rsamtools/include" -I"C:/Users/biocbuild/bbs-3.7-bioc/R/library/Rcpp/include" -I"C:/extsoft/include" -O2 -Wall -mtune=generic -c reader.cpp -o reader.o
C:/Rtools/mingw_32/bin/g++ -I"C:/Users/biocbuild/bbs-3.7-bioc/R/library/zlibbioc/include" -I"C:/Users/BIOCBU˜1/BBS-3˜1.7-B/R/include" -DNDEBUG -D_USE_KNETFILE -DBGZF_CACHE -D_FILE_OFFSET_BITS=64 -D_LARGEFILE64_SOURCE -I"C:/Users/biocbuild/bbs-3.7-bioc/R/library/zlibbioc/include" -I"C:/Users/biocbuild/bbs-3.7-bioc/R/library/Rsamtools/include" -I"C:/Users/biocbuild/bbs-3.7-bioc/R/library/Rcpp/include" -I"C:/extsoft/include" -O2 -Wall -mtune=generic -c sequence.cpp -o sequence.o
C:/Rtools/mingw_32/bin/g++ -I"C:/Users/biocbuild/bbs-3.7-bioc/R/library/zlibbioc/include" -I"C:/Users/BIOCBU˜1/BBS-3˜1.7-B/R/include" -DNDEBUG -D_USE_KNETFILE -DBGZF_CACHE -D_FILE_OFFSET_BITS=64 -D_LARGEFILE64_SOURCE -I"C:/Users/biocbuild/bbs-3.7-bioc/R/library/zlibbioc/include" -I"C:/Users/biocbuild/bbs-3.7-bioc/R/library/Rsamtools/include" -I"C:/Users/biocbuild/bbs-3.7-bioc/R/library/Rcpp/include" -I"C:/extsoft/include" -O2 -Wall -mtune=generic -c util.cpp -o util.o
C:/Rtools/mingw_32/bin/g++ -shared -s -static-libgcc -o DiffBind.dll tmp.def RcppExports.o bamReader.o bedReader.o bitBucket.o croi_func.o croi_main.o densitySet.o iBucket.o interval.o intervalDensity.o intervalNode.o intervalSet.o intervalTree.o merge.o mergeOne.o nodeGroup.o peakOrder.o reader.o sequence.o util.o C:/Users/biocbuild/bbs-3.7-bioc/R/library/Rsamtools/usrlib/i386/libbam.a C:/Users/biocbuild/bbs-3.7-bioc/R/library/Rsamtools/usrlib/i386/libbam.a C:/Users/biocbuild/bbs-3.7-bioc/R/library/Rsamtools/usrlib/i386/libbcf.a C:/Users/biocbuild/bbs-3.7-bioc/R/library/Rsamtools/usrlib/i386/libtabix.a -lws2_32 -pthread -LC:/Users/biocbuild/bbs-3.7-bioc/R/library/zlibbioc/libs/i386 -lzlib1bioc -LC:/extsoft/lib/i386 -LC:/extsoft/lib -LC:/Users/BIOCBU˜1/BBS-3˜1.7-B/R/bin/i386 -lR
installing to C:/Users/biocbuild/bbs-3.7-bioc/meat/DiffBind.buildbin-libdir/DiffBind/libs/i386
** R
** data
** inst
** byte-compile and prepare package for lazy loading
** help
*** installing help indices
converting help for package 'DiffBind'
finding HTML links ... done
DiffBind-globals html
finding level-2 HTML links ... done
DiffBind-package html
dba html
dba.analyze html
dba.contrast html
dba.count html
dba.load html
dba.mask html
dba.overlap html
dba.peakset html
dba.plotBox html
dba.plotHeatmap html
dba.plotMA html
dba.plotPCA html
dba.plotVenn html
dba.plotVolcano html
dba.report html
dba.save html
dba.show html
print.DBA html
tamoxifen html
** building package indices
** installing vignettes
** testing if installed package can be loaded
In R CMD INSTALL
install for x64
* installing *source* package 'DiffBind' ...
** libs
C:/Rtools/mingw_64/bin/g++ -I"C:/Users/biocbuild/bbs-3.7-bioc/R/library/zlibbioc/include" -I"C:/Users/BIOCBU˜1/BBS-3˜1.7-B/R/include" -DNDEBUG -D_USE_KNETFILE -DBGZF_CACHE -D_FILE_OFFSET_BITS=64 -D_LARGEFILE64_SOURCE -I"C:/Users/biocbuild/bbs-3.7-bioc/R/library/zlibbioc/include" -I"C:/Users/biocbuild/bbs-3.7-bioc/R/library/Rsamtools/include" -I"C:/Users/biocbuild/bbs-3.7-bioc/R/library/Rcpp/include" -I"C:/extsoft/include" -O2 -Wall -mtune=generic -c RcppExports.cpp -o RcppExports.o
C:/Rtools/mingw_64/bin/g++ -I"C:/Users/biocbuild/bbs-3.7-bioc/R/library/zlibbioc/include" -I"C:/Users/BIOCBU˜1/BBS-3˜1.7-B/R/include" -DNDEBUG -D_USE_KNETFILE -DBGZF_CACHE -D_FILE_OFFSET_BITS=64 -D_LARGEFILE64_SOURCE -I"C:/Users/biocbuild/bbs-3.7-bioc/R/library/zlibbioc/include" -I"C:/Users/biocbuild/bbs-3.7-bioc/R/library/Rsamtools/include" -I"C:/Users/biocbuild/bbs-3.7-bioc/R/library/Rcpp/include" -I"C:/extsoft/include" -O2 -Wall -mtune=generic -c bamReader.cpp -o bamReader.o
C:/Rtools/mingw_64/bin/g++ -I"C:/Users/biocbuild/bbs-3.7-bioc/R/library/zlibbioc/include" -I"C:/Users/BIOCBU˜1/BBS-3˜1.7-B/R/include" -DNDEBUG -D_USE_KNETFILE -DBGZF_CACHE -D_FILE_OFFSET_BITS=64 -D_LARGEFILE64_SOURCE -I"C:/Users/biocbuild/bbs-3.7-bioc/R/library/zlibbioc/include" -I"C:/Users/biocbuild/bbs-3.7-bioc/R/library/Rsamtools/include" -I"C:/Users/biocbuild/bbs-3.7-bioc/R/library/Rcpp/include" -I"C:/extsoft/include" -O2 -Wall -mtune=generic -c bedReader.cpp -o bedReader.o
C:/Rtools/mingw_64/bin/g++ -I"C:/Users/biocbuild/bbs-3.7-bioc/R/library/zlibbioc/include" -I"C:/Users/BIOCBU˜1/BBS-3˜1.7-B/R/include" -DNDEBUG -D_USE_KNETFILE -DBGZF_CACHE -D_FILE_OFFSET_BITS=64 -D_LARGEFILE64_SOURCE -I"C:/Users/biocbuild/bbs-3.7-bioc/R/library/zlibbioc/include" -I"C:/Users/biocbuild/bbs-3.7-bioc/R/library/Rsamtools/include" -I"C:/Users/biocbuild/bbs-3.7-bioc/R/library/Rcpp/include" -I"C:/extsoft/include" -O2 -Wall -mtune=generic -c bitBucket.cpp -o bitBucket.o
C:/Rtools/mingw_64/bin/g++ -I"C:/Users/biocbuild/bbs-3.7-bioc/R/library/zlibbioc/include" -I"C:/Users/BIOCBU˜1/BBS-3˜1.7-B/R/include" -DNDEBUG -D_USE_KNETFILE -DBGZF_CACHE -D_FILE_OFFSET_BITS=64 -D_LARGEFILE64_SOURCE -I"C:/Users/biocbuild/bbs-3.7-bioc/R/library/zlibbioc/include" -I"C:/Users/biocbuild/bbs-3.7-bioc/R/library/Rsamtools/include" -I"C:/Users/biocbuild/bbs-3.7-bioc/R/library/Rcpp/include" -I"C:/extsoft/include" -O2 -Wall -mtune=generic -c croi_func.cpp -o croi_func.o
C:/Rtools/mingw_64/bin/g++ -I"C:/Users/biocbuild/bbs-3.7-bioc/R/library/zlibbioc/include" -I"C:/Users/BIOCBU˜1/BBS-3˜1.7-B/R/include" -DNDEBUG -D_USE_KNETFILE -DBGZF_CACHE -D_FILE_OFFSET_BITS=64 -D_LARGEFILE64_SOURCE -I"C:/Users/biocbuild/bbs-3.7-bioc/R/library/zlibbioc/include" -I"C:/Users/biocbuild/bbs-3.7-bioc/R/library/Rsamtools/include" -I"C:/Users/biocbuild/bbs-3.7-bioc/R/library/Rcpp/include" -I"C:/extsoft/include" -O2 -Wall -mtune=generic -c croi_main.cpp -o croi_main.o
C:/Rtools/mingw_64/bin/g++ -I"C:/Users/biocbuild/bbs-3.7-bioc/R/library/zlibbioc/include" -I"C:/Users/BIOCBU˜1/BBS-3˜1.7-B/R/include" -DNDEBUG -D_USE_KNETFILE -DBGZF_CACHE -D_FILE_OFFSET_BITS=64 -D_LARGEFILE64_SOURCE -I"C:/Users/biocbuild/bbs-3.7-bioc/R/library/zlibbioc/include" -I"C:/Users/biocbuild/bbs-3.7-bioc/R/library/Rsamtools/include" -I"C:/Users/biocbuild/bbs-3.7-bioc/R/library/Rcpp/include" -I"C:/extsoft/include" -O2 -Wall -mtune=generic -c densitySet.cpp -o densitySet.o
C:/Rtools/mingw_64/bin/g++ -I"C:/Users/biocbuild/bbs-3.7-bioc/R/library/zlibbioc/include" -I"C:/Users/BIOCBU˜1/BBS-3˜1.7-B/R/include" -DNDEBUG -D_USE_KNETFILE -DBGZF_CACHE -D_FILE_OFFSET_BITS=64 -D_LARGEFILE64_SOURCE -I"C:/Users/biocbuild/bbs-3.7-bioc/R/library/zlibbioc/include" -I"C:/Users/biocbuild/bbs-3.7-bioc/R/library/Rsamtools/include" -I"C:/Users/biocbuild/bbs-3.7-bioc/R/library/Rcpp/include" -I"C:/extsoft/include" -O2 -Wall -mtune=generic -c iBucket.cpp -o iBucket.o
C:/Rtools/mingw_64/bin/g++ -I"C:/Users/biocbuild/bbs-3.7-bioc/R/library/zlibbioc/include" -I"C:/Users/BIOCBU˜1/BBS-3˜1.7-B/R/include" -DNDEBUG -D_USE_KNETFILE -DBGZF_CACHE -D_FILE_OFFSET_BITS=64 -D_LARGEFILE64_SOURCE -I"C:/Users/biocbuild/bbs-3.7-bioc/R/library/zlibbioc/include" -I"C:/Users/biocbuild/bbs-3.7-bioc/R/library/Rsamtools/include" -I"C:/Users/biocbuild/bbs-3.7-bioc/R/library/Rcpp/include" -I"C:/extsoft/include" -O2 -Wall -mtune=generic -c interval.cpp -o interval.o
C:/Rtools/mingw_64/bin/g++ -I"C:/Users/biocbuild/bbs-3.7-bioc/R/library/zlibbioc/include" -I"C:/Users/BIOCBU˜1/BBS-3˜1.7-B/R/include" -DNDEBUG -D_USE_KNETFILE -DBGZF_CACHE -D_FILE_OFFSET_BITS=64 -D_LARGEFILE64_SOURCE -I"C:/Users/biocbuild/bbs-3.7-bioc/R/library/zlibbioc/include" -I"C:/Users/biocbuild/bbs-3.7-bioc/R/library/Rsamtools/include" -I"C:/Users/biocbuild/bbs-3.7-bioc/R/library/Rcpp/include" -I"C:/extsoft/include" -O2 -Wall -mtune=generic -c intervalDensity.cpp -o intervalDensity.o
C:/Rtools/mingw_64/bin/g++ -I"C:/Users/biocbuild/bbs-3.7-bioc/R/library/zlibbioc/include" -I"C:/Users/BIOCBU˜1/BBS-3˜1.7-B/R/include" -DNDEBUG -D_USE_KNETFILE -DBGZF_CACHE -D_FILE_OFFSET_BITS=64 -D_LARGEFILE64_SOURCE -I"C:/Users/biocbuild/bbs-3.7-bioc/R/library/zlibbioc/include" -I"C:/Users/biocbuild/bbs-3.7-bioc/R/library/Rsamtools/include" -I"C:/Users/biocbuild/bbs-3.7-bioc/R/library/Rcpp/include" -I"C:/extsoft/include" -O2 -Wall -mtune=generic -c intervalNode.cpp -o intervalNode.o
C:/Rtools/mingw_64/bin/g++ -I"C:/Users/biocbuild/bbs-3.7-bioc/R/library/zlibbioc/include" -I"C:/Users/BIOCBU˜1/BBS-3˜1.7-B/R/include" -DNDEBUG -D_USE_KNETFILE -DBGZF_CACHE -D_FILE_OFFSET_BITS=64 -D_LARGEFILE64_SOURCE -I"C:/Users/biocbuild/bbs-3.7-bioc/R/library/zlibbioc/include" -I"C:/Users/biocbuild/bbs-3.7-bioc/R/library/Rsamtools/include" -I"C:/Users/biocbuild/bbs-3.7-bioc/R/library/Rcpp/include" -I"C:/extsoft/include" -O2 -Wall -mtune=generic -c intervalSet.cpp -o intervalSet.o
C:/Rtools/mingw_64/bin/g++ -I"C:/Users/biocbuild/bbs-3.7-bioc/R/library/zlibbioc/include" -I"C:/Users/BIOCBU˜1/BBS-3˜1.7-B/R/include" -DNDEBUG -D_USE_KNETFILE -DBGZF_CACHE -D_FILE_OFFSET_BITS=64 -D_LARGEFILE64_SOURCE -I"C:/Users/biocbuild/bbs-3.7-bioc/R/library/zlibbioc/include" -I"C:/Users/biocbuild/bbs-3.7-bioc/R/library/Rsamtools/include" -I"C:/Users/biocbuild/bbs-3.7-bioc/R/library/Rcpp/include" -I"C:/extsoft/include" -O2 -Wall -mtune=generic -c intervalTree.cpp -o intervalTree.o
C:/Rtools/mingw_64/bin/g++ -I"C:/Users/biocbuild/bbs-3.7-bioc/R/library/zlibbioc/include" -I"C:/Users/BIOCBU˜1/BBS-3˜1.7-B/R/include" -DNDEBUG -D_USE_KNETFILE -DBGZF_CACHE -D_FILE_OFFSET_BITS=64 -D_LARGEFILE64_SOURCE -I"C:/Users/biocbuild/bbs-3.7-bioc/R/library/zlibbioc/include" -I"C:/Users/biocbuild/bbs-3.7-bioc/R/library/Rsamtools/include" -I"C:/Users/biocbuild/bbs-3.7-bioc/R/library/Rcpp/include" -I"C:/extsoft/include" -O2 -Wall -mtune=generic -c merge.cpp -o merge.o
C:/Rtools/mingw_64/bin/gcc -I"C:/Users/biocbuild/bbs-3.7-bioc/R/library/zlibbioc/include" -I"C:/Users/BIOCBU˜1/BBS-3˜1.7-B/R/include" -DNDEBUG -D_USE_KNETFILE -DBGZF_CACHE -D_FILE_OFFSET_BITS=64 -D_LARGEFILE64_SOURCE -I"C:/Users/biocbuild/bbs-3.7-bioc/R/library/zlibbioc/include" -I"C:/Users/biocbuild/bbs-3.7-bioc/R/library/Rsamtools/include" -I"C:/Users/biocbuild/bbs-3.7-bioc/R/library/Rcpp/include" -I"C:/extsoft/include" -O2 -Wall -std=gnu99 -mtune=generic -c mergeOne.c -o mergeOne.o
C:/Rtools/mingw_64/bin/g++ -I"C:/Users/biocbuild/bbs-3.7-bioc/R/library/zlibbioc/include" -I"C:/Users/BIOCBU˜1/BBS-3˜1.7-B/R/include" -DNDEBUG -D_USE_KNETFILE -DBGZF_CACHE -D_FILE_OFFSET_BITS=64 -D_LARGEFILE64_SOURCE -I"C:/Users/biocbuild/bbs-3.7-bioc/R/library/zlibbioc/include" -I"C:/Users/biocbuild/bbs-3.7-bioc/R/library/Rsamtools/include" -I"C:/Users/biocbuild/bbs-3.7-bioc/R/library/Rcpp/include" -I"C:/extsoft/include" -O2 -Wall -mtune=generic -c nodeGroup.cpp -o nodeGroup.o
C:/Rtools/mingw_64/bin/g++ -I"C:/Users/biocbuild/bbs-3.7-bioc/R/library/zlibbioc/include" -I"C:/Users/BIOCBU˜1/BBS-3˜1.7-B/R/include" -DNDEBUG -D_USE_KNETFILE -DBGZF_CACHE -D_FILE_OFFSET_BITS=64 -D_LARGEFILE64_SOURCE -I"C:/Users/biocbuild/bbs-3.7-bioc/R/library/zlibbioc/include" -I"C:/Users/biocbuild/bbs-3.7-bioc/R/library/Rsamtools/include" -I"C:/Users/biocbuild/bbs-3.7-bioc/R/library/Rcpp/include" -I"C:/extsoft/include" -O2 -Wall -mtune=generic -c peakOrder.cpp -o peakOrder.o
C:/Rtools/mingw_64/bin/g++ -I"C:/Users/biocbuild/bbs-3.7-bioc/R/library/zlibbioc/include" -I"C:/Users/BIOCBU˜1/BBS-3˜1.7-B/R/include" -DNDEBUG -D_USE_KNETFILE -DBGZF_CACHE -D_FILE_OFFSET_BITS=64 -D_LARGEFILE64_SOURCE -I"C:/Users/biocbuild/bbs-3.7-bioc/R/library/zlibbioc/include" -I"C:/Users/biocbuild/bbs-3.7-bioc/R/library/Rsamtools/include" -I"C:/Users/biocbuild/bbs-3.7-bioc/R/library/Rcpp/include" -I"C:/extsoft/include" -O2 -Wall -mtune=generic -c reader.cpp -o reader.o
C:/Rtools/mingw_64/bin/g++ -I"C:/Users/biocbuild/bbs-3.7-bioc/R/library/zlibbioc/include" -I"C:/Users/BIOCBU˜1/BBS-3˜1.7-B/R/include" -DNDEBUG -D_USE_KNETFILE -DBGZF_CACHE -D_FILE_OFFSET_BITS=64 -D_LARGEFILE64_SOURCE -I"C:/Users/biocbuild/bbs-3.7-bioc/R/library/zlibbioc/include" -I"C:/Users/biocbuild/bbs-3.7-bioc/R/library/Rsamtools/include" -I"C:/Users/biocbuild/bbs-3.7-bioc/R/library/Rcpp/include" -I"C:/extsoft/include" -O2 -Wall -mtune=generic -c sequence.cpp -o sequence.o
C:/Rtools/mingw_64/bin/g++ -I"C:/Users/biocbuild/bbs-3.7-bioc/R/library/zlibbioc/include" -I"C:/Users/BIOCBU˜1/BBS-3˜1.7-B/R/include" -DNDEBUG -D_USE_KNETFILE -DBGZF_CACHE -D_FILE_OFFSET_BITS=64 -D_LARGEFILE64_SOURCE -I"C:/Users/biocbuild/bbs-3.7-bioc/R/library/zlibbioc/include" -I"C:/Users/biocbuild/bbs-3.7-bioc/R/library/Rsamtools/include" -I"C:/Users/biocbuild/bbs-3.7-bioc/R/library/Rcpp/include" -I"C:/extsoft/include" -O2 -Wall -mtune=generic -c util.cpp -o util.o
C:/Rtools/mingw_64/bin/g++ -shared -s -static-libgcc -o DiffBind.dll tmp.def RcppExports.o bamReader.o bedReader.o bitBucket.o croi_func.o croi_main.o densitySet.o iBucket.o interval.o intervalDensity.o intervalNode.o intervalSet.o intervalTree.o merge.o mergeOne.o nodeGroup.o peakOrder.o reader.o sequence.o util.o C:/Users/biocbuild/bbs-3.7-bioc/R/library/Rsamtools/usrlib/x64/libbam.a C:/Users/biocbuild/bbs-3.7-bioc/R/library/Rsamtools/usrlib/x64/libbam.a C:/Users/biocbuild/bbs-3.7-bioc/R/library/Rsamtools/usrlib/x64/libbcf.a C:/Users/biocbuild/bbs-3.7-bioc/R/library/Rsamtools/usrlib/x64/libtabix.a -lws2_32 -pthread -LC:/Users/biocbuild/bbs-3.7-bioc/R/library/zlibbioc/libs/x64 -lzlib1bioc -LC:/extsoft/lib/x64 -LC:/extsoft/lib -LC:/Users/BIOCBU˜1/BBS-3˜1.7-B/R/bin/x64 -lR
installing to C:/Users/biocbuild/bbs-3.7-bioc/meat/DiffBind.buildbin-libdir/DiffBind/libs/x64
** testing if installed package can be loaded
* MD5 sums
packaged installation of 'DiffBind' as DiffBind_2.8.0.zip
* DONE (DiffBind)
In R CMD INSTALL
In R CMD INSTALL