| Back to Multiple platform build/check report for BioC 3.7 | 
  | 
This page was generated on 2018-10-17 08:30:02 -0400 (Wed, 17 Oct 2018).
| Package 344/1561 | Hostname | OS / Arch | INSTALL | BUILD | CHECK | BUILD BIN | ||||||
| DaMiRseq 1.4.2 Mattia Chiesa 
  | malbec2 | Linux (Ubuntu 16.04.1 LTS) / x86_64 | OK | [ OK ] | OK | |||||||
| tokay2 | Windows Server 2012 R2 Standard / x64 | OK | OK | OK | OK | |||||||
| merida2 | OS X 10.11.6 El Capitan / x86_64 | OK | OK | OK | OK | 
| Package: DaMiRseq | 
| Version: 1.4.2 | 
| Command: /home/biocbuild/bbs-3.7-bioc/R/bin/R CMD build --keep-empty-dirs --no-resave-data DaMiRseq | 
| StartedAt: 2018-10-15 21:34:34 -0400 (Mon, 15 Oct 2018) | 
| EndedAt: 2018-10-15 21:41:15 -0400 (Mon, 15 Oct 2018) | 
| EllapsedTime: 400.5 seconds | 
| RetCode: 0 | 
| Status: OK | 
| PackageFile: DaMiRseq_1.4.2.tar.gz | 
| PackageFileSize: 3.263 MiB | 
############################################################################## ############################################################################## ### ### Running command: ### ### /home/biocbuild/bbs-3.7-bioc/R/bin/R CMD build --keep-empty-dirs --no-resave-data DaMiRseq ### ############################################################################## ############################################################################## * checking for file ‘DaMiRseq/DESCRIPTION’ ... OK * preparing ‘DaMiRseq’: * checking DESCRIPTION meta-information ... OK * installing the package to build vignettes * creating vignettes ... OK * checking for LF line-endings in source and make files and shell scripts * checking for empty or unneeded directories * looking to see if a ‘data/datalist’ file should be added * building ‘DaMiRseq_1.4.2.tar.gz’