| Back to Multiple platform build/check report for BioC 3.7 |
|
This page was generated on 2018-10-17 08:41:54 -0400 (Wed, 17 Oct 2018).
| Package 403/1561 | Hostname | OS / Arch | INSTALL | BUILD | CHECK | BUILD BIN | ||||||
| DNAshapeR 1.8.0 Tsu-Pei Chiu
| malbec2 | Linux (Ubuntu 16.04.1 LTS) / x86_64 | OK | OK | OK | |||||||
| tokay2 | Windows Server 2012 R2 Standard / x64 | OK | OK | OK | [ OK ] | |||||||
| merida2 | OS X 10.11.6 El Capitan / x86_64 | OK | OK | OK | OK |
| Package: DNAshapeR |
| Version: 1.8.0 |
| Command: rm -rf DNAshapeR.buildbin-libdir && mkdir DNAshapeR.buildbin-libdir && C:\Users\biocbuild\bbs-3.7-bioc\R\bin\R.exe CMD INSTALL --merge-multiarch --build --library=DNAshapeR.buildbin-libdir DNAshapeR_1.8.0.tar.gz |
| StartedAt: 2018-10-17 06:16:04 -0400 (Wed, 17 Oct 2018) |
| EndedAt: 2018-10-17 06:17:19 -0400 (Wed, 17 Oct 2018) |
| EllapsedTime: 74.7 seconds |
| RetCode: 0 |
| Status: OK |
| PackageFile: DNAshapeR_1.8.0.zip |
| PackageFileSize: 1.787 MiB |
##############################################################################
##############################################################################
###
### Running command:
###
### rm -rf DNAshapeR.buildbin-libdir && mkdir DNAshapeR.buildbin-libdir && C:\Users\biocbuild\bbs-3.7-bioc\R\bin\R.exe CMD INSTALL --merge-multiarch --build --library=DNAshapeR.buildbin-libdir DNAshapeR_1.8.0.tar.gz
###
##############################################################################
##############################################################################
install for i386
* installing *source* package 'DNAshapeR' ...
** libs
C:/Rtools/mingw_32/bin/g++ -I"C:/Users/BIOCBU˜1/BBS-3˜1.7-B/R/include" -DNDEBUG -I"C:/Users/biocbuild/bbs-3.7-bioc/R/library/Rcpp/include" -I"C:/extsoft/include" -O2 -Wall -mtune=generic -c OptionParser.cpp -o OptionParser.o
C:/Rtools/mingw_32/bin/g++ -I"C:/Users/BIOCBU˜1/BBS-3˜1.7-B/R/include" -DNDEBUG -I"C:/Users/biocbuild/bbs-3.7-bioc/R/library/Rcpp/include" -I"C:/extsoft/include" -O2 -Wall -mtune=generic -c Output.cpp -o Output.o
C:/Rtools/mingw_32/bin/g++ -I"C:/Users/BIOCBU˜1/BBS-3˜1.7-B/R/include" -DNDEBUG -I"C:/Users/biocbuild/bbs-3.7-bioc/R/library/Rcpp/include" -I"C:/extsoft/include" -O2 -Wall -mtune=generic -c RcppExports.cpp -o RcppExports.o
C:/Rtools/mingw_32/bin/g++ -I"C:/Users/BIOCBU˜1/BBS-3˜1.7-B/R/include" -DNDEBUG -I"C:/Users/biocbuild/bbs-3.7-bioc/R/library/Rcpp/include" -I"C:/extsoft/include" -O2 -Wall -mtune=generic -c ReadData.cpp -o ReadData.o
C:/Rtools/mingw_32/bin/g++ -I"C:/Users/BIOCBU˜1/BBS-3˜1.7-B/R/include" -DNDEBUG -I"C:/Users/biocbuild/bbs-3.7-bioc/R/library/Rcpp/include" -I"C:/extsoft/include" -O2 -Wall -mtune=generic -c SNP.cpp -o SNP.o
C:/Rtools/mingw_32/bin/g++ -I"C:/Users/BIOCBU˜1/BBS-3˜1.7-B/R/include" -DNDEBUG -I"C:/Users/biocbuild/bbs-3.7-bioc/R/library/Rcpp/include" -I"C:/extsoft/include" -O2 -Wall -mtune=generic -c ShapePrediction.cpp -o ShapePrediction.o
C:/Rtools/mingw_32/bin/g++ -I"C:/Users/BIOCBU˜1/BBS-3˜1.7-B/R/include" -DNDEBUG -I"C:/Users/biocbuild/bbs-3.7-bioc/R/library/Rcpp/include" -I"C:/extsoft/include" -O2 -Wall -mtune=generic -c TableCompiler.cpp -o TableCompiler.o
C:/Rtools/mingw_32/bin/g++ -I"C:/Users/BIOCBU˜1/BBS-3˜1.7-B/R/include" -DNDEBUG -I"C:/Users/biocbuild/bbs-3.7-bioc/R/library/Rcpp/include" -I"C:/extsoft/include" -O2 -Wall -mtune=generic -c map.cpp -o map.o
C:/Rtools/mingw_32/bin/g++ -I"C:/Users/BIOCBU˜1/BBS-3˜1.7-B/R/include" -DNDEBUG -I"C:/Users/biocbuild/bbs-3.7-bioc/R/library/Rcpp/include" -I"C:/extsoft/include" -O2 -Wall -mtune=generic -c prediction.cpp -o prediction.o
C:/Rtools/mingw_32/bin/g++ -I"C:/Users/BIOCBU˜1/BBS-3˜1.7-B/R/include" -DNDEBUG -I"C:/Users/biocbuild/bbs-3.7-bioc/R/library/Rcpp/include" -I"C:/extsoft/include" -O2 -Wall -mtune=generic -c properties.cpp -o properties.o
C:/Rtools/mingw_32/bin/g++ -I"C:/Users/BIOCBU˜1/BBS-3˜1.7-B/R/include" -DNDEBUG -I"C:/Users/biocbuild/bbs-3.7-bioc/R/library/Rcpp/include" -I"C:/extsoft/include" -O2 -Wall -mtune=generic -c utilities.cpp -o utilities.o
C:/Rtools/mingw_32/bin/g++ -shared -s -static-libgcc -o DNAshapeR.dll tmp.def OptionParser.o Output.o RcppExports.o ReadData.o SNP.o ShapePrediction.o TableCompiler.o map.o prediction.o properties.o utilities.o -LC:/extsoft/lib/i386 -LC:/extsoft/lib -LC:/Users/BIOCBU˜1/BBS-3˜1.7-B/R/bin/i386 -lR
installing to C:/Users/biocbuild/bbs-3.7-bioc/meat/DNAshapeR.buildbin-libdir/DNAshapeR/libs/i386
** R
** inst
** byte-compile and prepare package for lazy loading
** help
*** installing help indices
converting help for package 'DNAshapeR'
finding HTML links ... done
DNAshapeR-package html
convertMethFile html
encodeKMerSeq html
encodeKmerHbond html
encodeNstOrderShape html
encodeSeqShape html
getFasta html
getShape html
heatShape html
normalize html
normalizeShape html
plotShape html
readNonStandardFastaFile html
readShape html
trackShape html
** building package indices
** installing vignettes
** testing if installed package can be loaded
In R CMD INSTALL
install for x64
* installing *source* package 'DNAshapeR' ...
** libs
C:/Rtools/mingw_64/bin/g++ -I"C:/Users/BIOCBU˜1/BBS-3˜1.7-B/R/include" -DNDEBUG -I"C:/Users/biocbuild/bbs-3.7-bioc/R/library/Rcpp/include" -I"C:/extsoft/include" -O2 -Wall -mtune=generic -c OptionParser.cpp -o OptionParser.o
C:/Rtools/mingw_64/bin/g++ -I"C:/Users/BIOCBU˜1/BBS-3˜1.7-B/R/include" -DNDEBUG -I"C:/Users/biocbuild/bbs-3.7-bioc/R/library/Rcpp/include" -I"C:/extsoft/include" -O2 -Wall -mtune=generic -c Output.cpp -o Output.o
C:/Rtools/mingw_64/bin/g++ -I"C:/Users/BIOCBU˜1/BBS-3˜1.7-B/R/include" -DNDEBUG -I"C:/Users/biocbuild/bbs-3.7-bioc/R/library/Rcpp/include" -I"C:/extsoft/include" -O2 -Wall -mtune=generic -c RcppExports.cpp -o RcppExports.o
C:/Rtools/mingw_64/bin/g++ -I"C:/Users/BIOCBU˜1/BBS-3˜1.7-B/R/include" -DNDEBUG -I"C:/Users/biocbuild/bbs-3.7-bioc/R/library/Rcpp/include" -I"C:/extsoft/include" -O2 -Wall -mtune=generic -c ReadData.cpp -o ReadData.o
C:/Rtools/mingw_64/bin/g++ -I"C:/Users/BIOCBU˜1/BBS-3˜1.7-B/R/include" -DNDEBUG -I"C:/Users/biocbuild/bbs-3.7-bioc/R/library/Rcpp/include" -I"C:/extsoft/include" -O2 -Wall -mtune=generic -c SNP.cpp -o SNP.o
C:/Rtools/mingw_64/bin/g++ -I"C:/Users/BIOCBU˜1/BBS-3˜1.7-B/R/include" -DNDEBUG -I"C:/Users/biocbuild/bbs-3.7-bioc/R/library/Rcpp/include" -I"C:/extsoft/include" -O2 -Wall -mtune=generic -c ShapePrediction.cpp -o ShapePrediction.o
C:/Rtools/mingw_64/bin/g++ -I"C:/Users/BIOCBU˜1/BBS-3˜1.7-B/R/include" -DNDEBUG -I"C:/Users/biocbuild/bbs-3.7-bioc/R/library/Rcpp/include" -I"C:/extsoft/include" -O2 -Wall -mtune=generic -c TableCompiler.cpp -o TableCompiler.o
C:/Rtools/mingw_64/bin/g++ -I"C:/Users/BIOCBU˜1/BBS-3˜1.7-B/R/include" -DNDEBUG -I"C:/Users/biocbuild/bbs-3.7-bioc/R/library/Rcpp/include" -I"C:/extsoft/include" -O2 -Wall -mtune=generic -c map.cpp -o map.o
C:/Rtools/mingw_64/bin/g++ -I"C:/Users/BIOCBU˜1/BBS-3˜1.7-B/R/include" -DNDEBUG -I"C:/Users/biocbuild/bbs-3.7-bioc/R/library/Rcpp/include" -I"C:/extsoft/include" -O2 -Wall -mtune=generic -c prediction.cpp -o prediction.o
C:/Rtools/mingw_64/bin/g++ -I"C:/Users/BIOCBU˜1/BBS-3˜1.7-B/R/include" -DNDEBUG -I"C:/Users/biocbuild/bbs-3.7-bioc/R/library/Rcpp/include" -I"C:/extsoft/include" -O2 -Wall -mtune=generic -c properties.cpp -o properties.o
C:/Rtools/mingw_64/bin/g++ -I"C:/Users/BIOCBU˜1/BBS-3˜1.7-B/R/include" -DNDEBUG -I"C:/Users/biocbuild/bbs-3.7-bioc/R/library/Rcpp/include" -I"C:/extsoft/include" -O2 -Wall -mtune=generic -c utilities.cpp -o utilities.o
C:/Rtools/mingw_64/bin/g++ -shared -s -static-libgcc -o DNAshapeR.dll tmp.def OptionParser.o Output.o RcppExports.o ReadData.o SNP.o ShapePrediction.o TableCompiler.o map.o prediction.o properties.o utilities.o -LC:/extsoft/lib/x64 -LC:/extsoft/lib -LC:/Users/BIOCBU˜1/BBS-3˜1.7-B/R/bin/x64 -lR
installing to C:/Users/biocbuild/bbs-3.7-bioc/meat/DNAshapeR.buildbin-libdir/DNAshapeR/libs/x64
** testing if installed package can be loaded
* MD5 sums
packaged installation of 'DNAshapeR' as DNAshapeR_1.8.0.zip
* DONE (DNAshapeR)
In R CMD INSTALL
In R CMD INSTALL