| Back to Multiple platform build/check report for BioC 3.7 |
|
This page was generated on 2018-10-17 08:57:39 -0400 (Wed, 17 Oct 2018).
| Package 399/1561 | Hostname | OS / Arch | INSTALL | BUILD | CHECK | BUILD BIN | ||||||
| DMRScan 1.6.0 Christian M Page
| malbec2 | Linux (Ubuntu 16.04.1 LTS) / x86_64 | OK | OK | OK | |||||||
| tokay2 | Windows Server 2012 R2 Standard / x64 | OK | OK | WARNINGS | OK | |||||||
| merida2 | OS X 10.11.6 El Capitan / x86_64 | OK | [ OK ] | OK | OK |
| Package: DMRScan |
| Version: 1.6.0 |
| Command: /Library/Frameworks/R.framework/Versions/Current/Resources/bin/R CMD build --keep-empty-dirs --no-resave-data DMRScan |
| StartedAt: 2018-10-16 18:41:07 -0400 (Tue, 16 Oct 2018) |
| EndedAt: 2018-10-16 18:44:31 -0400 (Tue, 16 Oct 2018) |
| EllapsedTime: 204.8 seconds |
| RetCode: 0 |
| Status: OK |
| PackageFile: DMRScan_1.6.0.tar.gz |
| PackageFileSize: 4.014 MiB |
############################################################################## ############################################################################## ### ### Running command: ### ### /Library/Frameworks/R.framework/Versions/Current/Resources/bin/R CMD build --keep-empty-dirs --no-resave-data DMRScan ### ############################################################################## ############################################################################## * checking for file ‘DMRScan/DESCRIPTION’ ... OK * preparing ‘DMRScan’: * checking DESCRIPTION meta-information ... OK * installing the package to build vignettes * creating vignettes ... OK * checking for LF line-endings in source and make files and shell scripts * checking for empty or unneeded directories * looking to see if a ‘data/datalist’ file should be added * building ‘DMRScan_1.6.0.tar.gz’ Warning in utils::tar(filepath, pkgname, compression = "gzip", compression_level = 9L, : storing paths of more than 100 bytes is not portable: ‘DMRScan/vignettes/DMRScan_vignette_cache/latex/unnamed-chunk-1_6b842038d587b8e40fd2fe0d84fd363e.RData’