| Back to Multiple platform build/check report for BioC 3.7 |
|
This page was generated on 2018-10-17 08:58:37 -0400 (Wed, 17 Oct 2018).
| Package 369/1561 | Hostname | OS / Arch | INSTALL | BUILD | CHECK | BUILD BIN | ||||||
| DEP 1.2.0 Arne Smits
| malbec2 | Linux (Ubuntu 16.04.1 LTS) / x86_64 | OK | OK | OK | |||||||
| tokay2 | Windows Server 2012 R2 Standard / x64 | OK | OK | OK | OK | |||||||
| merida2 | OS X 10.11.6 El Capitan / x86_64 | OK | OK | OK | [ OK ] |
| Package: DEP |
| Version: 1.2.0 |
| Command: rm -rf DEP.buildbin-libdir && mkdir DEP.buildbin-libdir && /Users/biocbuild/BBS/utils/build-universal.sh DEP_1.2.0.tar.gz /Library/Frameworks/R.framework/Versions/Current/Resources/bin/R DEP.buildbin-libdir |
| StartedAt: 2018-10-17 01:12:22 -0400 (Wed, 17 Oct 2018) |
| EndedAt: 2018-10-17 01:13:29 -0400 (Wed, 17 Oct 2018) |
| EllapsedTime: 66.6 seconds |
| RetCode: 0 |
| Status: OK |
| PackageFile: DEP_1.2.0.tgz |
| PackageFileSize: 4.822 MiB |
############################################################################## ############################################################################## ### ### Running command: ### ### rm -rf DEP.buildbin-libdir && mkdir DEP.buildbin-libdir && /Users/biocbuild/BBS/utils/build-universal.sh DEP_1.2.0.tar.gz /Library/Frameworks/R.framework/Versions/Current/Resources/bin/R DEP.buildbin-libdir ### ############################################################################## ############################################################################## >>>>>>> >>>>>>> INSTALLATION WITH 'R CMD INSTALL --preclean --no-multiarch --library=DEP.buildbin-libdir DEP_1.2.0.tar.gz' >>>>>>> * installing *source* package ‘DEP’ ... ** R ** data *** moving datasets to lazyload DB ** inst ** byte-compile and prepare package for lazy loading ** help *** installing help indices ** building package indices ** installing vignettes ** testing if installed package can be loaded * DONE (DEP)