| Back to Multiple platform build/check report for BioC 3.7 |
|
This page was generated on 2018-10-17 08:56:17 -0400 (Wed, 17 Oct 2018).
| Package 361/1561 | Hostname | OS / Arch | INSTALL | BUILD | CHECK | BUILD BIN | ||||||
| DEFormats 1.8.0 Andrzej OleÅ›
| malbec2 | Linux (Ubuntu 16.04.1 LTS) / x86_64 | OK | OK | OK | |||||||
| tokay2 | Windows Server 2012 R2 Standard / x64 | OK | OK | OK | OK | |||||||
| merida2 | OS X 10.11.6 El Capitan / x86_64 | OK | OK | OK | [ OK ] |
| Package: DEFormats |
| Version: 1.8.0 |
| Command: rm -rf DEFormats.buildbin-libdir && mkdir DEFormats.buildbin-libdir && /Users/biocbuild/BBS/utils/build-universal.sh DEFormats_1.8.0.tar.gz /Library/Frameworks/R.framework/Versions/Current/Resources/bin/R DEFormats.buildbin-libdir |
| StartedAt: 2018-10-17 01:12:01 -0400 (Wed, 17 Oct 2018) |
| EndedAt: 2018-10-17 01:13:05 -0400 (Wed, 17 Oct 2018) |
| EllapsedTime: 63.9 seconds |
| RetCode: 0 |
| Status: OK |
| PackageFile: DEFormats_1.8.0.tgz |
| PackageFileSize: 528.8 KiB |
##############################################################################
##############################################################################
###
### Running command:
###
### rm -rf DEFormats.buildbin-libdir && mkdir DEFormats.buildbin-libdir && /Users/biocbuild/BBS/utils/build-universal.sh DEFormats_1.8.0.tar.gz /Library/Frameworks/R.framework/Versions/Current/Resources/bin/R DEFormats.buildbin-libdir
###
##############################################################################
##############################################################################
>>>>>>>
>>>>>>> INSTALLATION WITH 'R CMD INSTALL --preclean --no-multiarch --library=DEFormats.buildbin-libdir DEFormats_1.8.0.tar.gz'
>>>>>>>
* installing *source* package ‘DEFormats’ ...
** R
** inst
** byte-compile and prepare package for lazy loading
Creating a generic function for ‘DGEList’ from ‘edgeR’ in package ‘DEFormats’
(from the saved implicit definition)
** help
*** installing help indices
** building package indices
** installing vignettes
** testing if installed package can be loaded
* DONE (DEFormats)