| Back to Multiple platform build/check report for BioC 3.7 |
|
This page was generated on 2018-10-17 08:36:24 -0400 (Wed, 17 Oct 2018).
| Package 348/1561 | Hostname | OS / Arch | INSTALL | BUILD | CHECK | BUILD BIN | ||||||
| DBChIP 1.24.0 Kun Liang
| malbec2 | Linux (Ubuntu 16.04.1 LTS) / x86_64 | OK | OK | OK | |||||||
| tokay2 | Windows Server 2012 R2 Standard / x64 | OK | OK | OK | [ OK ] | |||||||
| merida2 | OS X 10.11.6 El Capitan / x86_64 | OK | OK | OK | OK |
| Package: DBChIP |
| Version: 1.24.0 |
| Command: rm -rf DBChIP.buildbin-libdir && mkdir DBChIP.buildbin-libdir && C:\Users\biocbuild\bbs-3.7-bioc\R\bin\R.exe CMD INSTALL --merge-multiarch --build --library=DBChIP.buildbin-libdir DBChIP_1.24.0.tar.gz |
| StartedAt: 2018-10-17 06:13:48 -0400 (Wed, 17 Oct 2018) |
| EndedAt: 2018-10-17 06:14:05 -0400 (Wed, 17 Oct 2018) |
| EllapsedTime: 17.0 seconds |
| RetCode: 0 |
| Status: OK |
| PackageFile: DBChIP_1.24.0.zip |
| PackageFileSize: 2.027 MiB |
##############################################################################
##############################################################################
###
### Running command:
###
### rm -rf DBChIP.buildbin-libdir && mkdir DBChIP.buildbin-libdir && C:\Users\biocbuild\bbs-3.7-bioc\R\bin\R.exe CMD INSTALL --merge-multiarch --build --library=DBChIP.buildbin-libdir DBChIP_1.24.0.tar.gz
###
##############################################################################
##############################################################################
install for i386
* installing *source* package 'DBChIP' ...
** R
** data
** inst
** byte-compile and prepare package for lazy loading
** help
*** installing help indices
converting help for package 'DBChIP'
finding HTML links ... done
DBChIP-package html
DBChIP html
PHA4 html
binding.site.list html
chip.data.list html
conds html
get.site.count html
input.data.list html
load.data html
plotPeak html
read.binding.site.list html
report.peak html
site.merge html
test.diff.binding html
** building package indices
** installing vignettes
** testing if installed package can be loaded
In R CMD INSTALL
install for x64
* installing *source* package 'DBChIP' ...
** testing if installed package can be loaded
* MD5 sums
packaged installation of 'DBChIP' as DBChIP_1.24.0.zip
* DONE (DBChIP)
In R CMD INSTALL
In R CMD INSTALL