| Back to Multiple platform build/check report for BioC 3.7 |
|
This page was generated on 2018-10-17 08:55:24 -0400 (Wed, 17 Oct 2018).
| Package 345/1561 | Hostname | OS / Arch | INSTALL | BUILD | CHECK | BUILD BIN | ||||||
| DAPAR 1.12.11 Samuel Wieczorek
| malbec2 | Linux (Ubuntu 16.04.1 LTS) / x86_64 | OK | OK | OK | |||||||
| tokay2 | Windows Server 2012 R2 Standard / x64 | OK | OK | OK | OK | |||||||
| merida2 | OS X 10.11.6 El Capitan / x86_64 | OK | OK | OK | [ OK ] |
| Package: DAPAR |
| Version: 1.12.11 |
| Command: rm -rf DAPAR.buildbin-libdir && mkdir DAPAR.buildbin-libdir && /Users/biocbuild/BBS/utils/build-universal.sh DAPAR_1.12.11.tar.gz /Library/Frameworks/R.framework/Versions/Current/Resources/bin/R DAPAR.buildbin-libdir |
| StartedAt: 2018-10-17 01:11:10 -0400 (Wed, 17 Oct 2018) |
| EndedAt: 2018-10-17 01:12:01 -0400 (Wed, 17 Oct 2018) |
| EllapsedTime: 51.5 seconds |
| RetCode: 0 |
| Status: OK |
| PackageFile: DAPAR_1.12.11.tgz |
| PackageFileSize: 2.101 MiB |
############################################################################## ############################################################################## ### ### Running command: ### ### rm -rf DAPAR.buildbin-libdir && mkdir DAPAR.buildbin-libdir && /Users/biocbuild/BBS/utils/build-universal.sh DAPAR_1.12.11.tar.gz /Library/Frameworks/R.framework/Versions/Current/Resources/bin/R DAPAR.buildbin-libdir ### ############################################################################## ############################################################################## >>>>>>> >>>>>>> INSTALLATION WITH 'R CMD INSTALL --preclean --no-multiarch --library=DAPAR.buildbin-libdir DAPAR_1.12.11.tar.gz' >>>>>>> * installing *source* package ‘DAPAR’ ... ** R ** inst ** byte-compile and prepare package for lazy loading ** help *** installing help indices ** building package indices ** installing vignettes ** testing if installed package can be loaded * DONE (DAPAR)