| Back to Multiple platform build/check report for BioC 3.7 |
|
This page was generated on 2018-10-17 08:45:41 -0400 (Wed, 17 Oct 2018).
| Package 337/1561 | Hostname | OS / Arch | INSTALL | BUILD | CHECK | BUILD BIN | ||||||
| CytoDx 1.0.1 Zicheng Hu
| malbec2 | Linux (Ubuntu 16.04.1 LTS) / x86_64 | OK | OK | OK | |||||||
| tokay2 | Windows Server 2012 R2 Standard / x64 | OK | OK | OK | [ OK ] | |||||||
| merida2 | OS X 10.11.6 El Capitan / x86_64 | OK | OK | OK | OK |
| Package: CytoDx |
| Version: 1.0.1 |
| Command: rm -rf CytoDx.buildbin-libdir && mkdir CytoDx.buildbin-libdir && C:\Users\biocbuild\bbs-3.7-bioc\R\bin\R.exe CMD INSTALL --merge-multiarch --build --library=CytoDx.buildbin-libdir CytoDx_1.0.1.tar.gz |
| StartedAt: 2018-10-17 06:13:29 -0400 (Wed, 17 Oct 2018) |
| EndedAt: 2018-10-17 06:13:44 -0400 (Wed, 17 Oct 2018) |
| EllapsedTime: 14.8 seconds |
| RetCode: 0 |
| Status: OK |
| PackageFile: CytoDx_1.0.1.zip |
| PackageFileSize: 560.4 KiB |
##############################################################################
##############################################################################
###
### Running command:
###
### rm -rf CytoDx.buildbin-libdir && mkdir CytoDx.buildbin-libdir && C:\Users\biocbuild\bbs-3.7-bioc\R\bin\R.exe CMD INSTALL --merge-multiarch --build --library=CytoDx.buildbin-libdir CytoDx_1.0.1.tar.gz
###
##############################################################################
##############################################################################
install for i386
* installing *source* package 'CytoDx' ...
** R
** inst
** byte-compile and prepare package for lazy loading
** help
*** installing help indices
converting help for package 'CytoDx'
finding HTML links ... done
CytoDx.fit html
CytoDx.pred html
fcs2DF html
meanUnique html
pRank html
rank.ub.average html
set2DF html
treeGate html
** building package indices
** installing vignettes
** testing if installed package can be loaded
In R CMD INSTALL
install for x64
* installing *source* package 'CytoDx' ...
** testing if installed package can be loaded
* MD5 sums
packaged installation of 'CytoDx' as CytoDx_1.0.1.zip
* DONE (CytoDx)
In R CMD INSTALL
In R CMD INSTALL