| Back to Multiple platform build/check report for BioC 3.7 |
|
This page was generated on 2018-10-17 08:26:04 -0400 (Wed, 17 Oct 2018).
| Package 316/1561 | Hostname | OS / Arch | INSTALL | BUILD | CHECK | BUILD BIN | ||||||
| CoverageView 1.18.0 Ernesto Lowy
| malbec2 | Linux (Ubuntu 16.04.1 LTS) / x86_64 | OK | OK | [ OK ] | |||||||
| tokay2 | Windows Server 2012 R2 Standard / x64 | ...NOT SUPPORTED... | ||||||||||
| merida2 | OS X 10.11.6 El Capitan / x86_64 | OK | OK | OK | OK | |||||||
| Package: CoverageView |
| Version: 1.18.0 |
| Command: /home/biocbuild/bbs-3.7-bioc/R/bin/R CMD check --install=check:CoverageView.install-out.txt --library=/home/biocbuild/bbs-3.7-bioc/R/library --no-vignettes --timings CoverageView_1.18.0.tar.gz |
| StartedAt: 2018-10-15 23:32:05 -0400 (Mon, 15 Oct 2018) |
| EndedAt: 2018-10-15 23:34:35 -0400 (Mon, 15 Oct 2018) |
| EllapsedTime: 150.5 seconds |
| RetCode: 0 |
| Status: OK |
| CheckDir: CoverageView.Rcheck |
| Warnings: 0 |
##############################################################################
##############################################################################
###
### Running command:
###
### /home/biocbuild/bbs-3.7-bioc/R/bin/R CMD check --install=check:CoverageView.install-out.txt --library=/home/biocbuild/bbs-3.7-bioc/R/library --no-vignettes --timings CoverageView_1.18.0.tar.gz
###
##############################################################################
##############################################################################
* using log directory ‘/home/biocbuild/bbs-3.7-bioc/meat/CoverageView.Rcheck’
* using R version 3.5.1 Patched (2018-07-12 r74967)
* using platform: x86_64-pc-linux-gnu (64-bit)
* using session charset: UTF-8
* using option ‘--no-vignettes’
* checking for file ‘CoverageView/DESCRIPTION’ ... OK
* checking extension type ... Package
* this is package ‘CoverageView’ version ‘1.18.0’
* checking package namespace information ... OK
* checking package dependencies ... OK
* checking if this is a source package ... OK
* checking if there is a namespace ... OK
* checking for hidden files and directories ... NOTE
Found the following hidden files and directories:
.BBSoptions
These were most likely included in error. See section ‘Package
structure’ in the ‘Writing R Extensions’ manual.
* checking for portable file names ... OK
* checking for sufficient/correct file permissions ... OK
* checking whether package ‘CoverageView’ can be installed ... OK
* checking installed package size ... OK
* checking package directory ... OK
* checking ‘build’ directory ... OK
* checking DESCRIPTION meta-information ... NOTE
Malformed Description field: should contain one or more complete sentences.
* checking top-level files ... OK
* checking for left-over files ... OK
* checking index information ... OK
* checking package subdirectories ... OK
* checking R files for non-ASCII characters ... OK
* checking R files for syntax errors ... OK
* checking whether the package can be loaded ... OK
* checking whether the package can be loaded with stated dependencies ... OK
* checking whether the package can be unloaded cleanly ... OK
* checking whether the namespace can be loaded with stated dependencies ... OK
* checking whether the namespace can be unloaded cleanly ... OK
* checking dependencies in R code ... OK
* checking S3 generic/method consistency ... OK
* checking replacement functions ... OK
* checking foreign function calls ... OK
* checking R code for possible problems ... OK
* checking Rd files ... OK
* checking Rd metadata ... OK
* checking Rd cross-references ... OK
* checking for missing documentation entries ... OK
* checking for code/documentation mismatches ... OK
* checking Rd \usage sections ... OK
* checking Rd contents ... OK
* checking for unstated dependencies in examples ... OK
* checking contents of ‘data’ directory ... OK
* checking data for non-ASCII characters ... OK
* checking data for ASCII and uncompressed saves ... OK
* checking files in ‘vignettes’ ... OK
* checking examples ... OK
Examples with CPU or elapsed time > 5s
user system elapsed
cov.matrix 8.344 3.82 6.893
* checking for unstated dependencies in vignettes ... OK
* checking package vignettes in ‘inst/doc’ ... OK
* checking running R code from vignettes ... SKIPPED
* checking re-building of vignette outputs ... SKIPPED
* checking PDF version of manual ... OK
* DONE
Status: 2 NOTEs
See
‘/home/biocbuild/bbs-3.7-bioc/meat/CoverageView.Rcheck/00check.log’
for details.
CoverageView.Rcheck/00install.out
############################################################################## ############################################################################## ### ### Running command: ### ### /home/biocbuild/bbs-3.7-bioc/R/bin/R CMD INSTALL CoverageView ### ############################################################################## ############################################################################## * installing to library ‘/home/biocbuild/bbs-3.7-bioc/R/library’ * installing *source* package ‘CoverageView’ ... ** R ** data ** inst ** byte-compile and prepare package for lazy loading ** help *** installing help indices ** building package indices ** installing vignettes ** testing if installed package can be loaded * DONE (CoverageView)
CoverageView.Rcheck/CoverageView-Ex.timings
| name | user | system | elapsed | |
| CoverageBamFile-class | 0.052 | 0.000 | 0.049 | |
| CoverageBigWigFile-class | 0.012 | 0.000 | 0.012 | |
| cov.interval | 0.560 | 0.028 | 0.661 | |
| cov.matrix | 8.344 | 3.820 | 6.893 | |
| draw.heatmap | 2.396 | 0.176 | 2.449 | |
| draw.profile | 0.224 | 0.000 | 0.223 | |
| export.wig | 0.168 | 0.004 | 0.171 | |
| genome.covplot.cumdepth | 0.588 | 0.000 | 0.589 | |
| genome.covplot.depth | 0.300 | 0.000 | 0.298 | |
| write.profile | 0.252 | 0.124 | 0.404 | |