| Back to Multiple platform build/check report for BioC 3.7 |
|
This page was generated on 2018-10-17 08:49:22 -0400 (Wed, 17 Oct 2018).
| Package 308/1561 | Hostname | OS / Arch | INSTALL | BUILD | CHECK | BUILD BIN | ||||||
| Cormotif 1.26.0 Yingying Wei
| malbec2 | Linux (Ubuntu 16.04.1 LTS) / x86_64 | OK | OK | OK | |||||||
| tokay2 | Windows Server 2012 R2 Standard / x64 | OK | OK | OK | OK | |||||||
| merida2 | OS X 10.11.6 El Capitan / x86_64 | OK | OK | OK | [ OK ] |
| Package: Cormotif |
| Version: 1.26.0 |
| Command: rm -rf Cormotif.buildbin-libdir && mkdir Cormotif.buildbin-libdir && /Users/biocbuild/BBS/utils/build-universal.sh Cormotif_1.26.0.tar.gz /Library/Frameworks/R.framework/Versions/Current/Resources/bin/R Cormotif.buildbin-libdir |
| StartedAt: 2018-10-17 01:09:01 -0400 (Wed, 17 Oct 2018) |
| EndedAt: 2018-10-17 01:09:48 -0400 (Wed, 17 Oct 2018) |
| EllapsedTime: 47.1 seconds |
| RetCode: 0 |
| Status: OK |
| PackageFile: Cormotif_1.26.0.tgz |
| PackageFileSize: 356.1 KiB |
############################################################################## ############################################################################## ### ### Running command: ### ### rm -rf Cormotif.buildbin-libdir && mkdir Cormotif.buildbin-libdir && /Users/biocbuild/BBS/utils/build-universal.sh Cormotif_1.26.0.tar.gz /Library/Frameworks/R.framework/Versions/Current/Resources/bin/R Cormotif.buildbin-libdir ### ############################################################################## ############################################################################## >>>>>>> >>>>>>> INSTALLATION WITH 'R CMD INSTALL --preclean --no-multiarch --library=Cormotif.buildbin-libdir Cormotif_1.26.0.tar.gz' >>>>>>> * installing *source* package ‘Cormotif’ ... ** R ** data ** inst ** byte-compile and prepare package for lazy loading ** help *** installing help indices ** building package indices ** installing vignettes ** testing if installed package can be loaded * DONE (Cormotif)