| Back to Multiple platform build/check report for BioC 3.7 |
|
This page was generated on 2018-10-17 08:54:38 -0400 (Wed, 17 Oct 2018).
| Package 306/1561 | Hostname | OS / Arch | INSTALL | BUILD | CHECK | BUILD BIN | ||||||
| CopywriteR 2.12.0 Thomas Kuilman
| malbec2 | Linux (Ubuntu 16.04.1 LTS) / x86_64 | OK | OK | OK | |||||||
| tokay2 | Windows Server 2012 R2 Standard / x64 | OK | OK | OK | OK | |||||||
| merida2 | OS X 10.11.6 El Capitan / x86_64 | OK | OK | OK | [ OK ] |
| Package: CopywriteR |
| Version: 2.12.0 |
| Command: rm -rf CopywriteR.buildbin-libdir && mkdir CopywriteR.buildbin-libdir && /Users/biocbuild/BBS/utils/build-universal.sh CopywriteR_2.12.0.tar.gz /Library/Frameworks/R.framework/Versions/Current/Resources/bin/R CopywriteR.buildbin-libdir |
| StartedAt: 2018-10-17 01:08:55 -0400 (Wed, 17 Oct 2018) |
| EndedAt: 2018-10-17 01:09:42 -0400 (Wed, 17 Oct 2018) |
| EllapsedTime: 47.7 seconds |
| RetCode: 0 |
| Status: OK |
| PackageFile: CopywriteR_2.12.0.tgz |
| PackageFileSize: 302.3 KiB |
############################################################################## ############################################################################## ### ### Running command: ### ### rm -rf CopywriteR.buildbin-libdir && mkdir CopywriteR.buildbin-libdir && /Users/biocbuild/BBS/utils/build-universal.sh CopywriteR_2.12.0.tar.gz /Library/Frameworks/R.framework/Versions/Current/Resources/bin/R CopywriteR.buildbin-libdir ### ############################################################################## ############################################################################## >>>>>>> >>>>>>> INSTALLATION WITH 'R CMD INSTALL --preclean --no-multiarch --library=CopywriteR.buildbin-libdir CopywriteR_2.12.0.tar.gz' >>>>>>> * installing *source* package ‘CopywriteR’ ... ** R ** inst ** byte-compile and prepare package for lazy loading ** help *** installing help indices ** building package indices ** installing vignettes ** testing if installed package can be loaded * DONE (CopywriteR)