| Back to Multiple platform build/check report for BioC 3.7 |
|
This page was generated on 2018-10-17 08:56:29 -0400 (Wed, 17 Oct 2018).
| Package 265/1561 | Hostname | OS / Arch | INSTALL | BUILD | CHECK | BUILD BIN | ||||||
| ClusterSignificance 1.8.2 Jason T Serviss
| malbec2 | Linux (Ubuntu 16.04.1 LTS) / x86_64 | OK | OK | OK | |||||||
| tokay2 | Windows Server 2012 R2 Standard / x64 | OK | OK | OK | OK | |||||||
| merida2 | OS X 10.11.6 El Capitan / x86_64 | OK | OK | OK | [ OK ] |
| Package: ClusterSignificance |
| Version: 1.8.2 |
| Command: rm -rf ClusterSignificance.buildbin-libdir && mkdir ClusterSignificance.buildbin-libdir && /Users/biocbuild/BBS/utils/build-universal.sh ClusterSignificance_1.8.2.tar.gz /Library/Frameworks/R.framework/Versions/Current/Resources/bin/R ClusterSignificance.buildbin-libdir |
| StartedAt: 2018-10-17 01:06:51 -0400 (Wed, 17 Oct 2018) |
| EndedAt: 2018-10-17 01:07:42 -0400 (Wed, 17 Oct 2018) |
| EllapsedTime: 51.4 seconds |
| RetCode: 0 |
| Status: OK |
| PackageFile: ClusterSignificance_1.8.2.tgz |
| PackageFileSize: 2.324 MiB |
############################################################################## ############################################################################## ### ### Running command: ### ### rm -rf ClusterSignificance.buildbin-libdir && mkdir ClusterSignificance.buildbin-libdir && /Users/biocbuild/BBS/utils/build-universal.sh ClusterSignificance_1.8.2.tar.gz /Library/Frameworks/R.framework/Versions/Current/Resources/bin/R ClusterSignificance.buildbin-libdir ### ############################################################################## ############################################################################## >>>>>>> >>>>>>> INSTALLATION WITH 'R CMD INSTALL --preclean --no-multiarch --library=ClusterSignificance.buildbin-libdir ClusterSignificance_1.8.2.tar.gz' >>>>>>> * installing *source* package ‘ClusterSignificance’ ... ** R ** data *** moving datasets to lazyload DB ** inst ** byte-compile and prepare package for lazy loading ** help *** installing help indices *** copying figures ** building package indices ** installing vignettes ** testing if installed package can be loaded * DONE (ClusterSignificance)