| Back to Multiple platform build/check report for BioC 3.7 |
|
This page was generated on 2018-10-17 08:22:52 -0400 (Wed, 17 Oct 2018).
| Package 242/1561 | Hostname | OS / Arch | INSTALL | BUILD | CHECK | BUILD BIN | ||||||
| ChromHeatMap 1.34.0 Tim F. Rayner
| malbec2 | Linux (Ubuntu 16.04.1 LTS) / x86_64 | OK | OK | [ OK ] | |||||||
| tokay2 | Windows Server 2012 R2 Standard / x64 | OK | OK | OK | OK | |||||||
| merida2 | OS X 10.11.6 El Capitan / x86_64 | OK | OK | OK | OK |
| Package: ChromHeatMap |
| Version: 1.34.0 |
| Command: /home/biocbuild/bbs-3.7-bioc/R/bin/R CMD check --install=check:ChromHeatMap.install-out.txt --library=/home/biocbuild/bbs-3.7-bioc/R/library --no-vignettes --timings ChromHeatMap_1.34.0.tar.gz |
| StartedAt: 2018-10-15 23:14:13 -0400 (Mon, 15 Oct 2018) |
| EndedAt: 2018-10-15 23:16:46 -0400 (Mon, 15 Oct 2018) |
| EllapsedTime: 153.3 seconds |
| RetCode: 0 |
| Status: OK |
| CheckDir: ChromHeatMap.Rcheck |
| Warnings: 0 |
##############################################################################
##############################################################################
###
### Running command:
###
### /home/biocbuild/bbs-3.7-bioc/R/bin/R CMD check --install=check:ChromHeatMap.install-out.txt --library=/home/biocbuild/bbs-3.7-bioc/R/library --no-vignettes --timings ChromHeatMap_1.34.0.tar.gz
###
##############################################################################
##############################################################################
* using log directory ‘/home/biocbuild/bbs-3.7-bioc/meat/ChromHeatMap.Rcheck’
* using R version 3.5.1 Patched (2018-07-12 r74967)
* using platform: x86_64-pc-linux-gnu (64-bit)
* using session charset: UTF-8
* using option ‘--no-vignettes’
* checking for file ‘ChromHeatMap/DESCRIPTION’ ... OK
* this is package ‘ChromHeatMap’ version ‘1.34.0’
* checking package namespace information ... OK
* checking package dependencies ... OK
* checking if this is a source package ... OK
* checking if there is a namespace ... OK
* checking for hidden files and directories ... OK
* checking for portable file names ... OK
* checking for sufficient/correct file permissions ... OK
* checking whether package ‘ChromHeatMap’ can be installed ... OK
* checking installed package size ... OK
* checking package directory ... OK
* checking ‘build’ directory ... OK
* checking DESCRIPTION meta-information ... OK
* checking top-level files ... OK
* checking for left-over files ... OK
* checking index information ... OK
* checking package subdirectories ... OK
* checking R files for non-ASCII characters ... OK
* checking R files for syntax errors ... OK
* checking whether the package can be loaded ... OK
* checking whether the package can be loaded with stated dependencies ... OK
* checking whether the package can be unloaded cleanly ... OK
* checking whether the namespace can be loaded with stated dependencies ... OK
* checking whether the namespace can be unloaded cleanly ... OK
* checking dependencies in R code ... OK
* checking S3 generic/method consistency ... OK
* checking replacement functions ... OK
* checking foreign function calls ... OK
* checking R code for possible problems ... NOTE
createChrMatrix: no visible global function definition for ‘new’
makeRangedDataList : .makeGRanges: no visible global function
definition for ‘as’
plotChrMap: no visible global function definition for ‘new’
makeChrStrandData,matrix: no visible global function definition for
‘new’
Undefined global functions or variables:
as new
Consider adding
importFrom("methods", "as", "new")
to your NAMESPACE file (and ensure that your DESCRIPTION Imports field
contains 'methods').
* checking Rd files ... OK
* checking Rd metadata ... OK
* checking Rd cross-references ... OK
* checking for missing documentation entries ... OK
* checking for code/documentation mismatches ... OK
* checking Rd \usage sections ... OK
* checking Rd contents ... OK
* checking for unstated dependencies in examples ... OK
* checking contents of ‘data’ directory ... OK
* checking data for non-ASCII characters ... NOTE
Error in .requirePackage(package) :
unable to find required package 'ChromHeatMap'
Calls: <Anonymous> ... getClass -> getClassDef -> .classEnv -> .requirePackage
Execution halted
* checking data for ASCII and uncompressed saves ... OK
* checking files in ‘vignettes’ ... OK
* checking examples ... OK
* checking for unstated dependencies in vignettes ... OK
* checking package vignettes in ‘inst/doc’ ... OK
* checking running R code from vignettes ... SKIPPED
* checking re-building of vignette outputs ... SKIPPED
* checking PDF version of manual ... OK
* DONE
Status: 2 NOTEs
See
‘/home/biocbuild/bbs-3.7-bioc/meat/ChromHeatMap.Rcheck/00check.log’
for details.
ChromHeatMap.Rcheck/00install.out
############################################################################## ############################################################################## ### ### Running command: ### ### /home/biocbuild/bbs-3.7-bioc/R/bin/R CMD INSTALL ChromHeatMap ### ############################################################################## ############################################################################## * installing to library ‘/home/biocbuild/bbs-3.7-bioc/R/library’ * installing *source* package ‘ChromHeatMap’ ... ** R ** data ** byte-compile and prepare package for lazy loading ** help *** installing help indices ** building package indices ** installing vignettes ** testing if installed package can be loaded * DONE (ChromHeatMap)
ChromHeatMap.Rcheck/ChromHeatMap-Ex.timings
| name | user | system | elapsed | |
| ChrMapPlot-class | 0.372 | 0.040 | 0.414 | |
| ChrStrandData-class | 0.112 | 0.008 | 0.122 | |
| ChrStrandMatrix-class | 0.024 | 0.004 | 0.027 | |
| chrHeatMap | 0.040 | 0.000 | 0.039 | |
| createChrMatrix | 0.020 | 0.000 | 0.024 | |
| drawMapDendro | 0.036 | 0.000 | 0.038 | |
| grabChrMapProbes | 0.136 | 0.000 | 0.133 | |
| makeChrStrandData | 0.060 | 0.004 | 0.063 | |
| makeRangedDataList | 2.608 | 0.088 | 2.702 | |
| plotChrMap | 0.112 | 0.000 | 0.109 | |