| Back to Multiple platform build/check report for BioC 3.7 |
|
This page was generated on 2018-10-17 08:56:57 -0400 (Wed, 17 Oct 2018).
| Package 204/1561 | Hostname | OS / Arch | INSTALL | BUILD | CHECK | BUILD BIN | ||||||
| CellMapper 1.6.0 Brad Nelms
| malbec2 | Linux (Ubuntu 16.04.1 LTS) / x86_64 | OK | OK | WARNINGS | |||||||
| tokay2 | Windows Server 2012 R2 Standard / x64 | OK | OK | WARNINGS | OK | |||||||
| merida2 | OS X 10.11.6 El Capitan / x86_64 | OK | OK | WARNINGS | [ OK ] |
| Package: CellMapper |
| Version: 1.6.0 |
| Command: rm -rf CellMapper.buildbin-libdir && mkdir CellMapper.buildbin-libdir && /Users/biocbuild/BBS/utils/build-universal.sh CellMapper_1.6.0.tar.gz /Library/Frameworks/R.framework/Versions/Current/Resources/bin/R CellMapper.buildbin-libdir |
| StartedAt: 2018-10-17 01:02:53 -0400 (Wed, 17 Oct 2018) |
| EndedAt: 2018-10-17 01:03:50 -0400 (Wed, 17 Oct 2018) |
| EllapsedTime: 56.4 seconds |
| RetCode: 0 |
| Status: OK |
| PackageFile: CellMapper_1.6.0.tgz |
| PackageFileSize: 289.1 KiB |
############################################################################## ############################################################################## ### ### Running command: ### ### rm -rf CellMapper.buildbin-libdir && mkdir CellMapper.buildbin-libdir && /Users/biocbuild/BBS/utils/build-universal.sh CellMapper_1.6.0.tar.gz /Library/Frameworks/R.framework/Versions/Current/Resources/bin/R CellMapper.buildbin-libdir ### ############################################################################## ############################################################################## >>>>>>> >>>>>>> INSTALLATION WITH 'R CMD INSTALL --preclean --no-multiarch --library=CellMapper.buildbin-libdir CellMapper_1.6.0.tar.gz' >>>>>>> * installing *source* package ‘CellMapper’ ... ** R ** data ** inst ** byte-compile and prepare package for lazy loading Warning: replacing previous import ‘stats::sd’ by ‘S4Vectors::sd’ when loading ‘CellMapper’ Warning: replacing previous import ‘stats::var’ by ‘S4Vectors::var’ when loading ‘CellMapper’ ** help *** installing help indices ** building package indices ** installing vignettes ** testing if installed package can be loaded Warning: replacing previous import ‘stats::sd’ by ‘S4Vectors::sd’ when loading ‘CellMapper’ Warning: replacing previous import ‘stats::var’ by ‘S4Vectors::var’ when loading ‘CellMapper’ * DONE (CellMapper)